Back to Multiple platform build/check report for BioC 3.22:   simplified   long
AB[C]DEFGHIJKLMNOPQRSTUVWXYZ

This page was generated on 2025-11-17 11:58 -0500 (Mon, 17 Nov 2025).

HostnameOSArch (*)R versionInstalled pkgs
nebbiolo2Linux (Ubuntu 24.04.3 LTS)x86_644.5.1 Patched (2025-08-23 r88802) -- "Great Square Root" 4903
taishanLinux (openEuler 24.03 LTS)aarch644.5.0 (2025-04-11) -- "How About a Twenty-Six" 4668
Click on any hostname to see more info about the system (e.g. compilers)      (*) as reported by 'uname -p', except on Windows and Mac OS X

Package 499/2361HostnameOS / ArchINSTALLBUILDCHECKBUILD BIN
cyanoFilter 1.18.0  (landing page)
Oluwafemi Olusoji
Snapshot Date: 2025-11-16 13:45 -0500 (Sun, 16 Nov 2025)
git_url: https://git.bioconductor.org/packages/cyanoFilter
git_branch: RELEASE_3_22
git_last_commit: e3c99a3
git_last_commit_date: 2025-10-29 11:07:55 -0500 (Wed, 29 Oct 2025)
nebbiolo2Linux (Ubuntu 24.04.3 LTS) / x86_64  OK    OK    OK  UNNEEDED, same version is already published
taishanLinux (openEuler 24.03 LTS) / aarch64  OK    OK    OK  


CHECK results for cyanoFilter on nebbiolo2

To the developers/maintainers of the cyanoFilter package:
- Allow up to 24 hours (and sometimes 48 hours) for your latest push to git@git.bioconductor.org:packages/cyanoFilter.git to reflect on this report. See Troubleshooting Build Report for more information.
- Use the following Renviron settings to reproduce errors and warnings.
- If 'R CMD check' started to fail recently on the Linux builder(s) over a missing dependency, add the missing dependency to 'Suggests:' in your DESCRIPTION file. See Renviron.bioc for more information.

raw results


Summary

Package: cyanoFilter
Version: 1.18.0
Command: /home/biocbuild/bbs-3.22-bioc/R/bin/R CMD check --install=check:cyanoFilter.install-out.txt --library=/home/biocbuild/bbs-3.22-bioc/R/site-library --timings cyanoFilter_1.18.0.tar.gz
StartedAt: 2025-11-16 22:46:35 -0500 (Sun, 16 Nov 2025)
EndedAt: 2025-11-16 22:49:53 -0500 (Sun, 16 Nov 2025)
EllapsedTime: 198.2 seconds
RetCode: 0
Status:   OK  
CheckDir: cyanoFilter.Rcheck
Warnings: 0

Command output

##############################################################################
##############################################################################
###
### Running command:
###
###   /home/biocbuild/bbs-3.22-bioc/R/bin/R CMD check --install=check:cyanoFilter.install-out.txt --library=/home/biocbuild/bbs-3.22-bioc/R/site-library --timings cyanoFilter_1.18.0.tar.gz
###
##############################################################################
##############################################################################


* using log directory ‘/home/biocbuild/bbs-3.22-bioc/meat/cyanoFilter.Rcheck’
* using R version 4.5.1 Patched (2025-08-23 r88802)
* using platform: x86_64-pc-linux-gnu
* R was compiled by
    gcc (Ubuntu 13.3.0-6ubuntu2~24.04) 13.3.0
    GNU Fortran (Ubuntu 13.3.0-6ubuntu2~24.04) 13.3.0
* running under: Ubuntu 24.04.3 LTS
* using session charset: UTF-8
* checking for file ‘cyanoFilter/DESCRIPTION’ ... OK
* checking extension type ... Package
* this is package ‘cyanoFilter’ version ‘1.18.0’
* package encoding: UTF-8
* checking package namespace information ... OK
* checking package dependencies ... OK
* checking if this is a source package ... OK
* checking if there is a namespace ... OK
* checking for hidden files and directories ... OK
* checking for portable file names ... OK
* checking for sufficient/correct file permissions ... OK
* checking whether package ‘cyanoFilter’ can be installed ... OK
* checking installed package size ... OK
* checking package directory ... OK
* checking ‘build’ directory ... OK
* checking DESCRIPTION meta-information ... OK
* checking top-level files ... OK
* checking for left-over files ... OK
* checking index information ... OK
* checking package subdirectories ... OK
* checking code files for non-ASCII characters ... OK
* checking R files for syntax errors ... OK
* checking whether the package can be loaded ... OK
* checking whether the package can be loaded with stated dependencies ... OK
* checking whether the package can be unloaded cleanly ... OK
* checking whether the namespace can be loaded with stated dependencies ... OK
* checking whether the namespace can be unloaded cleanly ... OK
* checking loading without being on the library search path ... OK
* checking dependencies in R code ... OK
* checking S3 generic/method consistency ... OK
* checking replacement functions ... OK
* checking foreign function calls ... OK
* checking R code for possible problems ... OK
* checking Rd files ... OK
* checking Rd metadata ... OK
* checking Rd cross-references ... OK
* checking for missing documentation entries ... OK
* checking for code/documentation mismatches ... OK
* checking Rd \usage sections ... OK
* checking Rd contents ... OK
* checking for unstated dependencies in examples ... OK
* checking files in ‘vignettes’ ... OK
* checking examples ... OK
Examples with CPU (user + system) or elapsed time > 5s
             user system elapsed
gateFunc    8.361  0.373   6.984
ggpairsDens 5.369  0.180   5.551
* checking for unstated dependencies in vignettes ... OK
* checking package vignettes ... OK
* checking re-building of vignette outputs ... OK
* checking PDF version of manual ... OK
* DONE

Status: OK


Installation output

cyanoFilter.Rcheck/00install.out

##############################################################################
##############################################################################
###
### Running command:
###
###   /home/biocbuild/bbs-3.22-bioc/R/bin/R CMD INSTALL cyanoFilter
###
##############################################################################
##############################################################################


* installing to library ‘/home/biocbuild/bbs-3.22-bioc/R/site-library’
* installing *source* package ‘cyanoFilter’ ...
** this is package ‘cyanoFilter’ version ‘1.18.0’
** using staged installation
** R
** inst
** byte-compile and prepare package for lazy loading
** help
*** installing help indices
** building package indices
** installing vignettes
** testing if installed package can be loaded from temporary location
** testing if installed package can be loaded from final location
** testing if installed package keeps a record of temporary installation path
* DONE (cyanoFilter)

Tests output


Example timings

cyanoFilter.Rcheck/cyanoFilter-Ex.timings

nameusersystemelapsed
MarginEvents0.8710.0220.895
PhytoFilter0.9960.0431.040
PhytopFilter0.5590.0290.588
accTest0.3860.0100.396
accuracy0.3510.0010.351
cellmargin0.2800.0050.286
clusterExtract0.7850.0560.842
clusterExtractp1.0210.0171.038
debrisNc0.2850.0060.291
fullFlowframe-MarginEvents-method0.2600.0040.266
fullFlowframe-PhytopFilter-method0.5060.0230.530
fullFlowframe0.2550.0040.259
gateFunc8.3610.3736.984
ggpairsDens5.3690.1805.551
ggplotDens0.8230.0180.841
ggplotDens21.4000.0571.457
goodfcs0.0440.0030.047
is.DebrisFilter0.0000.0000.001
is.MarginEvents000
is.PhytopFilter000
is.flowFrame0.0000.0010.000
is.flowSet000
lnTrans0.1970.0040.201
newFlowframe0.2060.0090.215
nona0.0880.0010.089
noneg0.1740.0000.175
oneDgate0.1930.0090.203
pairsPlot1.7410.0281.770
pigmentGate0.2450.0040.249
reducedFlowframe-MarginEvents-method0.2730.0060.279
reducedFlowframe0.2680.0080.275
retain0.0180.0000.018
rowNumbers0.2040.0040.208
summaries-DebrisFilter-method0.2960.0030.299
summaries-MarginEvents-method0.2970.0060.303
summaries-PhytopFilter-method0.5910.0090.600
summaries0.3190.0050.324