Back to Multiple platform build/check report for BioC 3.22:   simplified   long
AB[C]DEFGHIJKLMNOPQRSTUVWXYZ

This page was generated on 2025-11-20 12:04 -0500 (Thu, 20 Nov 2025).

HostnameOSArch (*)R versionInstalled pkgs
nebbiolo2Linux (Ubuntu 24.04.3 LTS)x86_644.5.2 (2025-10-31) -- "[Not] Part in a Rumble" 4615
merida1macOS 12.7.6 Montereyx86_644.5.2 Patched (2025-11-05 r88990) -- "[Not] Part in a Rumble" 4610
kjohnson1macOS 13.7.5 Venturaarm644.5.2 Patched (2025-11-04 r88984) -- "[Not] Part in a Rumble" 4598
taishanLinux (openEuler 24.03 LTS)aarch644.5.0 (2025-04-11) -- "How About a Twenty-Six" 4668
Click on any hostname to see more info about the system (e.g. compilers)      (*) as reported by 'uname -p', except on Windows and Mac OS X

Package 431/2361HostnameOS / ArchINSTALLBUILDCHECKBUILD BIN
compEpiTools 1.44.0  (landing page)
Mattia Furlan
Snapshot Date: 2025-11-17 13:45 -0500 (Mon, 17 Nov 2025)
git_url: https://git.bioconductor.org/packages/compEpiTools
git_branch: RELEASE_3_22
git_last_commit: 75ae4a8
git_last_commit_date: 2025-10-29 10:20:59 -0500 (Wed, 29 Oct 2025)
nebbiolo2Linux (Ubuntu 24.04.3 LTS) / x86_64  OK    OK    OK  UNNEEDED, same version is already published
merida1macOS 12.7.6 Monterey / x86_64  OK    OK    OK    OK  UNNEEDED, same version is already published
kjohnson1macOS 13.7.5 Ventura / arm64  OK    OK    OK    OK  UNNEEDED, same version is already published
taishanLinux (openEuler 24.03 LTS) / aarch64  OK    OK    OK  


CHECK results for compEpiTools on merida1

To the developers/maintainers of the compEpiTools package:
- Allow up to 24 hours (and sometimes 48 hours) for your latest push to git@git.bioconductor.org:packages/compEpiTools.git to reflect on this report. See Troubleshooting Build Report for more information.
- Use the following Renviron settings to reproduce errors and warnings.
- If 'R CMD check' started to fail recently on the Linux builder(s) over a missing dependency, add the missing dependency to 'Suggests:' in your DESCRIPTION file. See Renviron.bioc for more information.

raw results


Summary

Package: compEpiTools
Version: 1.44.0
Command: /Library/Frameworks/R.framework/Resources/bin/R CMD check --install=check:compEpiTools.install-out.txt --library=/Library/Frameworks/R.framework/Resources/library --no-vignettes --timings compEpiTools_1.44.0.tar.gz
StartedAt: 2025-11-18 05:37:17 -0500 (Tue, 18 Nov 2025)
EndedAt: 2025-11-18 05:51:59 -0500 (Tue, 18 Nov 2025)
EllapsedTime: 882.0 seconds
RetCode: 0
Status:   OK  
CheckDir: compEpiTools.Rcheck
Warnings: 0

Command output

##############################################################################
##############################################################################
###
### Running command:
###
###   /Library/Frameworks/R.framework/Resources/bin/R CMD check --install=check:compEpiTools.install-out.txt --library=/Library/Frameworks/R.framework/Resources/library --no-vignettes --timings compEpiTools_1.44.0.tar.gz
###
##############################################################################
##############################################################################


* using log directory ‘/Users/biocbuild/bbs-3.22-bioc/meat/compEpiTools.Rcheck’
* using R version 4.5.2 Patched (2025-11-05 r88990)
* using platform: x86_64-apple-darwin20
* R was compiled by
    Apple clang version 14.0.0 (clang-1400.0.29.202)
    GNU Fortran (GCC) 14.2.0
* running under: macOS Monterey 12.7.6
* using session charset: UTF-8
* using option ‘--no-vignettes’
* checking for file ‘compEpiTools/DESCRIPTION’ ... OK
* checking extension type ... Package
* this is package ‘compEpiTools’ version ‘1.44.0’
* checking package namespace information ... OK
* checking package dependencies ... OK
* checking if this is a source package ... OK
* checking if there is a namespace ... OK
* checking for hidden files and directories ... OK
* checking for portable file names ... OK
* checking for sufficient/correct file permissions ... OK
* checking whether package ‘compEpiTools’ can be installed ... OK
* checking installed package size ... OK
* checking package directory ... OK
* checking ‘build’ directory ... OK
* checking DESCRIPTION meta-information ... OK
* checking top-level files ... OK
* checking for left-over files ... OK
* checking index information ... OK
* checking package subdirectories ... OK
* checking code files for non-ASCII characters ... OK
* checking R files for syntax errors ... OK
* checking whether the package can be loaded ... OK
* checking whether the package can be loaded with stated dependencies ... OK
* checking whether the package can be unloaded cleanly ... OK
* checking whether the namespace can be loaded with stated dependencies ... OK
* checking whether the namespace can be unloaded cleanly ... OK
* checking dependencies in R code ... OK
* checking S3 generic/method consistency ... OK
* checking replacement functions ... OK
* checking foreign function calls ... OK
* checking R code for possible problems ... NOTE
TSS: no visible global function definition for 'end<-'
TSS: no visible global function definition for 'start<-'
findLncRNA: no visible global function definition for 'start<-'
findLncRNA: no visible global function definition for 'end<-'
findLncRNA: no visible global function definition for 'IRanges'
stallingIndex : getBound: no visible global function definition for
  'start<-'
stallingIndex : getBound: no visible global function definition for
  'end<-'
stallingIndex: no visible global function definition for 'IRanges'
topGOres : <anonymous>: no visible global function definition for
  'ggplot'
topGOres : <anonymous>: no visible global function definition for 'aes'
topGOres : <anonymous>: no visible binding for global variable
  'Significant'
topGOres : <anonymous>: no visible binding for global variable 'P_val'
topGOres : <anonymous>: no visible global function definition for
  'geom_bar'
topGOres : <anonymous>: no visible global function definition for
  'coord_flip'
topGOres : <anonymous>: no visible global function definition for
  'ylab'
ucsc2GRanges: no visible global function definition for 'IRanges'
GR2fasta,GRanges: no visible global function definition for
  'seqlengths'
GR2fasta,GRanges: no visible global function definition for
  'seqlengths<-'
GR2fasta,GRanges: no visible global function definition for 'trim'
GRangesInPromoters,GRanges: no visible global function definition for
  'start<-'
GRannotate,GRanges: no visible global function definition for 'start<-'
GRannotate,GRanges: no visible global function definition for 'end<-'
GRcoverageSummit,GRanges: no visible global function definition for
  'start<-'
GRcoverageSummit,GRanges: no visible global function definition for
  'end<-'
GRmidpoint,GRanges: no visible global function definition for 'start<-'
GRmidpoint,GRanges: no visible global function definition for 'end<-'
GRsetwidth,GRanges: no visible global function definition for 'start<-'
GRsetwidth,GRanges: no visible global function definition for 'end<-'
countOverlapsInBins,GRanges: no visible global function definition for
  'IRanges'
featuresLength,TxDb: no visible global function definition for 'reduce'
getPromoterClass,TxDb: no visible binding for global variable 'txdb'
getPromoterClass,TxDb: no visible global function definition for
  'start<-'
makeGtfFromDb,TxDb: no visible global function definition for 'reduce'
matchEnhancers,GRanges: no visible global function definition for
  'distanceToNearest'
matchEnhancers,GRanges: no visible global function definition for
  'IRanges'
Undefined global functions or variables:
  IRanges P_val Significant aes coord_flip distanceToNearest end<-
  geom_bar ggplot reduce seqlengths seqlengths<- start<- trim txdb ylab
* checking Rd files ... NOTE
checkRd: (-1) getPromoterClass-methods.Rd:21: Lost braces in \itemize; meant \describe ?
checkRd: (-1) getPromoterClass-methods.Rd:22: Lost braces in \itemize; meant \describe ?
checkRd: (-1) getPromoterClass-methods.Rd:23: Lost braces in \itemize; meant \describe ?
checkRd: (-1) getPromoterClass-methods.Rd:24: Lost braces in \itemize; meant \describe ?
checkRd: (-1) getPromoterClass-methods.Rd:25: Lost braces; missing escapes or markup?
    25 |       \item{downstream}:{numeric; number of bp downstream transcription start sites defining downstream limit of promoters}
       |                         ^
* checking Rd metadata ... OK
* checking Rd cross-references ... NOTE
Found the following Rd file(s) with Rd \link{} targets missing package
anchors:
  getPromoterClass-methods.Rd: GRanges
  heatmapPlot.Rd: heatmap.2
Please provide package anchors for all Rd \link{} targets not in the
package itself and the base packages.
* checking for missing documentation entries ... OK
* checking for code/documentation mismatches ... OK
* checking Rd \usage sections ... OK
* checking Rd contents ... OK
* checking for unstated dependencies in examples ... OK
* checking sizes of PDF files under ‘inst/doc’ ... OK
* checking files in ‘vignettes’ ... OK
* checking examples ... OK
Examples with CPU (user + system) or elapsed time > 5s
                             user system elapsed
topGOres                   51.159  2.081  54.038
GRannotate-methods          7.649  0.180   7.900
makeGtfFromDb               6.035  0.490   7.203
heatmapPlot                 5.767  0.292   6.229
GRangesInPromoters-methods  5.151  0.111   5.631
distanceFromTSS-methods     5.125  0.054   5.222
getPromoterClass-methods    1.464  0.081  39.290
* checking for unstated dependencies in vignettes ... OK
* checking package vignettes ... OK
* checking running R code from vignettes ... SKIPPED
* checking re-building of vignette outputs ... SKIPPED
* checking PDF version of manual ... OK
* DONE

Status: 3 NOTEs
See
  ‘/Users/biocbuild/bbs-3.22-bioc/meat/compEpiTools.Rcheck/00check.log’
for details.


Installation output

compEpiTools.Rcheck/00install.out

##############################################################################
##############################################################################
###
### Running command:
###
###   /Library/Frameworks/R.framework/Resources/bin/R CMD INSTALL compEpiTools
###
##############################################################################
##############################################################################


* installing to library ‘/Library/Frameworks/R.framework/Versions/4.5-x86_64/Resources/library’
* installing *source* package ‘compEpiTools’ ...
** this is package ‘compEpiTools’ version ‘1.44.0’
** using staged installation
** R
** inst
** byte-compile and prepare package for lazy loading

groupGOTerms: 	GOBPTerm, GOMFTerm, GOCCTerm environments built.
** help
*** installing help indices
** building package indices
** installing vignettes
** testing if installed package can be loaded from temporary location

groupGOTerms: 	GOBPTerm, GOMFTerm, GOCCTerm environments built.
** testing if installed package can be loaded from final location

groupGOTerms: 	GOBPTerm, GOMFTerm, GOCCTerm environments built.
** testing if installed package keeps a record of temporary installation path
* DONE (compEpiTools)

Tests output


Example timings

compEpiTools.Rcheck/compEpiTools-Ex.timings

nameusersystemelapsed
GR2fasta-methods0.8780.0260.912
GRanges2ucsc-methods0.0210.0010.021
GRangesInPromoters-methods5.1510.1115.631
GRannotate-methods7.6490.1807.900
GRannotateSimple1.1150.0141.136
GRbaseCoverage-methods0.2200.0050.230
GRcoverage-methods0.2350.0060.246
GRcoverageSummit-methods0.1390.0020.142
GRenrichment-methods0.1500.0040.158
GRmidpoint-methods0.0620.0010.063
GRsetwidth0.0910.0010.095
TSS2.5950.0352.645
countOverlapsInBins-methods0.2910.0020.297
distanceFromTSS-methods5.1250.0545.222
enhancers0.6460.0130.662
findLncRNA1.3850.1021.505
getPromoterClass-methods 1.464 0.08139.290
heatmapData2.2290.0262.268
heatmapPlot5.7670.2926.229
makeGtfFromDb6.0350.4907.203
matchEnhancers3.4180.0553.483
overlapOfGRanges-methods0.1290.0010.129
palette2d0.0990.0050.106
plotStallingIndex4.6120.0594.679
simplifyGOterms0.8560.2931.304
stallingIndex4.5050.0594.573
topGOres51.159 2.08154.038
ucsc2GRanges0.0260.0000.027
unionMaxScore-methods0.2660.0020.269