| Back to Multiple platform build/check report for BioC 3.22: simplified long |
|
This page was generated on 2025-11-20 12:04 -0500 (Thu, 20 Nov 2025).
| Hostname | OS | Arch (*) | R version | Installed pkgs |
|---|---|---|---|---|
| nebbiolo2 | Linux (Ubuntu 24.04.3 LTS) | x86_64 | 4.5.2 (2025-10-31) -- "[Not] Part in a Rumble" | 4615 |
| merida1 | macOS 12.7.6 Monterey | x86_64 | 4.5.2 Patched (2025-11-05 r88990) -- "[Not] Part in a Rumble" | 4610 |
| kjohnson1 | macOS 13.7.5 Ventura | arm64 | 4.5.2 Patched (2025-11-04 r88984) -- "[Not] Part in a Rumble" | 4598 |
| taishan | Linux (openEuler 24.03 LTS) | aarch64 | 4.5.0 (2025-04-11) -- "How About a Twenty-Six" | 4668 |
| Click on any hostname to see more info about the system (e.g. compilers) (*) as reported by 'uname -p', except on Windows and Mac OS X | ||||
| Package 395/2361 | Hostname | OS / Arch | INSTALL | BUILD | CHECK | BUILD BIN | ||||||||
| clustifyr 1.22.0 (landing page) Rui Fu
| nebbiolo2 | Linux (Ubuntu 24.04.3 LTS) / x86_64 | OK | OK | OK | |||||||||
| merida1 | macOS 12.7.6 Monterey / x86_64 | OK | OK | OK | OK | |||||||||
| kjohnson1 | macOS 13.7.5 Ventura / arm64 | OK | OK | OK | OK | |||||||||
| taishan | Linux (openEuler 24.03 LTS) / aarch64 | OK | OK | OK | ||||||||||
|
To the developers/maintainers of the clustifyr package: - Allow up to 24 hours (and sometimes 48 hours) for your latest push to git@git.bioconductor.org:packages/clustifyr.git to reflect on this report. See Troubleshooting Build Report for more information. - Use the following Renviron settings to reproduce errors and warnings. - If 'R CMD check' started to fail recently on the Linux builder(s) over a missing dependency, add the missing dependency to 'Suggests:' in your DESCRIPTION file. See Renviron.bioc for more information. |
| Package: clustifyr |
| Version: 1.22.0 |
| Command: /Library/Frameworks/R.framework/Resources/bin/R CMD check --install=check:clustifyr.install-out.txt --library=/Library/Frameworks/R.framework/Resources/library --no-vignettes --timings clustifyr_1.22.0.tar.gz |
| StartedAt: 2025-11-18 05:25:50 -0500 (Tue, 18 Nov 2025) |
| EndedAt: 2025-11-18 05:47:12 -0500 (Tue, 18 Nov 2025) |
| EllapsedTime: 1282.1 seconds |
| RetCode: 0 |
| Status: OK |
| CheckDir: clustifyr.Rcheck |
| Warnings: 0 |
##############################################################################
##############################################################################
###
### Running command:
###
### /Library/Frameworks/R.framework/Resources/bin/R CMD check --install=check:clustifyr.install-out.txt --library=/Library/Frameworks/R.framework/Resources/library --no-vignettes --timings clustifyr_1.22.0.tar.gz
###
##############################################################################
##############################################################################
* using log directory ‘/Users/biocbuild/bbs-3.22-bioc/meat/clustifyr.Rcheck’
* using R version 4.5.2 Patched (2025-11-05 r88990)
* using platform: x86_64-apple-darwin20
* R was compiled by
Apple clang version 14.0.0 (clang-1400.0.29.202)
GNU Fortran (GCC) 14.2.0
* running under: macOS Monterey 12.7.6
* using session charset: UTF-8
* using option ‘--no-vignettes’
* checking for file ‘clustifyr/DESCRIPTION’ ... OK
* this is package ‘clustifyr’ version ‘1.22.0’
* package encoding: UTF-8
* checking package namespace information ... OK
* checking package dependencies ... OK
* checking if this is a source package ... OK
* checking if there is a namespace ... OK
* checking for hidden files and directories ... OK
* checking for portable file names ... OK
* checking for sufficient/correct file permissions ... OK
* checking whether package ‘clustifyr’ can be installed ... OK
* checking installed package size ... OK
* checking package directory ... OK
* checking ‘build’ directory ... OK
* checking DESCRIPTION meta-information ... NOTE
License stub is invalid DCF.
* checking top-level files ... OK
* checking for left-over files ... OK
* checking index information ... OK
* checking package subdirectories ... OK
* checking code files for non-ASCII characters ... OK
* checking R files for syntax errors ... OK
* checking whether the package can be loaded ... OK
* checking whether the package can be loaded with stated dependencies ... OK
* checking whether the package can be unloaded cleanly ... OK
* checking whether the namespace can be loaded with stated dependencies ... OK
* checking whether the namespace can be unloaded cleanly ... OK
* checking dependencies in R code ... OK
* checking S3 generic/method consistency ... OK
* checking replacement functions ... OK
* checking foreign function calls ... OK
* checking R code for possible problems ... OK
* checking Rd files ... OK
* checking Rd metadata ... OK
* checking Rd cross-references ... OK
* checking for missing documentation entries ... OK
* checking for code/documentation mismatches ... OK
* checking Rd \usage sections ... OK
* checking Rd contents ... OK
* checking for unstated dependencies in examples ... OK
* checking contents of ‘data’ directory ... OK
* checking data for non-ASCII characters ... OK
* checking LazyData ... OK
* checking data for ASCII and uncompressed saves ... OK
* checking files in ‘vignettes’ ... OK
* checking examples ... OK
Examples with CPU (user + system) or elapsed time > 5s
user system elapsed
plot_pathway_gsea 24.931 0.117 26.453
calculate_pathway_gsea 21.662 0.104 22.942
overcluster_test 4.685 0.179 5.051
* checking for unstated dependencies in ‘tests’ ... OK
* checking tests ...
Running ‘testthat.R’
OK
* checking for unstated dependencies in vignettes ... OK
* checking package vignettes ... OK
* checking running R code from vignettes ... SKIPPED
* checking re-building of vignette outputs ... SKIPPED
* checking PDF version of manual ... OK
* DONE
Status: 1 NOTE
See
‘/Users/biocbuild/bbs-3.22-bioc/meat/clustifyr.Rcheck/00check.log’
for details.
clustifyr.Rcheck/00install.out
############################################################################## ############################################################################## ### ### Running command: ### ### /Library/Frameworks/R.framework/Resources/bin/R CMD INSTALL clustifyr ### ############################################################################## ############################################################################## * installing to library ‘/Library/Frameworks/R.framework/Versions/4.5-x86_64/Resources/library’ * installing *source* package ‘clustifyr’ ... ** this is package ‘clustifyr’ version ‘1.22.0’ ** using staged installation ** R ** data *** moving datasets to lazyload DB ** inst ** byte-compile and prepare package for lazy loading ** help *** installing help indices *** copying figures ** building package indices ** installing vignettes ** testing if installed package can be loaded from temporary location ** testing if installed package can be loaded from final location ** testing if installed package keeps a record of temporary installation path * DONE (clustifyr)
clustifyr.Rcheck/tests/testthat.Rout
R version 4.5.2 Patched (2025-11-05 r88990) -- "[Not] Part in a Rumble"
Copyright (C) 2025 The R Foundation for Statistical Computing
Platform: x86_64-apple-darwin20
R is free software and comes with ABSOLUTELY NO WARRANTY.
You are welcome to redistribute it under certain conditions.
Type 'license()' or 'licence()' for distribution details.
R is a collaborative project with many contributors.
Type 'contributors()' for more information and
'citation()' on how to cite R or R packages in publications.
Type 'demo()' for some demos, 'help()' for on-line help, or
'help.start()' for an HTML browser interface to help.
Type 'q()' to quit R.
> library(testthat)
> library(clustifyr)
>
> test_check("clustifyr")
[ FAIL 0 | WARN 1 | SKIP 0 | PASS 183 ]
[ FAIL 0 | WARN 1 | SKIP 0 | PASS 183 ]
>
> proc.time()
user system elapsed
678.562 9.006 727.327
clustifyr.Rcheck/clustifyr-Ex.timings
| name | user | system | elapsed | |
| append_genes | 0.042 | 0.010 | 0.052 | |
| assess_rank_bias | 0.001 | 0.002 | 0.004 | |
| average_clusters | 0.077 | 0.016 | 0.094 | |
| binarize_expr | 0.125 | 0.006 | 0.131 | |
| build_atlas | 0.786 | 0.020 | 0.834 | |
| calc_distance | 0.008 | 0.000 | 0.009 | |
| calculate_pathway_gsea | 21.662 | 0.104 | 22.942 | |
| call_consensus | 0.395 | 0.011 | 0.439 | |
| call_to_metadata | 0.365 | 0.497 | 0.925 | |
| check_raw_counts | 0.885 | 0.062 | 1.026 | |
| clustify | 3.298 | 0.117 | 3.655 | |
| clustify_lists | 0.101 | 0.012 | 0.119 | |
| clustify_nudge | 1.861 | 0.056 | 2.053 | |
| clustifyr_methods | 0.000 | 0.001 | 0.001 | |
| collapse_to_cluster | 2.014 | 0.097 | 2.206 | |
| compare_lists | 0.230 | 0.008 | 0.249 | |
| cor_to_call | 0.125 | 0.004 | 0.136 | |
| cor_to_call_rank | 0.113 | 0.002 | 0.116 | |
| cor_to_call_topn | 0.116 | 0.001 | 0.125 | |
| downsample_matrix | 0.021 | 0.001 | 0.023 | |
| feature_select_PCA | 0.016 | 0.005 | 0.020 | |
| file_marker_parse | 0.003 | 0.002 | 0.005 | |
| find_rank_bias | 0.071 | 0.005 | 0.078 | |
| gene_pct_markerm | 0.558 | 0.004 | 0.583 | |
| get_ucsc_reference | 0.000 | 0.001 | 0.001 | |
| get_vargenes | 0.001 | 0.001 | 0.001 | |
| gmt_to_list | 0.073 | 0.005 | 0.088 | |
| insert_meta_object | 0.515 | 0.018 | 0.556 | |
| make_comb_ref | 0.030 | 0.003 | 0.033 | |
| marker_select | 0.036 | 0.009 | 0.047 | |
| matrixize_markers | 0.056 | 0.016 | 0.078 | |
| object_data | 0.675 | 0.026 | 0.730 | |
| object_ref | 1.400 | 0.333 | 1.802 | |
| overcluster | 2.024 | 0.091 | 2.192 | |
| overcluster_test | 4.685 | 0.179 | 5.051 | |
| parse_loc_object | 0.496 | 0.008 | 0.531 | |
| plot_best_call | 1.264 | 0.020 | 1.350 | |
| plot_cor | 1.986 | 0.056 | 2.135 | |
| plot_cor_heatmap | 2.089 | 0.083 | 2.271 | |
| plot_dims | 0.902 | 0.011 | 0.950 | |
| plot_gene | 1.551 | 0.024 | 1.669 | |
| plot_pathway_gsea | 24.931 | 0.117 | 26.453 | |
| plot_rank_bias | 0.000 | 0.001 | 0.002 | |
| pos_neg_marker | 0.016 | 0.001 | 0.016 | |
| pos_neg_select | 0.193 | 0.005 | 0.206 | |
| query_rank_bias | 0.080 | 0.004 | 0.090 | |
| ref_feature_select | 0.039 | 0.001 | 0.040 | |
| ref_marker_select | 0.496 | 0.004 | 0.510 | |
| reverse_marker_matrix | 0.010 | 0.012 | 0.022 | |
| run_clustifyr_app | 0 | 0 | 0 | |
| seurat_meta | 0.565 | 0.009 | 0.577 | |
| seurat_ref | 0.518 | 0.006 | 0.528 | |
| write_meta | 0.654 | 0.035 | 0.697 | |