Back to Multiple platform build/check report for BioC 3.22:   simplified   long
AB[C]DEFGHIJKLMNOPQRSTUVWXYZ

This page was generated on 2025-10-25 12:04 -0400 (Sat, 25 Oct 2025).

HostnameOSArch (*)R versionInstalled pkgs
nebbiolo2Linux (Ubuntu 24.04.3 LTS)x86_644.5.1 Patched (2025-08-23 r88802) -- "Great Square Root" 4901
lconwaymacOS 12.7.6 Montereyx86_644.5.1 Patched (2025-09-10 r88807) -- "Great Square Root" 4691
kjohnson3macOS 13.7.7 Venturaarm644.5.1 Patched (2025-09-10 r88807) -- "Great Square Root" 4637
taishanLinux (openEuler 24.03 LTS)aarch644.5.0 (2025-04-11) -- "How About a Twenty-Six" 4658
Click on any hostname to see more info about the system (e.g. compilers)      (*) as reported by 'uname -p', except on Windows and Mac OS X

Package 395/2361HostnameOS / ArchINSTALLBUILDCHECKBUILD BIN
clustifyr 1.21.0  (landing page)
Rui Fu
Snapshot Date: 2025-10-24 13:45 -0400 (Fri, 24 Oct 2025)
git_url: https://git.bioconductor.org/packages/clustifyr
git_branch: devel
git_last_commit: d3521c2
git_last_commit_date: 2025-04-16 16:21:04 -0400 (Wed, 16 Apr 2025)
nebbiolo2Linux (Ubuntu 24.04.3 LTS) / x86_64  OK    OK    OK  UNNEEDED, same version is already published
lconwaymacOS 12.7.6 Monterey / x86_64  OK    OK    OK    OK  UNNEEDED, same version is already published
kjohnson3macOS 13.7.7 Ventura / arm64  OK    OK    OK    OK  UNNEEDED, same version is already published
taishanLinux (openEuler 24.03 LTS) / aarch64  OK    NA    NA  


CHECK results for clustifyr on lconway

To the developers/maintainers of the clustifyr package:
- Allow up to 24 hours (and sometimes 48 hours) for your latest push to git@git.bioconductor.org:packages/clustifyr.git to reflect on this report. See Troubleshooting Build Report for more information.
- Use the following Renviron settings to reproduce errors and warnings.
- If 'R CMD check' started to fail recently on the Linux builder(s) over a missing dependency, add the missing dependency to 'Suggests:' in your DESCRIPTION file. See Renviron.bioc for more information.

raw results


Summary

Package: clustifyr
Version: 1.21.0
Command: /Library/Frameworks/R.framework/Resources/bin/R CMD check --install=check:clustifyr.install-out.txt --library=/Library/Frameworks/R.framework/Resources/library --no-vignettes --timings clustifyr_1.21.0.tar.gz
StartedAt: 2025-10-24 20:16:03 -0400 (Fri, 24 Oct 2025)
EndedAt: 2025-10-24 20:28:43 -0400 (Fri, 24 Oct 2025)
EllapsedTime: 759.5 seconds
RetCode: 0
Status:   OK  
CheckDir: clustifyr.Rcheck
Warnings: 0

Command output

##############################################################################
##############################################################################
###
### Running command:
###
###   /Library/Frameworks/R.framework/Resources/bin/R CMD check --install=check:clustifyr.install-out.txt --library=/Library/Frameworks/R.framework/Resources/library --no-vignettes --timings clustifyr_1.21.0.tar.gz
###
##############################################################################
##############################################################################


* using log directory ‘/Users/biocbuild/bbs-3.22-bioc/meat/clustifyr.Rcheck’
* using R version 4.5.1 Patched (2025-09-10 r88807)
* using platform: x86_64-apple-darwin20
* R was compiled by
    Apple clang version 14.0.0 (clang-1400.0.29.202)
    GNU Fortran (GCC) 14.2.0
* running under: macOS Monterey 12.7.6
* using session charset: UTF-8
* using option ‘--no-vignettes’
* checking for file ‘clustifyr/DESCRIPTION’ ... OK
* this is package ‘clustifyr’ version ‘1.21.0’
* package encoding: UTF-8
* checking package namespace information ... OK
* checking package dependencies ... OK
* checking if this is a source package ... OK
* checking if there is a namespace ... OK
* checking for hidden files and directories ... OK
* checking for portable file names ... OK
* checking for sufficient/correct file permissions ... OK
* checking whether package ‘clustifyr’ can be installed ... OK
* checking installed package size ... OK
* checking package directory ... OK
* checking ‘build’ directory ... OK
* checking DESCRIPTION meta-information ... NOTE
License stub is invalid DCF.
* checking top-level files ... OK
* checking for left-over files ... OK
* checking index information ... OK
* checking package subdirectories ... OK
* checking code files for non-ASCII characters ... OK
* checking R files for syntax errors ... OK
* checking whether the package can be loaded ... OK
* checking whether the package can be loaded with stated dependencies ... OK
* checking whether the package can be unloaded cleanly ... OK
* checking whether the namespace can be loaded with stated dependencies ... OK
* checking whether the namespace can be unloaded cleanly ... OK
* checking dependencies in R code ... OK
* checking S3 generic/method consistency ... OK
* checking replacement functions ... OK
* checking foreign function calls ... OK
* checking R code for possible problems ... OK
* checking Rd files ... OK
* checking Rd metadata ... OK
* checking Rd cross-references ... OK
* checking for missing documentation entries ... OK
* checking for code/documentation mismatches ... OK
* checking Rd \usage sections ... OK
* checking Rd contents ... OK
* checking for unstated dependencies in examples ... OK
* checking contents of ‘data’ directory ... OK
* checking data for non-ASCII characters ... OK
* checking LazyData ... OK
* checking data for ASCII and uncompressed saves ... OK
* checking files in ‘vignettes’ ... OK
* checking examples ... OK
Examples with CPU (user + system) or elapsed time > 5s
                         user system elapsed
plot_pathway_gsea      17.975  0.109  18.183
calculate_pathway_gsea 15.272  0.109  15.483
* checking for unstated dependencies in ‘tests’ ... OK
* checking tests ...
  Running ‘testthat.R’
 OK
* checking for unstated dependencies in vignettes ... OK
* checking package vignettes ... OK
* checking running R code from vignettes ... SKIPPED
* checking re-building of vignette outputs ... SKIPPED
* checking PDF version of manual ... OK
* DONE

Status: 1 NOTE
See
  ‘/Users/biocbuild/bbs-3.22-bioc/meat/clustifyr.Rcheck/00check.log’
for details.


Installation output

clustifyr.Rcheck/00install.out

##############################################################################
##############################################################################
###
### Running command:
###
###   /Library/Frameworks/R.framework/Resources/bin/R CMD INSTALL clustifyr
###
##############################################################################
##############################################################################


* installing to library ‘/Library/Frameworks/R.framework/Versions/4.5-x86_64/Resources/library’
* installing *source* package ‘clustifyr’ ...
** this is package ‘clustifyr’ version ‘1.21.0’
** using staged installation
** R
** data
*** moving datasets to lazyload DB
** inst
** byte-compile and prepare package for lazy loading
** help
*** installing help indices
*** copying figures
** building package indices
** installing vignettes
** testing if installed package can be loaded from temporary location
** testing if installed package can be loaded from final location
** testing if installed package keeps a record of temporary installation path
* DONE (clustifyr)

Tests output

clustifyr.Rcheck/tests/testthat.Rout


R version 4.5.1 Patched (2025-09-10 r88807) -- "Great Square Root"
Copyright (C) 2025 The R Foundation for Statistical Computing
Platform: x86_64-apple-darwin20

R is free software and comes with ABSOLUTELY NO WARRANTY.
You are welcome to redistribute it under certain conditions.
Type 'license()' or 'licence()' for distribution details.

R is a collaborative project with many contributors.
Type 'contributors()' for more information and
'citation()' on how to cite R or R packages in publications.

Type 'demo()' for some demos, 'help()' for on-line help, or
'help.start()' for an HTML browser interface to help.
Type 'q()' to quit R.

> library(testthat)
> library(clustifyr)
> 
> test_check("clustifyr")
[ FAIL 0 | WARN 1 | SKIP 0 | PASS 183 ]

[ FAIL 0 | WARN 1 | SKIP 0 | PASS 183 ]
> 
> proc.time()
   user  system elapsed 
460.799   6.999 470.093 

Example timings

clustifyr.Rcheck/clustifyr-Ex.timings

nameusersystemelapsed
append_genes0.0330.0060.039
assess_rank_bias0.0000.0000.001
average_clusters0.0590.0110.071
binarize_expr0.0960.0060.102
build_atlas0.7000.0180.725
calc_distance0.0050.0000.005
calculate_pathway_gsea15.272 0.10915.483
call_consensus0.1990.0100.210
call_to_metadata0.1590.1560.322
check_raw_counts0.7680.0370.810
clustify1.9450.0812.036
clustify_lists0.0500.0040.055
clustify_nudge0.9050.0290.939
clustifyr_methods0.0000.0000.001
collapse_to_cluster1.3740.0671.451
compare_lists0.1060.0040.110
cor_to_call0.0650.0070.073
cor_to_call_rank0.0570.0030.058
cor_to_call_topn0.0600.0010.061
downsample_matrix0.010.000.01
feature_select_PCA0.0080.0020.009
file_marker_parse0.0010.0010.003
find_rank_bias0.0270.0020.028
gene_pct_markerm0.2570.0020.259
get_ucsc_reference0.0010.0000.001
get_vargenes0.0000.0010.001
gmt_to_list0.0410.0020.044
insert_meta_object0.2350.0150.251
make_comb_ref0.0150.0000.016
marker_select0.0240.0110.034
matrixize_markers0.0300.0040.034
object_data0.3300.0220.354
object_ref0.9410.1441.091
overcluster1.0600.0781.147
overcluster_test2.6130.1122.742
parse_loc_object0.2550.0070.263
plot_best_call0.6680.0120.684
plot_cor0.9550.0451.006
plot_cor_heatmap1.0370.0581.101
plot_dims0.4300.0080.443
plot_gene0.7240.0140.743
plot_pathway_gsea17.975 0.10918.183
plot_rank_bias0.0000.0000.001
pos_neg_marker0.0110.0000.012
pos_neg_select0.0730.0020.077
query_rank_bias0.0410.0010.042
ref_feature_select0.0220.0000.022
ref_marker_select0.1920.0010.194
reverse_marker_matrix0.0040.0020.005
run_clustifyr_app000
seurat_meta0.3190.0120.335
seurat_ref0.2910.0050.300
write_meta0.2900.0210.313