| Back to Multiple platform build/check report for BioC 3.22: simplified long |
|
This page was generated on 2025-10-25 12:03 -0400 (Sat, 25 Oct 2025).
| Hostname | OS | Arch (*) | R version | Installed pkgs |
|---|---|---|---|---|
| nebbiolo2 | Linux (Ubuntu 24.04.3 LTS) | x86_64 | 4.5.1 Patched (2025-08-23 r88802) -- "Great Square Root" | 4901 |
| lconway | macOS 12.7.6 Monterey | x86_64 | 4.5.1 Patched (2025-09-10 r88807) -- "Great Square Root" | 4691 |
| kjohnson3 | macOS 13.7.7 Ventura | arm64 | 4.5.1 Patched (2025-09-10 r88807) -- "Great Square Root" | 4637 |
| taishan | Linux (openEuler 24.03 LTS) | aarch64 | 4.5.0 (2025-04-11) -- "How About a Twenty-Six" | 4658 |
| Click on any hostname to see more info about the system (e.g. compilers) (*) as reported by 'uname -p', except on Windows and Mac OS X | ||||
| Package 165/2361 | Hostname | OS / Arch | INSTALL | BUILD | CHECK | BUILD BIN | ||||||||
| benchdamic 1.15.4 (landing page) Matteo Calgaro
| nebbiolo2 | Linux (Ubuntu 24.04.3 LTS) / x86_64 | OK | OK | OK | |||||||||
| lconway | macOS 12.7.6 Monterey / x86_64 | OK | OK | OK | OK | |||||||||
| kjohnson3 | macOS 13.7.7 Ventura / arm64 | OK | OK | OK | OK | |||||||||
| taishan | Linux (openEuler 24.03 LTS) / aarch64 | OK | NA | NA | ||||||||||
|
To the developers/maintainers of the benchdamic package: - Allow up to 24 hours (and sometimes 48 hours) for your latest push to git@git.bioconductor.org:packages/benchdamic.git to reflect on this report. See Troubleshooting Build Report for more information. - Use the following Renviron settings to reproduce errors and warnings. - If 'R CMD check' started to fail recently on the Linux builder(s) over a missing dependency, add the missing dependency to 'Suggests:' in your DESCRIPTION file. See Renviron.bioc for more information. |
| Package: benchdamic |
| Version: 1.15.4 |
| Command: /home/biocbuild/bbs-3.22-bioc/R/bin/R CMD check --install=check:benchdamic.install-out.txt --library=/home/biocbuild/bbs-3.22-bioc/R/site-library --timings benchdamic_1.15.4.tar.gz |
| StartedAt: 2025-10-24 21:31:19 -0400 (Fri, 24 Oct 2025) |
| EndedAt: 2025-10-24 22:04:13 -0400 (Fri, 24 Oct 2025) |
| EllapsedTime: 1973.2 seconds |
| RetCode: 0 |
| Status: OK |
| CheckDir: benchdamic.Rcheck |
| Warnings: 0 |
##############################################################################
##############################################################################
###
### Running command:
###
### /home/biocbuild/bbs-3.22-bioc/R/bin/R CMD check --install=check:benchdamic.install-out.txt --library=/home/biocbuild/bbs-3.22-bioc/R/site-library --timings benchdamic_1.15.4.tar.gz
###
##############################################################################
##############################################################################
* using log directory ‘/home/biocbuild/bbs-3.22-bioc/meat/benchdamic.Rcheck’
* using R version 4.5.1 Patched (2025-08-23 r88802)
* using platform: x86_64-pc-linux-gnu
* R was compiled by
gcc (Ubuntu 13.3.0-6ubuntu2~24.04) 13.3.0
GNU Fortran (Ubuntu 13.3.0-6ubuntu2~24.04) 13.3.0
* running under: Ubuntu 24.04.3 LTS
* using session charset: UTF-8
* checking for file ‘benchdamic/DESCRIPTION’ ... OK
* checking extension type ... Package
* this is package ‘benchdamic’ version ‘1.15.4’
* package encoding: UTF-8
* checking package namespace information ... OK
* checking package dependencies ... INFO
Imports includes 32 non-default packages.
Importing from so many packages makes the package vulnerable to any of
them becoming unavailable. Move as many as possible to Suggests and
use conditionally.
* checking if this is a source package ... OK
* checking if there is a namespace ... OK
* checking for hidden files and directories ... OK
* checking for portable file names ... OK
* checking for sufficient/correct file permissions ... OK
* checking whether package ‘benchdamic’ can be installed ... OK
* checking installed package size ... OK
* checking package directory ... OK
* checking ‘build’ directory ... OK
* checking DESCRIPTION meta-information ... OK
* checking top-level files ... OK
* checking for left-over files ... OK
* checking index information ... OK
* checking package subdirectories ... OK
* checking code files for non-ASCII characters ... OK
* checking R files for syntax errors ... OK
* checking whether the package can be loaded ... OK
* checking whether the package can be loaded with stated dependencies ... OK
* checking whether the package can be unloaded cleanly ... OK
* checking whether the namespace can be loaded with stated dependencies ... OK
* checking whether the namespace can be unloaded cleanly ... OK
* checking loading without being on the library search path ... OK
* checking dependencies in R code ... NOTE
Namespace in Imports field not imported from: ‘microbiome’
All declared Imports should be used.
* checking S3 generic/method consistency ... OK
* checking replacement functions ... OK
* checking foreign function calls ... OK
* checking R code for possible problems ... OK
* checking Rd files ... OK
* checking Rd metadata ... OK
* checking Rd cross-references ... NOTE
Non-topic package-anchored link(s) in Rd file 'norm_DESeq2.Rd':
‘[DESeq2]{estimateSizeFactors}’
See section 'Cross-references' in the 'Writing R Extensions' manual.
* checking for missing documentation entries ... OK
* checking for code/documentation mismatches ... OK
* checking Rd \usage sections ... OK
* checking Rd contents ... OK
* checking for unstated dependencies in examples ... OK
* checking contents of ‘data’ directory ... OK
* checking data for non-ASCII characters ... OK
* checking LazyData ... OK
* checking data for ASCII and uncompressed saves ... OK
* checking files in ‘vignettes’ ... OK
* checking examples ... OK
Examples with CPU (user + system) or elapsed time > 5s
user system elapsed
areaCAT 6.949 0.173 9.203
createConcordance 5.456 0.075 5.618
* checking for unstated dependencies in ‘tests’ ... OK
* checking tests ...
Running ‘testthat.R’
OK
* checking for unstated dependencies in vignettes ... OK
* checking package vignettes ... OK
* checking re-building of vignette outputs ... OK
* checking PDF version of manual ... OK
* DONE
Status: 2 NOTEs
See
‘/home/biocbuild/bbs-3.22-bioc/meat/benchdamic.Rcheck/00check.log’
for details.
benchdamic.Rcheck/00install.out
############################################################################## ############################################################################## ### ### Running command: ### ### /home/biocbuild/bbs-3.22-bioc/R/bin/R CMD INSTALL benchdamic ### ############################################################################## ############################################################################## * installing to library ‘/home/biocbuild/bbs-3.22-bioc/R/site-library’ * installing *source* package ‘benchdamic’ ... ** this is package ‘benchdamic’ version ‘1.15.4’ ** using staged installation ** R ** data *** moving datasets to lazyload DB ** inst ** byte-compile and prepare package for lazy loading Found more than one class "dist" in cache; using the first, from namespace 'BiocGenerics' Also defined by ‘spam’ ** help *** installing help indices ** building package indices ** installing vignettes ** testing if installed package can be loaded from temporary location Found more than one class "dist" in cache; using the first, from namespace 'BiocGenerics' Also defined by ‘spam’ ** testing if installed package can be loaded from final location Found more than one class "dist" in cache; using the first, from namespace 'BiocGenerics' Also defined by ‘spam’ ** testing if installed package keeps a record of temporary installation path * DONE (benchdamic)
benchdamic.Rcheck/tests/testthat.Rout
R version 4.5.1 Patched (2025-08-23 r88802) -- "Great Square Root"
Copyright (C) 2025 The R Foundation for Statistical Computing
Platform: x86_64-pc-linux-gnu
R is free software and comes with ABSOLUTELY NO WARRANTY.
You are welcome to redistribute it under certain conditions.
Type 'license()' or 'licence()' for distribution details.
R is a collaborative project with many contributors.
Type 'contributors()' for more information and
'citation()' on how to cite R or R packages in publications.
Type 'demo()' for some demos, 'help()' for on-line help, or
'help.start()' for an HTML browser interface to help.
Type 'q()' to quit R.
> library(testthat)
> library(benchdamic)
Found more than one class "dist" in cache; using the first, from namespace 'BiocGenerics'
Also defined by 'spam'
>
> test_check("benchdamic")
|------------(25%)----------(50%)----------(75%)----------|
|------------(25%)----------(50%)----------(75%)----------|
|------------(25%)----------(50%)----------(75%)----------|
|------------(25%)----------(50%)----------(75%)----------|
|------------(25%)----------(50%)----------(75%)----------|
[ FAIL 0 | WARN 2 | SKIP 0 | PASS 334 ]
[ FAIL 0 | WARN 2 | SKIP 0 | PASS 334 ]
>
> proc.time()
user system elapsed
66.910 3.052 77.723
benchdamic.Rcheck/benchdamic-Ex.timings
| name | user | system | elapsed | |
| CAT | 0.004 | 0.000 | 0.003 | |
| DA_ALDEx2 | 3.743 | 0.317 | 4.061 | |
| DA_ANCOM | 0.743 | 0.020 | 0.764 | |
| DA_DESeq2 | 2.728 | 0.095 | 2.823 | |
| DA_MAST | 1.208 | 0.035 | 1.219 | |
| DA_Maaslin2 | 0.248 | 0.015 | 0.266 | |
| DA_NOISeq | 1.415 | 0.075 | 1.491 | |
| DA_Seurat | 3.792 | 0.028 | 4.223 | |
| DA_ZicoSeq | 1.231 | 0.024 | 2.000 | |
| DA_basic | 0.054 | 0.003 | 0.056 | |
| DA_corncob | 1.397 | 0.026 | 1.912 | |
| DA_dearseq | 0.135 | 0.004 | 0.152 | |
| DA_edgeR | 0.444 | 0.002 | 0.694 | |
| DA_limma | 0.171 | 0.003 | 0.306 | |
| DA_linda | 0.089 | 0.002 | 0.092 | |
| DA_maaslin3 | 0.938 | 0.022 | 1.844 | |
| DA_metagenomeSeq | 0.492 | 0.006 | 1.013 | |
| DA_mixMC | 1.421 | 0.014 | 2.792 | |
| RMSE | 0.002 | 0.000 | 0.001 | |
| addKnowledge | 0.377 | 0.003 | 0.763 | |
| areaCAT | 6.949 | 0.173 | 9.203 | |
| checkNormalization | 0 | 0 | 0 | |
| createColors | 0.004 | 0.000 | 0.004 | |
| createConcordance | 5.456 | 0.075 | 5.618 | |
| createEnrichment | 0.230 | 0.024 | 0.254 | |
| createMocks | 0.002 | 0.000 | 0.002 | |
| createPositives | 0.947 | 0.047 | 0.995 | |
| createSplits | 0.029 | 0.000 | 0.029 | |
| createTIEC | 2.933 | 0.049 | 2.983 | |
| enrichmentTest | 0.148 | 0.003 | 0.151 | |
| extractDA | 0.165 | 0.001 | 0.166 | |
| extractStatistics | 0.162 | 0.002 | 0.163 | |
| fitDM | 0.028 | 0.000 | 0.028 | |
| fitHURDLE | 0.602 | 0.005 | 0.608 | |
| fitModels | 2.136 | 0.026 | 2.162 | |
| fitNB | 0.041 | 0.000 | 0.041 | |
| fitZIG | 0.048 | 0.000 | 0.048 | |
| fitZINB | 0.412 | 0.000 | 0.412 | |
| getDA | 0.069 | 0.000 | 0.069 | |
| getPositives | 0.068 | 0.002 | 0.070 | |
| getStatistics | 0.059 | 0.002 | 0.061 | |
| get_counts_metadata | 0.104 | 0.000 | 0.104 | |
| iterative_ordering | 0.008 | 0.000 | 0.008 | |
| meanDifferences | 0.002 | 0.000 | 0.001 | |
| norm_CSS | 0.066 | 0.000 | 0.065 | |
| norm_DESeq2 | 0.418 | 0.001 | 0.419 | |
| norm_TSS | 0.031 | 0.000 | 0.031 | |
| norm_edgeR | 0.035 | 0.001 | 0.037 | |
| plotConcordance | 4.878 | 0.019 | 4.897 | |
| plotContingency | 1.353 | 0.001 | 1.353 | |
| plotEnrichment | 2.620 | 0.151 | 2.771 | |
| plotFDR | 2.392 | 0.004 | 2.396 | |
| plotFPR | 2.328 | 0.006 | 2.335 | |
| plotKS | 2.344 | 0.004 | 2.348 | |
| plotLogP | 2.314 | 0.002 | 2.316 | |
| plotMD | 3.325 | 0.003 | 3.328 | |
| plotMutualFindings | 1.314 | 0.000 | 1.314 | |
| plotPositives | 0.767 | 0.000 | 0.767 | |
| plotQQ | 2.314 | 0.006 | 2.319 | |
| plotRMSE | 2.589 | 0.005 | 2.593 | |
| prepareObserved | 0.002 | 0.000 | 0.001 | |
| runDA | 0.451 | 0.000 | 0.451 | |
| runMocks | 0.654 | 0.002 | 0.656 | |
| runNormalizations | 0.411 | 0.000 | 0.411 | |
| runSplits | 3.294 | 0.031 | 3.328 | |
| setNormalizations | 0.001 | 0.000 | 0.000 | |
| set_ALDEx2 | 0.006 | 0.000 | 0.006 | |
| set_ANCOM | 0.006 | 0.000 | 0.006 | |
| set_DESeq2 | 0.005 | 0.001 | 0.006 | |
| set_MAST | 0.002 | 0.000 | 0.003 | |
| set_Maaslin2 | 0.004 | 0.000 | 0.004 | |
| set_NOISeq | 0.004 | 0.000 | 0.003 | |
| set_Seurat | 0.005 | 0.000 | 0.006 | |
| set_ZicoSeq | 0.006 | 0.000 | 0.006 | |
| set_basic | 0.002 | 0.000 | 0.002 | |
| set_corncob | 0.003 | 0.001 | 0.004 | |
| set_dearseq | 0.002 | 0.000 | 0.002 | |
| set_edgeR | 0.011 | 0.000 | 0.010 | |
| set_limma | 0.006 | 0.001 | 0.007 | |
| set_linda | 0.004 | 0.000 | 0.005 | |
| set_maaslin3 | 0.005 | 0.001 | 0.006 | |
| set_metagenomeSeq | 0.005 | 0.000 | 0.004 | |
| set_mixMC | 0.002 | 0.000 | 0.002 | |
| weights_ZINB | 0.379 | 0.001 | 0.380 | |