Back to Build/check report for BioC 3.22:   simplified   long
A[B]CDEFGHIJKLMNOPQRSTUVWXYZ

This page was generated on 2025-10-27 12:45 -0400 (Mon, 27 Oct 2025).

HostnameOSArch (*)R versionInstalled pkgs
kjohnson3macOS 13.7.7 Venturaarm644.5.1 Patched (2025-09-10 r88807) -- "Great Square Root" 4637
Click on any hostname to see more info about the system (e.g. compilers)      (*) as reported by 'uname -p', except on Windows and Mac OS X

All results for package basilisk


To the developers/maintainers of the basilisk package:
- Allow up to 24 hours (and sometimes 48 hours) for your latest push to git@git.bioconductor.org:packages/basilisk.git to reflect on this report. See Troubleshooting Build Report for more information.
- Use the following Renviron settings to reproduce errors and warnings.
- If 'R CMD check' started to fail recently on the Linux builder(s) over a missing dependency, add the missing dependency to 'Suggests:' in your DESCRIPTION file. See Renviron.bioc for more information.

raw results

Package 143/2361HostnameOS / ArchINSTALLBUILDCHECKBUILD BIN
basilisk 1.21.5  (landing page)
Aaron Lun
Snapshot Date: 2025-10-26 13:45 -0400 (Sun, 26 Oct 2025)
git_url: https://git.bioconductor.org/packages/basilisk
git_branch: devel
git_last_commit: 9942970
git_last_commit_date: 2025-08-27 17:46:34 -0400 (Wed, 27 Aug 2025)
kjohnson3macOS 13.7.7 Ventura / arm64  OK    OK    OK    OK  UNNEEDED, same version is already published



Results for Bioconductor software packages that depend directly on package basilisk

QUICK STATSOS / ArchINSTALLBUILDCHECKBUILD BIN
kjohnson3macOS 13.7.7 Ventura / arm64
0028
01513
00112
0013
Package 1/28HostnameOS / ArchINSTALLBUILDCHECKBUILD BIN
BiocSklearn 1.31.0  (landing page)
Vince Carey
git_last_commit: 0217c91
git_last_commit_date: 2025-04-15 11:13:00 -0400
kjohnson3macOS 13.7.7 Ventura / arm64  OK    OK    OK    OK  UNNEEDED, same version is already published
Package 2/28HostnameOS / ArchINSTALLBUILDCHECKBUILD BIN
cbpManager 1.17.0  (landing page)
Arsenij Ustjanzew
git_last_commit: 5120076
git_last_commit_date: 2025-04-15 12:29:58 -0400
kjohnson3macOS 13.7.7 Ventura / arm64  OK    OK    WARNINGS    OK  UNNEEDED, same version is already published
Package 3/28HostnameOS / ArchINSTALLBUILDCHECKBUILD BIN
cfTools 1.9.0  (landing page)
Ran Hu
git_last_commit: 970eb2d
git_last_commit_date: 2025-07-15 15:25:12 -0400
kjohnson3macOS 13.7.7 Ventura / arm64  OK    ERROR  skippedskipped
Package 4/28HostnameOS / ArchINSTALLBUILDCHECKBUILD BIN
crisprScore 1.13.1  (landing page)
Jean-Philippe Fortin
git_last_commit: 0e5cd77
git_last_commit_date: 2025-07-09 14:10:44 -0400
kjohnson3macOS 13.7.7 Ventura / arm64  OK    OK    OK    OK  UNNEEDED, same version is already published
Package 5/28HostnameOS / ArchINSTALLBUILDCHECKBUILD BIN
densvis 1.19.0  (landing page)
Alan O'Callaghan
git_last_commit: 7d2a35c
git_last_commit_date: 2025-07-17 04:53:14 -0400
kjohnson3macOS 13.7.7 Ventura / arm64  OK    ERROR  skippedskipped
Package 6/28HostnameOS / ArchINSTALLBUILDCHECKBUILD BIN
DNAcycP2 1.1.0  (landing page)
Ji-Ping Wang
git_last_commit: 8f14169
git_last_commit_date: 2025-04-15 13:49:02 -0400
kjohnson3macOS 13.7.7 Ventura / arm64  OK    OK    OK    OK  UNNEEDED, same version is already published
Package 7/28HostnameOS / ArchINSTALLBUILDCHECKBUILD BIN
DOtools 0.99.11  (landing page)
Mariano Ruz Jurado
git_last_commit: 95e75ee
git_last_commit_date: 2025-10-09 05:46:33 -0400
kjohnson3macOS 13.7.7 Ventura / arm64  OK    ERROR  skippedskipped
Package 8/28HostnameOS / ArchINSTALLBUILDCHECKBUILD BIN
FLAMES 2.3.5  (landing page)
Changqing Wang
git_last_commit: 5771592
git_last_commit_date: 2025-09-12 02:43:50 -0400
kjohnson3macOS 13.7.7 Ventura / arm64  OK    OK    OK    OK  UNNEEDED, same version is already published
Package 9/28HostnameOS / ArchINSTALLBUILDCHECKBUILD BIN
HiCool 1.9.1  (landing page)
Jacques Serizay
git_last_commit: 1422bc6
git_last_commit_date: 2025-07-17 02:50:36 -0400
kjohnson3macOS 13.7.7 Ventura / arm64  OK    ERROR  skippedskipped
Package 10/28HostnameOS / ArchINSTALLBUILDCHECKBUILD BIN
Ibex 0.99.34  (landing page)
Nick Borcherding
git_last_commit: 124a6b3
git_last_commit_date: 2025-10-16 18:53:21 -0400
kjohnson3macOS 13.7.7 Ventura / arm64  OK    OK    OK    OK  UNNEEDED, same version is already published
Package 11/28HostnameOS / ArchINSTALLBUILDCHECKBUILD BIN
MACSr 1.17.0  (landing page)
Qiang Hu
git_last_commit: fe27ec5
git_last_commit_date: 2025-04-15 12:19:13 -0400
kjohnson3macOS 13.7.7 Ventura / arm64  OK    ERROR  skippedskipped
Package 12/28HostnameOS / ArchINSTALLBUILDCHECKBUILD BIN
MOFA2 1.19.0  (landing page)
Ricard Argelaguet
git_last_commit: b2755a0
git_last_commit_date: 2025-04-15 12:12:13 -0400
kjohnson3macOS 13.7.7 Ventura / arm64  OK    ERROR  skippedskipped
Package 13/28HostnameOS / ArchINSTALLBUILDCHECKBUILD BIN
ontoProc 2.3.11  (landing page)
Vincent Carey
git_last_commit: 8aa7338
git_last_commit_date: 2025-10-08 11:44:19 -0400
kjohnson3macOS 13.7.7 Ventura / arm64  OK    ERROR  skippedskipped
Package 14/28HostnameOS / ArchINSTALLBUILDCHECKBUILD BIN
orthos 1.7.4  (landing page)
Panagiotis Papasaikas
git_last_commit: 7fc220a
git_last_commit_date: 2025-10-02 13:36:51 -0400
kjohnson3macOS 13.7.7 Ventura / arm64  OK    ERROR  skippedskipped
Package 15/28HostnameOS / ArchINSTALLBUILDCHECKBUILD BIN
Pirat 1.3.7  (landing page)
Lucas Etourneau
git_last_commit: 3b9b0de
git_last_commit_date: 2025-10-24 18:20:19 -0400
kjohnson3macOS 13.7.7 Ventura / arm64  OK    ERROR  skippedskipped
Package 16/28HostnameOS / ArchINSTALLBUILDCHECKBUILD BIN
Rcwl 1.25.0  (landing page)
Qiang Hu
git_last_commit: c036781
git_last_commit_date: 2025-04-15 11:41:07 -0400
kjohnson3macOS 13.7.7 Ventura / arm64  OK    OK    OK    OK  UNNEEDED, same version is already published
Package 17/28HostnameOS / ArchINSTALLBUILDCHECKBUILD BIN
recountmethylation 1.19.0  (landing page)
Sean K Maden
git_last_commit: 8935ee2
git_last_commit_date: 2025-04-15 12:08:00 -0400
kjohnson3macOS 13.7.7 Ventura / arm64  OK    OK    OK    OK  UNNEEDED, same version is already published
Package 18/28HostnameOS / ArchINSTALLBUILDCHECKBUILD BIN
ReUseData 1.9.0  (landing page)
Qian Liu
git_last_commit: c5927b9
git_last_commit_date: 2025-04-15 13:01:44 -0400
kjohnson3macOS 13.7.7 Ventura / arm64  OK    ERROR  skippedskipped
Package 19/28HostnameOS / ArchINSTALLBUILDCHECKBUILD BIN
scifer 1.11.5  (landing page)
Rodrigo Arcoverde Cerveira
git_last_commit: 32aa727
git_last_commit_date: 2025-07-18 03:46:50 -0400
kjohnson3macOS 13.7.7 Ventura / arm64  OK    OK    OK    OK  UNNEEDED, same version is already published
Package 20/28HostnameOS / ArchINSTALLBUILDCHECKBUILD BIN
scPipe 2.9.0  (landing page)
Shian Su
git_last_commit: f3a6ca4
git_last_commit_date: 2025-04-15 11:15:16 -0400
kjohnson3macOS 13.7.7 Ventura / arm64  OK    OK    OK    OK  UNNEEDED, same version is already published
Package 21/28HostnameOS / ArchINSTALLBUILDCHECKBUILD BIN
scviR 1.9.14  (landing page)
Vincent Carey
git_last_commit: a7a94a2
git_last_commit_date: 2025-10-21 12:30:36 -0400
kjohnson3macOS 13.7.7 Ventura / arm64  OK    ERROR  skippedskipped
Package 22/28HostnameOS / ArchINSTALLBUILDCHECKBUILD BIN
SimBu 1.11.0  (landing page)
Alexander Dietrich
git_last_commit: 216793c
git_last_commit_date: 2025-04-15 12:54:44 -0400
kjohnson3macOS 13.7.7 Ventura / arm64  OK    OK    OK    OK  UNNEEDED, same version is already published
Package 23/28HostnameOS / ArchINSTALLBUILDCHECKBUILD BIN
sketchR 1.5.2  (landing page)
Charlotte Soneson
git_last_commit: 1110ef9
git_last_commit_date: 2025-08-12 01:40:44 -0400
kjohnson3macOS 13.7.7 Ventura / arm64  OK    ERROR  skippedskipped
Package 24/28HostnameOS / ArchINSTALLBUILDCHECKBUILD BIN
snifter 1.19.3  (landing page)
Alan O'Callaghan
git_last_commit: 99e9f4d
git_last_commit_date: 2025-07-17 05:52:48 -0400
kjohnson3macOS 13.7.7 Ventura / arm64  OK    OK    OK    OK  UNNEEDED, same version is already published
Package 25/28HostnameOS / ArchINSTALLBUILDCHECKBUILD BIN
spatialDE 1.15.1  (landing page)
Gabriele Sales
git_last_commit: 361ffda
git_last_commit_date: 2025-04-16 02:22:34 -0400
kjohnson3macOS 13.7.7 Ventura / arm64  OK    OK    OK    OK  UNNEEDED, same version is already published
Package 26/28HostnameOS / ArchINSTALLBUILDCHECKBUILD BIN
stPipe 0.99.995  (landing page)
Yang Xu
git_last_commit: c0b834c
git_last_commit_date: 2025-10-16 03:23:29 -0400
kjohnson3macOS 13.7.7 Ventura / arm64  OK    ERROR  skippedskipped
Package 27/28HostnameOS / ArchINSTALLBUILDCHECKBUILD BIN
velociraptor 1.19.1  (landing page)
Kevin Rue-Albrecht
git_last_commit: 7b11f27
git_last_commit_date: 2025-07-08 08:09:03 -0400
kjohnson3macOS 13.7.7 Ventura / arm64  OK    ERROR  skippedskipped
Package 28/28HostnameOS / ArchINSTALLBUILDCHECKBUILD BIN
zellkonverter 1.19.3  (landing page)
Luke Zappia
git_last_commit: b3b2dfb
git_last_commit_date: 2025-10-22 19:28:37 -0400
kjohnson3macOS 13.7.7 Ventura / arm64  OK    ERROR  skippedskipped