Back to Multiple platform build/check report for BioC 3.22:   simplified   long
A[B]CDEFGHIJKLMNOPQRSTUVWXYZ

This page was generated on 2025-11-20 12:07 -0500 (Thu, 20 Nov 2025).

HostnameOSArch (*)R versionInstalled pkgs
nebbiolo2Linux (Ubuntu 24.04.3 LTS)x86_644.5.2 (2025-10-31) -- "[Not] Part in a Rumble" 4615
merida1macOS 12.7.6 Montereyx86_644.5.2 Patched (2025-11-05 r88990) -- "[Not] Part in a Rumble" 4610
kjohnson1macOS 13.7.5 Venturaarm644.5.2 Patched (2025-11-04 r88984) -- "[Not] Part in a Rumble" 4598
taishanLinux (openEuler 24.03 LTS)aarch644.5.0 (2025-04-11) -- "How About a Twenty-Six" 4668
Click on any hostname to see more info about the system (e.g. compilers)      (*) as reported by 'uname -p', except on Windows and Mac OS X

Package 132/2361HostnameOS / ArchINSTALLBUILDCHECKBUILD BIN
bandle 1.14.0  (landing page)
Oliver M. Crook
Snapshot Date: 2025-11-17 13:45 -0500 (Mon, 17 Nov 2025)
git_url: https://git.bioconductor.org/packages/bandle
git_branch: RELEASE_3_22
git_last_commit: 9a9a1bc
git_last_commit_date: 2025-10-29 11:16:12 -0500 (Wed, 29 Oct 2025)
nebbiolo2Linux (Ubuntu 24.04.3 LTS) / x86_64  OK    OK    WARNINGS  UNNEEDED, same version is already published
merida1macOS 12.7.6 Monterey / x86_64  OK    OK    WARNINGS    OK  UNNEEDED, same version is already published
kjohnson1macOS 13.7.5 Ventura / arm64  OK    OK    WARNINGS    OK  UNNEEDED, same version is already published
taishanLinux (openEuler 24.03 LTS) / aarch64  OK    OK    WARNINGS  


BUILD results for bandle on taishan

To the developers/maintainers of the bandle package:
- Allow up to 24 hours (and sometimes 48 hours) for your latest push to git@git.bioconductor.org:packages/bandle.git to reflect on this report. See Troubleshooting Build Report for more information.
- Use the following Renviron settings to reproduce errors and warnings.
- If 'R CMD check' started to fail recently on the Linux builder(s) over a missing dependency, add the missing dependency to 'Suggests:' in your DESCRIPTION file. See Renviron.bioc for more information.
- See Martin Grigorov's blog post for how to debug Linux ARM64 related issues on a x86_64 host.

raw results


Summary

Package: bandle
Version: 1.14.0
Command: /home/biocbuild/R/R/bin/R CMD build --keep-empty-dirs --no-resave-data bandle
StartedAt: 2025-11-17 23:36:58 -0000 (Mon, 17 Nov 2025)
EndedAt: 2025-11-17 23:43:31 -0000 (Mon, 17 Nov 2025)
EllapsedTime: 392.1 seconds
RetCode: 0
Status:   OK  
PackageFile: bandle_1.14.0.tar.gz
PackageFileSize: 2.246 MiB

Command output

##############################################################################
##############################################################################
###
### Running command:
###
###   /home/biocbuild/R/R/bin/R CMD build --keep-empty-dirs --no-resave-data bandle
###
##############################################################################
##############################################################################


* checking for file ‘bandle/DESCRIPTION’ ... OK
* preparing ‘bandle’:
* checking DESCRIPTION meta-information ... OK
* cleaning src
* installing the package to process help pages
* saving partial Rd database
* creating vignettes ... OK
* cleaning src
* checking for LF line-endings in source and make files and shell scripts
* checking for empty or unneeded directories
* building ‘bandle_1.14.0.tar.gz’