| Back to Multiple platform build/check report for BioC 3.22: simplified long |
|
This page was generated on 2025-11-04 12:03 -0500 (Tue, 04 Nov 2025).
| Hostname | OS | Arch (*) | R version | Installed pkgs |
|---|---|---|---|---|
| nebbiolo2 | Linux (Ubuntu 24.04.3 LTS) | x86_64 | 4.5.1 Patched (2025-08-23 r88802) -- "Great Square Root" | 4902 |
| lconway | macOS 12.7.6 Monterey | x86_64 | 4.5.1 Patched (2025-09-10 r88807) -- "Great Square Root" | 4692 |
| kjohnson3 | macOS 13.7.7 Ventura | arm64 | 4.5.1 Patched (2025-09-10 r88807) -- "Great Square Root" | 4638 |
| Click on any hostname to see more info about the system (e.g. compilers) (*) as reported by 'uname -p', except on Windows and Mac OS X | ||||
| Package 119/2361 | Hostname | OS / Arch | INSTALL | BUILD | CHECK | BUILD BIN | ||||||||
| autonomics 1.18.0 (landing page) Aditya Bhagwat
| nebbiolo2 | Linux (Ubuntu 24.04.3 LTS) / x86_64 | OK | OK | OK | |||||||||
| lconway | macOS 12.7.6 Monterey / x86_64 | OK | OK | OK | OK | |||||||||
| kjohnson3 | macOS 13.7.7 Ventura / arm64 | OK | OK | OK | OK | |||||||||
|
To the developers/maintainers of the autonomics package: - Allow up to 24 hours (and sometimes 48 hours) for your latest push to git@git.bioconductor.org:packages/autonomics.git to reflect on this report. See Troubleshooting Build Report for more information. - Use the following Renviron settings to reproduce errors and warnings. - If 'R CMD check' started to fail recently on the Linux builder(s) over a missing dependency, add the missing dependency to 'Suggests:' in your DESCRIPTION file. See Renviron.bioc for more information. |
| Package: autonomics |
| Version: 1.18.0 |
| Command: /Library/Frameworks/R.framework/Resources/bin/R CMD check --install=check:autonomics.install-out.txt --library=/Library/Frameworks/R.framework/Resources/library --no-vignettes --timings autonomics_1.18.0.tar.gz |
| StartedAt: 2025-11-03 19:33:34 -0500 (Mon, 03 Nov 2025) |
| EndedAt: 2025-11-03 19:56:27 -0500 (Mon, 03 Nov 2025) |
| EllapsedTime: 1372.6 seconds |
| RetCode: 0 |
| Status: OK |
| CheckDir: autonomics.Rcheck |
| Warnings: 0 |
##############################################################################
##############################################################################
###
### Running command:
###
### /Library/Frameworks/R.framework/Resources/bin/R CMD check --install=check:autonomics.install-out.txt --library=/Library/Frameworks/R.framework/Resources/library --no-vignettes --timings autonomics_1.18.0.tar.gz
###
##############################################################################
##############################################################################
* using log directory ‘/Users/biocbuild/bbs-3.22-bioc/meat/autonomics.Rcheck’
* using R version 4.5.1 Patched (2025-09-10 r88807)
* using platform: x86_64-apple-darwin20
* R was compiled by
Apple clang version 14.0.0 (clang-1400.0.29.202)
GNU Fortran (GCC) 14.2.0
* running under: macOS Monterey 12.7.6
* using session charset: UTF-8
* using option ‘--no-vignettes’
* checking for file ‘autonomics/DESCRIPTION’ ... OK
* checking extension type ... Package
* this is package ‘autonomics’ version ‘1.18.0’
* package encoding: UTF-8
* checking package namespace information ... OK
* checking package dependencies ... INFO
Imports includes 32 non-default packages.
Importing from so many packages makes the package vulnerable to any of
them becoming unavailable. Move as many as possible to Suggests and
use conditionally.
* checking if this is a source package ... OK
* checking if there is a namespace ... OK
* checking for hidden files and directories ... NOTE
Found the following hidden files and directories:
.BBSoptions
These were most likely included in error. See section ‘Package
structure’ in the ‘Writing R Extensions’ manual.
* checking for portable file names ... OK
* checking for sufficient/correct file permissions ... OK
* checking whether package ‘autonomics’ can be installed ... OK
* checking installed package size ... OK
* checking package directory ... OK
* checking ‘build’ directory ... OK
* checking DESCRIPTION meta-information ... OK
* checking top-level files ... OK
* checking for left-over files ... OK
* checking index information ... OK
* checking package subdirectories ... OK
* checking code files for non-ASCII characters ... OK
* checking R files for syntax errors ... OK
* checking whether the package can be loaded ... OK
* checking whether the package can be loaded with stated dependencies ... OK
* checking whether the package can be unloaded cleanly ... OK
* checking whether the namespace can be loaded with stated dependencies ... OK
* checking whether the namespace can be unloaded cleanly ... OK
* checking dependencies in R code ... OK
* checking S3 generic/method consistency ... OK
* checking replacement functions ... OK
* checking foreign function calls ... OK
* checking R code for possible problems ... OK
* checking Rd files ... OK
* checking Rd metadata ... OK
* checking Rd cross-references ... NOTE
Non-topic package-anchored link(s) in Rd file 'reexports.Rd':
‘[magrittr:compound]{%<>%}’ ‘[magrittr:pipe]{%>%}’
‘[magrittr:aliases]{extract}’
See section 'Cross-references' in the 'Writing R Extensions' manual.
* checking for missing documentation entries ... OK
* checking for code/documentation mismatches ... OK
* checking Rd \usage sections ... OK
* checking Rd contents ... OK
* checking for unstated dependencies in examples ... OK
* checking files in ‘vignettes’ ... OK
* checking examples ... OK
Examples with CPU (user + system) or elapsed time > 5s
user system elapsed
write_xl 174.923 8.996 239.970
read_diann_proteingroups 117.631 2.005 120.876
awblinmod 46.145 0.297 46.743
read_rnaseq_counts 34.496 3.054 38.294
LINMOD 26.095 0.323 26.563
rm_diann_contaminants 24.613 0.425 25.413
plot_exprs 24.763 0.220 25.134
plot_exprs_per_coef 22.648 0.126 22.859
default_formula 20.813 0.514 21.570
plot_volcano 16.085 0.152 16.365
read_somascan 15.922 0.168 16.310
read_metabolon 15.590 0.144 15.881
analyze 14.692 0.205 14.985
plot_summary 13.122 0.092 13.267
fit_survival 13.042 0.119 13.247
explore-transforms 12.391 0.178 12.678
plot_densities 11.977 0.175 12.226
fcluster 11.408 0.089 11.571
ftype 9.912 0.271 10.271
plot_detections 8.985 0.059 9.098
read_fragpipe 8.434 0.166 8.696
biplot_covariates 8.469 0.108 8.655
plot_xy_density 7.245 0.046 7.330
subtract_baseline 6.164 0.113 6.353
plot_subgroup_points 5.826 0.084 5.942
plot_violins 5.678 0.093 5.809
log2transform 5.656 0.097 5.811
code 5.402 0.067 5.507
extract_contrast_features 5.313 0.066 5.410
sbind 5.189 0.152 5.433
reset_fit 5.121 0.132 5.332
* checking for unstated dependencies in ‘tests’ ... OK
* checking tests ...
Running ‘testthat.R’
OK
* checking for unstated dependencies in vignettes ... OK
* checking package vignettes ... OK
* checking running R code from vignettes ... SKIPPED
* checking re-building of vignette outputs ... SKIPPED
* checking PDF version of manual ... OK
* DONE
Status: 2 NOTEs
See
‘/Users/biocbuild/bbs-3.22-bioc/meat/autonomics.Rcheck/00check.log’
for details.
autonomics.Rcheck/00install.out
############################################################################## ############################################################################## ### ### Running command: ### ### /Library/Frameworks/R.framework/Resources/bin/R CMD INSTALL autonomics ### ############################################################################## ############################################################################## * installing to library ‘/Library/Frameworks/R.framework/Versions/4.5-x86_64/Resources/library’ * installing *source* package ‘autonomics’ ... ** this is package ‘autonomics’ version ‘1.18.0’ ** using staged installation ** R ** inst ** byte-compile and prepare package for lazy loading Note: wrong number of arguments to 'seq_along' Note: wrong number of arguments to 'sqrt' ** help *** installing help indices ** building package indices ** installing vignettes ** testing if installed package can be loaded from temporary location ** testing if installed package can be loaded from final location ** testing if installed package keeps a record of temporary installation path * DONE (autonomics)
autonomics.Rcheck/tests/testthat.Rout
R version 4.5.1 Patched (2025-09-10 r88807) -- "Great Square Root"
Copyright (C) 2025 The R Foundation for Statistical Computing
Platform: x86_64-apple-darwin20
R is free software and comes with ABSOLUTELY NO WARRANTY.
You are welcome to redistribute it under certain conditions.
Type 'license()' or 'licence()' for distribution details.
R is a collaborative project with many contributors.
Type 'contributors()' for more information and
'citation()' on how to cite R or R packages in publications.
Type 'demo()' for some demos, 'help()' for on-line help, or
'help.start()' for an HTML browser interface to help.
Type 'q()' to quit R.
> library(testthat)
> library(autonomics)
Attaching package: 'autonomics'
The following objects are masked from 'package:stats':
biplot, loadings
The following object is masked from 'package:base':
beta
>
> test_check("autonomics")
[ FAIL 0 | WARN 3 | SKIP 0 | PASS 158 ]
[ FAIL 0 | WARN 3 | SKIP 0 | PASS 158 ]
>
> proc.time()
user system elapsed
146.322 10.677 189.446
autonomics.Rcheck/autonomics-Ex.timings
| name | user | system | elapsed | |
| AUTONOMICS_DATASETS | 0.000 | 0.000 | 0.001 | |
| COMPOUNDDISCOVERER_PATTERNS | 0 | 0 | 0 | |
| LINMOD | 26.095 | 0.323 | 26.563 | |
| LINMODENGINES | 0 | 0 | 0 | |
| MAXQUANT_PATTERNS | 0.000 | 0.000 | 0.001 | |
| TAXON_TO_ORGNAME | 0.000 | 0.000 | 0.001 | |
| TESTS | 0 | 0 | 0 | |
| X | 1.280 | 0.049 | 1.337 | |
| abstract_fit | 1.133 | 0.048 | 1.190 | |
| add_adjusted_pvalues | 0.582 | 0.013 | 0.601 | |
| add_assay_means | 0.418 | 0.008 | 0.429 | |
| add_facetvars | 1.630 | 0.062 | 1.703 | |
| add_opentargets_by_uniprot | 0.475 | 0.008 | 0.488 | |
| add_psp | 0.546 | 0.014 | 0.571 | |
| add_smiles | 0.514 | 0.043 | 0.563 | |
| all_non_numeric | 0.704 | 0.004 | 0.712 | |
| analysis | 0.450 | 0.006 | 0.459 | |
| analyze | 14.692 | 0.205 | 14.985 | |
| annotate_maxquant | 1.177 | 0.105 | 1.291 | |
| annotate_uniprot_rest | 0.085 | 0.012 | 1.659 | |
| assert_is_valid_sumexp | 0.602 | 0.048 | 0.660 | |
| awblinmod | 46.145 | 0.297 | 46.743 | |
| biplot | 4.117 | 0.063 | 4.200 | |
| biplot_corrections | 3.957 | 0.058 | 4.049 | |
| biplot_covariates | 8.469 | 0.108 | 8.655 | |
| block2limma | 0.003 | 0.001 | 0.003 | |
| block2lm | 0.003 | 0.001 | 0.003 | |
| block2lme | 0.002 | 0.000 | 0.003 | |
| block2lmer | 0.003 | 0.001 | 0.005 | |
| block_has_two_levels | 0.783 | 0.056 | 0.849 | |
| center | 2.247 | 0.026 | 2.299 | |
| code | 5.402 | 0.067 | 5.507 | |
| collapsed_entrezg_to_symbol | 1.078 | 0.088 | 1.179 | |
| contrast_subgroup_cols | 0.677 | 0.045 | 0.728 | |
| contrastdt | 0.688 | 0.007 | 0.701 | |
| count_in | 0.001 | 0.000 | 0.002 | |
| counts | 0.383 | 0.003 | 0.390 | |
| counts2cpm | 0.359 | 0.004 | 0.365 | |
| counts2tpm | 0.322 | 0.003 | 0.327 | |
| cpm | 0.374 | 0.004 | 0.380 | |
| create_design | 0.913 | 0.050 | 0.976 | |
| default_formula | 20.813 | 0.514 | 21.570 | |
| default_geom | 0.526 | 0.043 | 0.572 | |
| default_sfile | 0.002 | 0.000 | 0.003 | |
| demultiplex | 0.018 | 0.001 | 0.020 | |
| densities | 0.237 | 0.005 | 0.243 | |
| dequantify | 0.002 | 0.000 | 0.002 | |
| dequantify_compounddiscoverer | 0.001 | 0.000 | 0.002 | |
| dot-coxph | 0.446 | 0.050 | 0.503 | |
| dot-merge | 0.030 | 0.001 | 0.031 | |
| dot-read_maxquant_proteingroups | 0.128 | 0.006 | 0.135 | |
| download_data | 0.000 | 0.001 | 0.001 | |
| download_gtf | 0.001 | 0.000 | 0.001 | |
| download_mcclain21 | 0.001 | 0.000 | 0.001 | |
| dt2mat | 0.005 | 0.000 | 0.005 | |
| enrichment | 1.385 | 0.019 | 1.414 | |
| entrezg_to_symbol | 0.191 | 0.006 | 0.198 | |
| explore-transforms | 12.391 | 0.178 | 12.678 | |
| extract_contrast_features | 5.313 | 0.066 | 5.410 | |
| extract_rectangle | 0.153 | 0.043 | 0.200 | |
| factor.vars | 0.195 | 0.001 | 0.197 | |
| factorize | 0.938 | 0.016 | 0.959 | |
| fcluster | 11.408 | 0.089 | 11.571 | |
| fcor | 1.900 | 0.035 | 1.950 | |
| fdata | 0.699 | 0.020 | 0.723 | |
| fdr2p | 1.080 | 0.059 | 1.155 | |
| filter_exprs_replicated_in_some_subgroup | 1.151 | 0.049 | 1.213 | |
| filter_features | 0.600 | 0.043 | 0.647 | |
| filter_medoid | 0.750 | 0.006 | 0.759 | |
| filter_samples | 0.586 | 0.053 | 0.662 | |
| fit_survival | 13.042 | 0.119 | 13.247 | |
| fits | 0.341 | 0.002 | 0.346 | |
| fix_xlgenes | 0.002 | 0.001 | 0.002 | |
| flevels | 0.435 | 0.007 | 0.444 | |
| fnames | 0.509 | 0.007 | 0.517 | |
| formula2str | 0 | 0 | 0 | |
| ftype | 9.912 | 0.271 | 10.271 | |
| fvalues | 0.436 | 0.006 | 0.444 | |
| fvars | 0.447 | 0.006 | 0.455 | |
| genome_to_orgdb | 0.001 | 0.000 | 0.001 | |
| group_by_level | 0.001 | 0.000 | 0.002 | |
| guess_compounddiscoverer_quantity | 0.002 | 0.001 | 0.002 | |
| guess_fitsep | 0.564 | 0.006 | 0.573 | |
| guess_maxquant_quantity | 0.007 | 0.001 | 0.007 | |
| guess_sep | 0.548 | 0.047 | 0.601 | |
| has_multiple_levels | 0.053 | 0.003 | 0.056 | |
| hdlproteins | 0.050 | 0.031 | 0.083 | |
| impute | 3.971 | 0.030 | 4.018 | |
| invert_subgroups | 0.784 | 0.007 | 0.794 | |
| is_character_matrix | 0.150 | 0.001 | 0.152 | |
| is_collapsed_subset | 0.000 | 0.000 | 0.001 | |
| is_compounddiscoverer_output | 0.044 | 0.025 | 0.145 | |
| is_correlation_matrix | 0.001 | 0.001 | 0.001 | |
| is_diann_report | 0.087 | 0.011 | 0.098 | |
| is_fastadt | 0.066 | 0.001 | 0.068 | |
| is_file | 0.000 | 0.001 | 0.001 | |
| is_fraction | 0.002 | 0.001 | 0.002 | |
| is_fragpipe_tsv | 0.051 | 0.006 | 0.058 | |
| is_imputed | 0.829 | 0.008 | 0.840 | |
| is_maxquant_phosphosites | 0.056 | 0.006 | 0.062 | |
| is_maxquant_proteingroups | 0.052 | 0.007 | 0.060 | |
| is_positive_number | 0.002 | 0.001 | 0.003 | |
| is_scalar_subset | 0.409 | 0.006 | 0.416 | |
| is_sig | 1.531 | 0.013 | 1.694 | |
| is_valid_formula | 0.048 | 0.001 | 0.049 | |
| keep_estimable_features | 0.816 | 0.038 | 0.858 | |
| label2index | 0.000 | 0.000 | 0.001 | |
| list2mat | 0.001 | 0.000 | 0.001 | |
| log2counts | 0.366 | 0.003 | 0.372 | |
| log2cpm | 0.421 | 0.004 | 0.429 | |
| log2diffs | 0.345 | 0.007 | 0.354 | |
| log2proteins | 0.373 | 0.006 | 0.381 | |
| log2sites | 0.369 | 0.005 | 0.377 | |
| log2tpm | 0.411 | 0.003 | 0.417 | |
| log2transform | 5.656 | 0.097 | 5.811 | |
| logical2factor | 0.001 | 0.000 | 0.001 | |
| make_alpha_palette | 0.617 | 0.049 | 0.670 | |
| make_colors | 0.013 | 0.002 | 0.015 | |
| make_volcano_dt | 0.885 | 0.010 | 0.896 | |
| map_fvalues | 0.419 | 0.007 | 0.427 | |
| matrix2sumexp | 1.167 | 0.046 | 1.225 | |
| mclust_breaks | 0.589 | 0.092 | 0.685 | |
| merge_sample_file | 0.578 | 0.012 | 0.592 | |
| merge_sdata | 0.599 | 0.061 | 0.667 | |
| message_df | 0.003 | 0.000 | 0.003 | |
| model_coefs | 0.890 | 0.044 | 0.942 | |
| modelvar | 3.471 | 0.060 | 3.552 | |
| object1 | 0.527 | 0.003 | 0.531 | |
| order_on_p | 1.467 | 0.045 | 1.517 | |
| overall_parameters | 0.026 | 0.001 | 0.026 | |
| pca | 3.916 | 0.081 | 4.039 | |
| pg_to_canonical | 0.008 | 0.000 | 0.009 | |
| plot_coef_densities | 1.641 | 0.047 | 1.694 | |
| plot_contrast_venn | 2.734 | 0.051 | 2.795 | |
| plot_contrastogram | 3.281 | 0.119 | 3.426 | |
| plot_data | 1.946 | 0.061 | 2.035 | |
| plot_densities | 11.977 | 0.175 | 12.226 | |
| plot_design | 0.782 | 0.010 | 0.796 | |
| plot_detections | 8.985 | 0.059 | 9.098 | |
| plot_exprs | 24.763 | 0.220 | 25.134 | |
| plot_exprs_per_coef | 22.648 | 0.126 | 22.859 | |
| plot_fit_summary | 2.299 | 0.052 | 2.359 | |
| plot_heatmap | 1.991 | 0.010 | 2.007 | |
| plot_matrix | 0.503 | 0.042 | 0.549 | |
| plot_subgroup_points | 5.826 | 0.084 | 5.942 | |
| plot_summary | 13.122 | 0.092 | 13.267 | |
| plot_venn | 0.019 | 0.002 | 0.021 | |
| plot_venn_heatmap | 0.024 | 0.002 | 0.026 | |
| plot_violins | 5.678 | 0.093 | 5.809 | |
| plot_volcano | 16.085 | 0.152 | 16.365 | |
| plot_xy_density | 7.245 | 0.046 | 7.330 | |
| preprocess_rnaseq_counts | 0.337 | 0.003 | 0.341 | |
| pull_columns | 0.003 | 0.001 | 0.003 | |
| pvalues_estimable | 0.040 | 0.007 | 0.047 | |
| read_affymetrix | 0.000 | 0.001 | 0.001 | |
| read_diann_proteingroups | 117.631 | 2.005 | 120.876 | |
| read_fragpipe | 8.434 | 0.166 | 8.696 | |
| read_maxquant_phosphosites | 1.812 | 0.045 | 1.889 | |
| read_maxquant_proteingroups | 1.419 | 0.028 | 1.474 | |
| read_metabolon | 15.590 | 0.144 | 15.881 | |
| read_msigdt | 0.001 | 0.000 | 0.002 | |
| read_olink | 1.591 | 0.074 | 1.694 | |
| read_rectangles | 0.201 | 0.026 | 0.231 | |
| read_rnaseq_counts | 34.496 | 3.054 | 38.294 | |
| read_salmon | 0.000 | 0.000 | 0.001 | |
| read_somascan | 15.922 | 0.168 | 16.310 | |
| read_uniprotdt | 0.356 | 0.052 | 0.437 | |
| reset_fit | 5.121 | 0.132 | 5.332 | |
| rm_diann_contaminants | 24.613 | 0.425 | 25.413 | |
| rm_missing_in_some_samples | 0.582 | 0.057 | 0.661 | |
| rm_unmatched_samples | 0.819 | 0.020 | 0.848 | |
| sbind | 5.189 | 0.152 | 5.433 | |
| scaledlibsizes | 0.360 | 0.004 | 0.366 | |
| scoremat | 1.058 | 0.052 | 1.120 | |
| slevels | 0.493 | 0.009 | 0.509 | |
| snames | 0.496 | 0.011 | 0.513 | |
| split_extract_fixed | 0.728 | 0.063 | 0.805 | |
| split_samples | 1.529 | 0.131 | 1.706 | |
| stepauc | 0.407 | 0.005 | 0.417 | |
| stri_any_regex | 0 | 0 | 0 | |
| stri_detect_fixed_in_collapsed | 0.431 | 0.007 | 0.444 | |
| subgroup_matrix | 0.736 | 0.067 | 0.822 | |
| subtract_baseline | 6.164 | 0.113 | 6.353 | |
| sumexp_to_longdt | 2.041 | 0.090 | 2.160 | |
| sumexp_to_tsv | 0.631 | 0.010 | 0.648 | |
| sumexplist_to_longdt | 1.686 | 0.028 | 1.728 | |
| summarize_fit | 1.870 | 0.063 | 1.958 | |
| survobj | 0.157 | 0.001 | 0.161 | |
| svalues | 0.536 | 0.009 | 0.552 | |
| svars | 0.455 | 0.008 | 0.468 | |
| systematic_nas | 0.698 | 0.011 | 0.716 | |
| tag_features | 1.299 | 0.043 | 1.363 | |
| tag_hdlproteins | 0.733 | 0.051 | 0.793 | |
| taxon2org | 0.001 | 0.000 | 0.002 | |
| tpm | 0.450 | 0.004 | 0.459 | |
| uncollapse | 0.039 | 0.002 | 0.041 | |
| values | 0.503 | 0.016 | 0.525 | |
| varlevels_dont_clash | 0.028 | 0.001 | 0.029 | |
| venn_detects | 0.740 | 0.011 | 0.759 | |
| weights | 0.363 | 0.004 | 0.372 | |
| write_xl | 174.923 | 8.996 | 239.970 | |
| zero_to_na | 0.004 | 0.015 | 0.183 | |