| Back to Multiple platform build/check report for BioC 3.22: simplified long |
|
This page was generated on 2025-11-20 12:04 -0500 (Thu, 20 Nov 2025).
| Hostname | OS | Arch (*) | R version | Installed pkgs |
|---|---|---|---|---|
| nebbiolo2 | Linux (Ubuntu 24.04.3 LTS) | x86_64 | 4.5.2 (2025-10-31) -- "[Not] Part in a Rumble" | 4615 |
| merida1 | macOS 12.7.6 Monterey | x86_64 | 4.5.2 Patched (2025-11-05 r88990) -- "[Not] Part in a Rumble" | 4610 |
| kjohnson1 | macOS 13.7.5 Ventura | arm64 | 4.5.2 Patched (2025-11-04 r88984) -- "[Not] Part in a Rumble" | 4598 |
| taishan | Linux (openEuler 24.03 LTS) | aarch64 | 4.5.0 (2025-04-11) -- "How About a Twenty-Six" | 4668 |
| Click on any hostname to see more info about the system (e.g. compilers) (*) as reported by 'uname -p', except on Windows and Mac OS X | ||||
| Package 2/2361 | Hostname | OS / Arch | INSTALL | BUILD | CHECK | BUILD BIN | ||||||||
| a4Base 1.58.0 (landing page) Laure Cougnaud
| nebbiolo2 | Linux (Ubuntu 24.04.3 LTS) / x86_64 | OK | OK | OK | |||||||||
| merida1 | macOS 12.7.6 Monterey / x86_64 | OK | OK | OK | OK | |||||||||
| kjohnson1 | macOS 13.7.5 Ventura / arm64 | OK | OK | OK | OK | |||||||||
| taishan | Linux (openEuler 24.03 LTS) / aarch64 | OK | OK | OK | ||||||||||
|
To the developers/maintainers of the a4Base package: - Allow up to 24 hours (and sometimes 48 hours) for your latest push to git@git.bioconductor.org:packages/a4Base.git to reflect on this report. See Troubleshooting Build Report for more information. - Use the following Renviron settings to reproduce errors and warnings. - If 'R CMD check' started to fail recently on the Linux builder(s) over a missing dependency, add the missing dependency to 'Suggests:' in your DESCRIPTION file. See Renviron.bioc for more information. |
| Package: a4Base |
| Version: 1.58.0 |
| Command: /Library/Frameworks/R.framework/Resources/bin/R CMD check --install=check:a4Base.install-out.txt --library=/Library/Frameworks/R.framework/Resources/library --no-vignettes --timings a4Base_1.58.0.tar.gz |
| StartedAt: 2025-11-18 03:34:11 -0500 (Tue, 18 Nov 2025) |
| EndedAt: 2025-11-18 03:40:30 -0500 (Tue, 18 Nov 2025) |
| EllapsedTime: 379.7 seconds |
| RetCode: 0 |
| Status: OK |
| CheckDir: a4Base.Rcheck |
| Warnings: 0 |
##############################################################################
##############################################################################
###
### Running command:
###
### /Library/Frameworks/R.framework/Resources/bin/R CMD check --install=check:a4Base.install-out.txt --library=/Library/Frameworks/R.framework/Resources/library --no-vignettes --timings a4Base_1.58.0.tar.gz
###
##############################################################################
##############################################################################
* using log directory ‘/Users/biocbuild/bbs-3.22-bioc/meat/a4Base.Rcheck’
* using R version 4.5.2 Patched (2025-11-05 r88990)
* using platform: x86_64-apple-darwin20
* R was compiled by
Apple clang version 14.0.0 (clang-1400.0.29.202)
GNU Fortran (GCC) 14.2.0
* running under: macOS Monterey 12.7.6
* using session charset: UTF-8
* using option ‘--no-vignettes’
* checking for file ‘a4Base/DESCRIPTION’ ... OK
* checking extension type ... Package
* this is package ‘a4Base’ version ‘1.58.0’
* checking package namespace information ... OK
* checking package dependencies ... INFO
Package which this enhances but not available for checking: ‘JavaGD’
* checking if this is a source package ... OK
* checking if there is a namespace ... OK
* checking for hidden files and directories ... OK
* checking for portable file names ... OK
* checking for sufficient/correct file permissions ... OK
* checking whether package ‘a4Base’ can be installed ... OK
* checking installed package size ... OK
* checking package directory ... OK
* checking DESCRIPTION meta-information ... OK
* checking top-level files ... OK
* checking for left-over files ... OK
* checking index information ... OK
* checking package subdirectories ... OK
* checking code files for non-ASCII characters ... OK
* checking R files for syntax errors ... OK
* checking whether the package can be loaded ... OK
* checking whether the package can be loaded with stated dependencies ... OK
* checking whether the package can be unloaded cleanly ... OK
* checking whether the namespace can be loaded with stated dependencies ... OK
* checking whether the namespace can be unloaded cleanly ... OK
* checking whether startup messages can be suppressed ... OK
* checking dependencies in R code ... OK
* checking S3 generic/method consistency ... OK
* checking replacement functions ... OK
* checking foreign function calls ... OK
* checking R code for possible problems ... OK
* checking Rd files ... NOTE
checkRd: (-1) computeLogRatio.Rd:49-51: Lost braces in \itemize; meant \describe ?
checkRd: (-1) computeLogRatio.Rd:52-55: Lost braces in \itemize; meant \describe ?
checkRd: (-1) filterVarInt.Rd:52: Escaped LaTeX specials: \&
checkRd: (-1) histPvalue.Rd:50: Escaped LaTeX specials: \&
checkRd: (-1) lassoReg.Rd:38: Escaped LaTeX specials: \&
checkRd: (-1) plotLogRatio.Rd:166: Lost braces in \itemize; meant \describe ?
checkRd: (-1) plotLogRatio.Rd:167: Lost braces in \itemize; meant \describe ?
checkRd: (-1) plotLogRatio.Rd:168: Lost braces in \itemize; meant \describe ?
checkRd: (-1) plotLogRatio.Rd:169: Lost braces in \itemize; meant \describe ?
checkRd: (-1) plotLogRatio.Rd:170: Lost braces in \itemize; meant \describe ?
checkRd: (-1) plotLogRatio.Rd:183-185: Lost braces in \itemize; meant \describe ?
checkRd: (-1) plotLogRatio.Rd:186-191: Lost braces in \itemize; meant \describe ?
checkRd: (-1) plotLogRatio.Rd:192-200: Lost braces in \itemize; meant \describe ?
checkRd: (-1) plotLogRatio.Rd:201-203: Lost braces in \itemize; meant \describe ?
checkRd: (-1) spectralMap.Rd:49: Escaped LaTeX specials: \&
checkRd: (-1) topTable-methods.Rd:112: Lost braces in \itemize; meant \describe ?
checkRd: (-1) volcanoPlot.Rd:45: Escaped LaTeX specials: \&
* checking Rd metadata ... OK
* checking Rd cross-references ... NOTE
Non-topic package-anchored link(s) in Rd file 'a4palette.Rd':
‘[grDevices]{palettes}’
See section 'Cross-references' in the 'Writing R Extensions' manual.
Found the following Rd file(s) with Rd \link{} targets missing package
anchors:
ExpressionSetWithComputation-class.Rd: ExpressionSet-class,
eSet-class, VersionedBiobase-class, Versioned-class
combineTwoExpressionSet.Rd: ExpressionSet-class
createExpressionSet.Rd: ExpressionSet-class
Please provide package anchors for all Rd \link{} targets not in the
package itself and the base packages.
* checking for missing documentation entries ... OK
* checking for code/documentation mismatches ... OK
* checking Rd \usage sections ... OK
* checking Rd contents ... OK
* checking for unstated dependencies in examples ... OK
* checking contents of ‘data’ directory ... OK
* checking data for non-ASCII characters ... OK
* checking data for ASCII and uncompressed saves ... OK
* checking examples ... OK
Examples with CPU (user + system) or elapsed time > 5s
user system elapsed
spectralMap 13.759 0.608 16.095
computeLogRatio 9.727 0.356 10.398
plotLogRatio 9.058 0.214 10.161
* checking PDF version of manual ... OK
* DONE
Status: 2 NOTEs
See
‘/Users/biocbuild/bbs-3.22-bioc/meat/a4Base.Rcheck/00check.log’
for details.
a4Base.Rcheck/00install.out
############################################################################## ############################################################################## ### ### Running command: ### ### /Library/Frameworks/R.framework/Resources/bin/R CMD INSTALL a4Base ### ############################################################################## ############################################################################## * installing to library ‘/Library/Frameworks/R.framework/Versions/4.5-x86_64/Resources/library’ * installing *source* package ‘a4Base’ ... ** this is package ‘a4Base’ version ‘1.58.0’ ** using staged installation ** R ** data ** inst ** byte-compile and prepare package for lazy loading ** help *** installing help indices ** building package indices ** testing if installed package can be loaded from temporary location ** testing if installed package can be loaded from final location ** testing if installed package keeps a record of temporary installation path * DONE (a4Base)
a4Base.Rcheck/a4Base-Ex.timings
| name | user | system | elapsed | |
| a4palette | 0.089 | 0.004 | 0.098 | |
| addQuantilesColors | 2.296 | 0.512 | 2.855 | |
| boxPlot | 3.574 | 0.133 | 3.953 | |
| combineTwoExpressionSet | 0.001 | 0.000 | 0.000 | |
| computeLogRatio | 9.727 | 0.356 | 10.398 | |
| createExpressionSet | 0.061 | 0.001 | 0.062 | |
| filterVarInt | 3.455 | 0.152 | 3.865 | |
| heatmap.expressionSet | 0.001 | 0.005 | 0.007 | |
| histPvalue | 2.332 | 0.080 | 2.560 | |
| histpvalueplotter | 2.345 | 0.082 | 2.604 | |
| lassoReg | 2.396 | 0.076 | 2.740 | |
| logReg | 0.001 | 0.001 | 0.002 | |
| nlcvTT | 0.000 | 0.000 | 0.001 | |
| plot1gene | 2.240 | 0.079 | 2.619 | |
| plotComb2Samples | 2.406 | 0.117 | 2.736 | |
| plotCombMultSamples | 3.891 | 0.193 | 4.292 | |
| plotCombination2genes | 3.568 | 0.098 | 4.128 | |
| plotLogRatio | 9.058 | 0.214 | 10.161 | |
| probabilitiesPlot | 0.000 | 0.001 | 0.002 | |
| probe2gene | 1.927 | 0.060 | 2.185 | |
| profilesPlot | 2.204 | 0.071 | 2.387 | |
| propdegenescalculation | 2.870 | 0.104 | 3.153 | |
| replicates | 0.003 | 0.002 | 0.004 | |
| spectralMap | 13.759 | 0.608 | 16.095 | |
| tTest | 2.649 | 0.111 | 3.120 | |
| volcanoPlot | 2.883 | 0.138 | 3.340 | |