Back to Build/check report for BioC 3.22:   simplified   long
ABCDEFGHIJKLMNOPQRSTUVW[X]YZ

This page was generated on 2025-10-27 12:45 -0400 (Mon, 27 Oct 2025).

HostnameOSArch (*)R versionInstalled pkgs
kjohnson3macOS 13.7.7 Venturaarm644.5.1 Patched (2025-09-10 r88807) -- "Great Square Root" 4637
Click on any hostname to see more info about the system (e.g. compilers)      (*) as reported by 'uname -p', except on Windows and Mac OS X

All results for package XVector


To the developers/maintainers of the XVector package:
- Allow up to 24 hours (and sometimes 48 hours) for your latest push to git@git.bioconductor.org:packages/XVector.git to reflect on this report. See Troubleshooting Build Report for more information.
- Use the following Renviron settings to reproduce errors and warnings.
- If 'R CMD check' started to fail recently on the Linux builder(s) over a missing dependency, add the missing dependency to 'Suggests:' in your DESCRIPTION file. See Renviron.bioc for more information.

raw results

Package 2352/2361HostnameOS / ArchINSTALLBUILDCHECKBUILD BIN
XVector 0.49.1  (landing page)
Hervé Pagès
Snapshot Date: 2025-10-26 13:45 -0400 (Sun, 26 Oct 2025)
git_url: https://git.bioconductor.org/packages/XVector
git_branch: devel
git_last_commit: 7d24a2f
git_last_commit_date: 2025-09-12 22:15:39 -0400 (Fri, 12 Sep 2025)
kjohnson3macOS 13.7.7 Ventura / arm64  OK    OK    WARNINGS    OK  UNNEEDED, same version is already published



Results for Bioconductor software packages that depend directly on package XVector

QUICK STATSOS / ArchINSTALLBUILDCHECKBUILD BIN
kjohnson3macOS 13.7.7 Ventura / arm64
0037
0433
02922
0033
Package 1/37HostnameOS / ArchINSTALLBUILDCHECKBUILD BIN
Bioc.gff 0.99.17  (landing page)
Bioconductor Package Maintainer
git_last_commit: 1ce509f
git_last_commit_date: 2025-09-24 15:16:02 -0400
kjohnson3macOS 13.7.7 Ventura / arm64  OK    OK    OK    OK  UNNEEDED, same version is already published
Package 2/37HostnameOS / ArchINSTALLBUILDCHECKBUILD BIN
Biostrings 2.77.2  (landing page)
Hervé Pagès
git_last_commit: 1cd36a2
git_last_commit_date: 2025-06-20 19:02:27 -0400
kjohnson3macOS 13.7.7 Ventura / arm64  OK    OK    WARNINGS    OK  UNNEEDED, same version is already published
Package 3/37HostnameOS / ArchINSTALLBUILDCHECKBUILD BIN
BSgenome 1.77.3  (landing page)
Hervé Pagès
git_last_commit: f8673f2
git_last_commit_date: 2025-10-24 18:47:19 -0400
kjohnson3macOS 13.7.7 Ventura / arm64  OK    OK    WARNINGS    OK  YES
Package 4/37HostnameOS / ArchINSTALLBUILDCHECKBUILD BIN
ChIPsim 1.63.0  (landing page)
Peter Humburg
git_last_commit: 3115ee6
git_last_commit_date: 2025-04-15 09:45:35 -0400
kjohnson3macOS 13.7.7 Ventura / arm64  OK    OK    OK    OK  UNNEEDED, same version is already published
Package 5/37HostnameOS / ArchINSTALLBUILDCHECKBUILD BIN
CNEr 1.45.2  (landing page)
Boris Lenhard Damir Baranasic
git_last_commit: a1ee436
git_last_commit_date: 2025-08-05 09:16:50 -0400
kjohnson3macOS 13.7.7 Ventura / arm64  OK    OK    ERROR    OK  
Package 6/37HostnameOS / ArchINSTALLBUILDCHECKBUILD BIN
compEpiTools 1.43.1  (landing page)
Mattia Furlan
git_last_commit: 20725e2
git_last_commit_date: 2025-07-22 22:36:26 -0400
kjohnson3macOS 13.7.7 Ventura / arm64  OK    OK    OK    OK  UNNEEDED, same version is already published
Package 7/37HostnameOS / ArchINSTALLBUILDCHECKBUILD BIN
crisprScore 1.13.1  (landing page)
Jean-Philippe Fortin
git_last_commit: 0e5cd77
git_last_commit_date: 2025-07-09 14:10:44 -0400
kjohnson3macOS 13.7.7 Ventura / arm64  OK    OK    OK    OK  UNNEEDED, same version is already published
Package 8/37HostnameOS / ArchINSTALLBUILDCHECKBUILD BIN
CRISPRseek 1.49.2  (landing page)
Lihua Julie Zhu
git_last_commit: cc307ea
git_last_commit_date: 2025-10-17 16:40:04 -0400
kjohnson3macOS 13.7.7 Ventura / arm64  OK    OK    OK    OK  UNNEEDED, same version is already published
Package 9/37HostnameOS / ArchINSTALLBUILDCHECKBUILD BIN
dada2 1.37.0  (landing page)
Benjamin Callahan
git_last_commit: d5d062a
git_last_commit_date: 2025-04-15 10:58:46 -0400
kjohnson3macOS 13.7.7 Ventura / arm64  OK    OK    WARNINGS    OK  UNNEEDED, same version is already published
Package 10/37HostnameOS / ArchINSTALLBUILDCHECKBUILD BIN
DECIPHER 3.5.1  (landing page)
Erik Wright
git_last_commit: 7f72453
git_last_commit_date: 2025-10-24 20:54:22 -0400
kjohnson3macOS 13.7.7 Ventura / arm64  OK    OK    OK    OK  UNNEEDED, same version is already published
Package 11/37HostnameOS / ArchINSTALLBUILDCHECKBUILD BIN
gcrma 2.81.0  (landing page)
Z. Wu
git_last_commit: e116657
git_last_commit_date: 2025-04-15 09:16:37 -0400
kjohnson3macOS 13.7.7 Ventura / arm64  OK    OK    OK    OK  UNNEEDED, same version is already published
Package 12/37HostnameOS / ArchINSTALLBUILDCHECKBUILD BIN
GenomAutomorphism 1.11.2  (landing page)
Robersy Sanchez
git_last_commit: 85d32ad
git_last_commit_date: 2025-07-28 14:45:12 -0400
kjohnson3macOS 13.7.7 Ventura / arm64  OK    OK    OK    OK  UNNEEDED, same version is already published
Package 13/37HostnameOS / ArchINSTALLBUILDCHECKBUILD BIN
GenomicFeatures 1.61.8  (landing page)
H. Pagès
git_last_commit: 19115ae
git_last_commit_date: 2025-10-25 20:07:48 -0400
kjohnson3macOS 13.7.7 Ventura / arm64  OK    OK    OK    OK  YES
Package 14/37HostnameOS / ArchINSTALLBUILDCHECKBUILD BIN
Gviz 1.53.1  (landing page)
Robert Ivanek
git_last_commit: 4e222f2
git_last_commit_date: 2025-06-20 19:26:59 -0400
kjohnson3macOS 13.7.7 Ventura / arm64  OK    OK    OK    OK  UNNEEDED, same version is already published
Package 15/37HostnameOS / ArchINSTALLBUILDCHECKBUILD BIN
HiLDA 1.23.0  (landing page)
Zhi Yang
git_last_commit: 3f1663e
git_last_commit_date: 2025-04-15 11:48:10 -0400
kjohnson3macOS 13.7.7 Ventura / arm64  OK    OK    OK    OK  UNNEEDED, same version is already published
Package 16/37HostnameOS / ArchINSTALLBUILDCHECKBUILD BIN
IONiseR 2.33.0  (landing page)
Mike Smith
git_last_commit: 2f8ae1c
git_last_commit_date: 2025-04-15 10:51:43 -0400
kjohnson3macOS 13.7.7 Ventura / arm64  OK    OK    OK    OK  UNNEEDED, same version is already published
Package 17/37HostnameOS / ArchINSTALLBUILDCHECKBUILD BIN
IsoformSwitchAnalyzeR 2.9.1  (landing page)
Kristoffer Vitting-Seerup
git_last_commit: 14077ce
git_last_commit_date: 2025-07-22 21:32:31 -0400
kjohnson3macOS 13.7.7 Ventura / arm64  OK    ERROR  skippedskipped
Package 18/37HostnameOS / ArchINSTALLBUILDCHECKBUILD BIN
kebabs 1.43.1  (landing page)
Ulrich Bodenhofer
git_last_commit: fd08123
git_last_commit_date: 2025-09-19 06:55:49 -0400
kjohnson3macOS 13.7.7 Ventura / arm64  OK    OK    OK    OK  UNNEEDED, same version is already published
Package 19/37HostnameOS / ArchINSTALLBUILDCHECKBUILD BIN
MatrixRider 1.41.0  (landing page)
Elena Grassi
git_last_commit: 10b2c8c
git_last_commit_date: 2025-04-15 10:49:00 -0400
kjohnson3macOS 13.7.7 Ventura / arm64  OK    OK    WARNINGS    OK  UNNEEDED, same version is already published
Package 20/37HostnameOS / ArchINSTALLBUILDCHECKBUILD BIN
Modstrings 1.25.0  (landing page)
Felix G.M. Ernst
git_last_commit: 903d279
git_last_commit_date: 2025-09-23 07:52:32 -0400
kjohnson3macOS 13.7.7 Ventura / arm64  OK    OK    OK    OK  UNNEEDED, same version is already published
Package 21/37HostnameOS / ArchINSTALLBUILDCHECKBUILD BIN
monaLisa 1.15.3  (landing page)
Michael Stadler
git_last_commit: 8680623
git_last_commit_date: 2025-09-12 04:39:42 -0400
kjohnson3macOS 13.7.7 Ventura / arm64  OK    OK    OK    OK  UNNEEDED, same version is already published
Package 22/37HostnameOS / ArchINSTALLBUILDCHECKBUILD BIN
ProteoDisco 1.15.1  (landing page)
Job van Riet
git_last_commit: f476f1c
git_last_commit_date: 2025-07-22 13:55:49 -0400
kjohnson3macOS 13.7.7 Ventura / arm64  OK    OK    WARNINGS    OK  UNNEEDED, same version is already published
Package 23/37HostnameOS / ArchINSTALLBUILDCHECKBUILD BIN
pwalign 1.5.0  (landing page)
Hervé Pagès
git_last_commit: 14d95d5
git_last_commit_date: 2025-04-15 13:32:59 -0400
kjohnson3macOS 13.7.7 Ventura / arm64  OK    OK    OK    OK  UNNEEDED, same version is already published
Package 24/37HostnameOS / ArchINSTALLBUILDCHECKBUILD BIN
R453Plus1Toolbox 1.59.0  (landing page)
Hans-Ulrich Klein
git_last_commit: edf5064
git_last_commit_date: 2025-04-15 10:00:59 -0400
kjohnson3macOS 13.7.7 Ventura / arm64  OK    ERROR  skippedskipped
Package 25/37HostnameOS / ArchINSTALLBUILDCHECKBUILD BIN
ribosomeProfilingQC 1.21.2  (landing page)
Jianhong Ou
git_last_commit: 155968b
git_last_commit_date: 2025-07-23 16:29:57 -0400
kjohnson3macOS 13.7.7 Ventura / arm64  OK    OK    OK    OK  UNNEEDED, same version is already published
Package 26/37HostnameOS / ArchINSTALLBUILDCHECKBUILD BIN
Rsamtools 2.25.3  (landing page)
Bioconductor Package Maintainer
git_last_commit: 47580de
git_last_commit_date: 2025-09-02 20:47:55 -0400
kjohnson3macOS 13.7.7 Ventura / arm64  OK    OK    ERROR    OK  
Package 27/37HostnameOS / ArchINSTALLBUILDCHECKBUILD BIN
rtracklayer 1.69.1  (landing page)
Michael Lawrence
git_last_commit: 589f5be
git_last_commit_date: 2025-10-25 13:50:39 -0400
kjohnson3macOS 13.7.7 Ventura / arm64  OK    ERROR  skippedskipped
Package 28/37HostnameOS / ArchINSTALLBUILDCHECKBUILD BIN
ShortRead 1.67.1  (landing page)
Bioconductor Package Maintainer
git_last_commit: d2f69b8
git_last_commit_date: 2025-07-24 19:09:36 -0400
kjohnson3macOS 13.7.7 Ventura / arm64  OK    OK    WARNINGS    OK  UNNEEDED, same version is already published
Package 29/37HostnameOS / ArchINSTALLBUILDCHECKBUILD BIN
SparseArray 1.9.1  (landing page)
Hervé Pagès
git_last_commit: 2dd1bf9
git_last_commit_date: 2025-08-28 22:55:59 -0400
kjohnson3macOS 13.7.7 Ventura / arm64  OK    ERROR  skippedskipped
Package 30/37HostnameOS / ArchINSTALLBUILDCHECKBUILD BIN
Structstrings 1.25.3  (landing page)
Felix G.M. Ernst
git_last_commit: 2deed71
git_last_commit_date: 2025-09-23 06:58:09 -0400
kjohnson3macOS 13.7.7 Ventura / arm64  OK    OK    OK    OK  UNNEEDED, same version is already published
Package 31/37HostnameOS / ArchINSTALLBUILDCHECKBUILD BIN
TFBSTools 1.47.1  (landing page)
Ge Tan
git_last_commit: 7e01146
git_last_commit_date: 2025-07-22 16:13:34 -0400
kjohnson3macOS 13.7.7 Ventura / arm64  OK    OK    OK    OK  UNNEEDED, same version is already published
Package 32/37HostnameOS / ArchINSTALLBUILDCHECKBUILD BIN
tracktables 1.43.0  (landing page)
Tom Carroll
git_last_commit: 04e6d1b
git_last_commit_date: 2025-04-15 10:36:01 -0400
kjohnson3macOS 13.7.7 Ventura / arm64  OK    OK    WARNINGS    OK  UNNEEDED, same version is already published
Package 33/37HostnameOS / ArchINSTALLBUILDCHECKBUILD BIN
triplex 1.49.0  (landing page)
Jiri Hon
git_last_commit: 7c99430
git_last_commit_date: 2025-04-15 10:23:57 -0400
kjohnson3macOS 13.7.7 Ventura / arm64  OK    OK    WARNINGS    OK  UNNEEDED, same version is already published
Package 34/37HostnameOS / ArchINSTALLBUILDCHECKBUILD BIN
tRNA 1.27.1  (landing page)
Felix GM Ernst
git_last_commit: 0529013
git_last_commit_date: 2025-09-23 06:45:15 -0400
kjohnson3macOS 13.7.7 Ventura / arm64  OK    OK    OK    OK  UNNEEDED, same version is already published
Package 35/37HostnameOS / ArchINSTALLBUILDCHECKBUILD BIN
tRNAscanImport 1.29.1  (landing page)
Felix G.M. Ernst
git_last_commit: eb2703a
git_last_commit_date: 2025-09-23 06:56:30 -0400
kjohnson3macOS 13.7.7 Ventura / arm64  OK    OK    OK    OK  UNNEEDED, same version is already published
Package 36/37HostnameOS / ArchINSTALLBUILDCHECKBUILD BIN
VariantAnnotation 1.55.2  (landing page)
Bioconductor Package Maintainer
git_last_commit: af7ae49
git_last_commit_date: 2025-10-16 09:31:22 -0400
kjohnson3macOS 13.7.7 Ventura / arm64  OK    OK    WARNINGS    OK  UNNEEDED, same version is already published
Package 37/37HostnameOS / ArchINSTALLBUILDCHECKBUILD BIN
VariantFiltering 1.45.3  (landing page)
Robert Castelo
git_last_commit: cafa29d
git_last_commit_date: 2025-10-21 01:31:25 -0400
kjohnson3macOS 13.7.7 Ventura / arm64  OK    OK    OK    OK  UNNEEDED, same version is already published