Back to Multiple platform build/check report for BioC 3.22:   simplified   long
ABCDEFGHIJKLMNOPQRS[T]UVWXYZ

This page was generated on 2025-10-28 12:04 -0400 (Tue, 28 Oct 2025).

HostnameOSArch (*)R versionInstalled pkgs
nebbiolo2Linux (Ubuntu 24.04.3 LTS)x86_644.5.1 Patched (2025-08-23 r88802) -- "Great Square Root" 4901
lconwaymacOS 12.7.6 Montereyx86_644.5.1 Patched (2025-09-10 r88807) -- "Great Square Root" 4691
kjohnson3macOS 13.7.7 Venturaarm644.5.1 Patched (2025-09-10 r88807) -- "Great Square Root" 4637
Click on any hostname to see more info about the system (e.g. compilers)      (*) as reported by 'uname -p', except on Windows and Mac OS X

Package 2186/2361HostnameOS / ArchINSTALLBUILDCHECKBUILD BIN
TargetSearch 2.11.1  (landing page)
Alvaro Cuadros-Inostroza
Snapshot Date: 2025-10-27 13:45 -0400 (Mon, 27 Oct 2025)
git_url: https://git.bioconductor.org/packages/TargetSearch
git_branch: devel
git_last_commit: 1b0a5f9
git_last_commit_date: 2025-10-25 13:50:40 -0400 (Sat, 25 Oct 2025)
nebbiolo2Linux (Ubuntu 24.04.3 LTS) / x86_64  OK    OK    OK  UNNEEDED, same version is already published
lconwaymacOS 12.7.6 Monterey / x86_64  OK    OK    OK    OK  UNNEEDED, same version is already published
kjohnson3macOS 13.7.7 Ventura / arm64  OK    OK    OK    OK  UNNEEDED, same version is already published


CHECK results for TargetSearch on lconway

To the developers/maintainers of the TargetSearch package:
- Allow up to 24 hours (and sometimes 48 hours) for your latest push to git@git.bioconductor.org:packages/TargetSearch.git to reflect on this report. See Troubleshooting Build Report for more information.
- Use the following Renviron settings to reproduce errors and warnings.
- If 'R CMD check' started to fail recently on the Linux builder(s) over a missing dependency, add the missing dependency to 'Suggests:' in your DESCRIPTION file. See Renviron.bioc for more information.

raw results


Summary

Package: TargetSearch
Version: 2.11.1
Command: /Library/Frameworks/R.framework/Resources/bin/R CMD check --install=check:TargetSearch.install-out.txt --library=/Library/Frameworks/R.framework/Resources/library --no-vignettes --timings TargetSearch_2.11.1.tar.gz
StartedAt: 2025-10-28 01:17:55 -0400 (Tue, 28 Oct 2025)
EndedAt: 2025-10-28 01:19:35 -0400 (Tue, 28 Oct 2025)
EllapsedTime: 99.8 seconds
RetCode: 0
Status:   OK  
CheckDir: TargetSearch.Rcheck
Warnings: 0

Command output

##############################################################################
##############################################################################
###
### Running command:
###
###   /Library/Frameworks/R.framework/Resources/bin/R CMD check --install=check:TargetSearch.install-out.txt --library=/Library/Frameworks/R.framework/Resources/library --no-vignettes --timings TargetSearch_2.11.1.tar.gz
###
##############################################################################
##############################################################################


* using log directory ‘/Users/biocbuild/bbs-3.22-bioc/meat/TargetSearch.Rcheck’
* using R version 4.5.1 Patched (2025-09-10 r88807)
* using platform: x86_64-apple-darwin20
* R was compiled by
    Apple clang version 14.0.0 (clang-1400.0.29.202)
    GNU Fortran (GCC) 14.2.0
* running under: macOS Monterey 12.7.6
* using session charset: UTF-8
* using option ‘--no-vignettes’
* checking for file ‘TargetSearch/DESCRIPTION’ ... OK
* checking extension type ... Package
* this is package ‘TargetSearch’ version ‘2.11.1’
* checking package namespace information ... OK
* checking package dependencies ... OK
* checking if this is a source package ... OK
* checking if there is a namespace ... OK
* checking for hidden files and directories ... OK
* checking for portable file names ... OK
* checking for sufficient/correct file permissions ... OK
* checking whether package ‘TargetSearch’ can be installed ... OK
* used C compiler: ‘Apple clang version 14.0.0 (clang-1400.0.29.202)’
* used SDK: ‘MacOSX11.3.1.sdk’
* checking installed package size ... OK
* checking package directory ... OK
* checking ‘build’ directory ... OK
* checking DESCRIPTION meta-information ... OK
* checking top-level files ... OK
* checking for left-over files ... OK
* checking index information ... OK
* checking package subdirectories ... OK
* checking code files for non-ASCII characters ... OK
* checking R files for syntax errors ... OK
* checking whether the package can be loaded ... OK
* checking whether the package can be loaded with stated dependencies ... OK
* checking whether the package can be unloaded cleanly ... OK
* checking whether the namespace can be loaded with stated dependencies ... OK
* checking whether the namespace can be unloaded cleanly ... OK
* checking dependencies in R code ... OK
* checking S3 generic/method consistency ... OK
* checking replacement functions ... OK
* checking foreign function calls ... OK
* checking R code for possible problems ... OK
* checking Rd files ... OK
* checking Rd metadata ... OK
* checking Rd cross-references ... OK
* checking for missing documentation entries ... OK
* checking for code/documentation mismatches ... OK
* checking Rd \usage sections ... OK
* checking Rd contents ... OK
* checking for unstated dependencies in examples ... OK
* checking contents of ‘data’ directory ... OK
* checking data for non-ASCII characters ... OK
* checking data for ASCII and uncompressed saves ... OK
* checking line endings in C/C++/Fortran sources/headers ... OK
* checking compiled code ... NOTE
Note: information on .o files is not available
* checking sizes of PDF files under ‘inst/doc’ ... OK
* checking installed files from ‘inst/doc’ ... OK
* checking files in ‘vignettes’ ... OK
* checking examples ... OK
Examples with CPU (user + system) or elapsed time > 5s
           user system elapsed
RIcorrect 12.55  2.378  15.141
* checking for unstated dependencies in ‘tests’ ... OK
* checking tests ...
  Running ‘tinytest.R’
 OK
* checking for unstated dependencies in vignettes ... OK
* checking package vignettes ... OK
* checking running R code from vignettes ... SKIPPED
* checking re-building of vignette outputs ... SKIPPED
* checking PDF version of manual ... OK
* DONE

Status: 1 NOTE
See
  ‘/Users/biocbuild/bbs-3.22-bioc/meat/TargetSearch.Rcheck/00check.log’
for details.


Installation output

TargetSearch.Rcheck/00install.out

##############################################################################
##############################################################################
###
### Running command:
###
###   /Library/Frameworks/R.framework/Resources/bin/R CMD INSTALL TargetSearch
###
##############################################################################
##############################################################################


* installing to library ‘/Library/Frameworks/R.framework/Versions/4.5-x86_64/Resources/library’
* installing *source* package ‘TargetSearch’ ...
** this is package ‘TargetSearch’ version ‘2.11.1’
** using staged installation
** libs
using C compiler: ‘Apple clang version 14.0.0 (clang-1400.0.29.202)’
using SDK: ‘MacOSX11.3.1.sdk’
clang -arch x86_64 -I"/Library/Frameworks/R.framework/Resources/include" -DNDEBUG   -I/opt/R/x86_64/include    -fPIC  -falign-functions=64 -Wall -g -O2  -c Rinit.c -o Rinit.o
clang -arch x86_64 -I"/Library/Frameworks/R.framework/Resources/include" -DNDEBUG   -I/opt/R/x86_64/include    -fPIC  -falign-functions=64 -Wall -g -O2  -c baseline.c -o baseline.o
clang -arch x86_64 -I"/Library/Frameworks/R.framework/Resources/include" -DNDEBUG   -I/opt/R/x86_64/include    -fPIC  -falign-functions=64 -Wall -g -O2  -c detection.c -o detection.o
clang -arch x86_64 -I"/Library/Frameworks/R.framework/Resources/include" -DNDEBUG   -I/opt/R/x86_64/include    -fPIC  -falign-functions=64 -Wall -g -O2  -c file.c -o file.o
clang -arch x86_64 -I"/Library/Frameworks/R.framework/Resources/include" -DNDEBUG   -I/opt/R/x86_64/include    -fPIC  -falign-functions=64 -Wall -g -O2  -c find.c -o find.o
clang -arch x86_64 -I"/Library/Frameworks/R.framework/Resources/include" -DNDEBUG   -I/opt/R/x86_64/include    -fPIC  -falign-functions=64 -Wall -g -O2  -c get_line.c -o get_line.o
clang -arch x86_64 -I"/Library/Frameworks/R.framework/Resources/include" -DNDEBUG   -I/opt/R/x86_64/include    -fPIC  -falign-functions=64 -Wall -g -O2  -c hpf.c -o hpf.o
clang -arch x86_64 -I"/Library/Frameworks/R.framework/Resources/include" -DNDEBUG   -I/opt/R/x86_64/include    -fPIC  -falign-functions=64 -Wall -g -O2  -c matrix.c -o matrix.o
clang -arch x86_64 -I"/Library/Frameworks/R.framework/Resources/include" -DNDEBUG   -I/opt/R/x86_64/include    -fPIC  -falign-functions=64 -Wall -g -O2  -c ncdf.c -o ncdf.o
clang -arch x86_64 -I"/Library/Frameworks/R.framework/Resources/include" -DNDEBUG   -I/opt/R/x86_64/include    -fPIC  -falign-functions=64 -Wall -g -O2  -c peak.c -o peak.o
clang -arch x86_64 -I"/Library/Frameworks/R.framework/Resources/include" -DNDEBUG   -I/opt/R/x86_64/include    -fPIC  -falign-functions=64 -Wall -g -O2  -c spectrum.c -o spectrum.o
clang -arch x86_64 -I"/Library/Frameworks/R.framework/Resources/include" -DNDEBUG   -I/opt/R/x86_64/include    -fPIC  -falign-functions=64 -Wall -g -O2  -c strutils.c -o strutils.o
clang -arch x86_64 -I"/Library/Frameworks/R.framework/Resources/include" -DNDEBUG   -I/opt/R/x86_64/include    -fPIC  -falign-functions=64 -Wall -g -O2  -c utils.c -o utils.o
clang -arch x86_64 -dynamiclib -Wl,-headerpad_max_install_names -undefined dynamic_lookup -L/Library/Frameworks/R.framework/Resources/lib -L/opt/R/x86_64/lib -o TargetSearch.so Rinit.o baseline.o detection.o file.o find.o get_line.o hpf.o matrix.o ncdf.o peak.o spectrum.o strutils.o utils.o -F/Library/Frameworks/R.framework/.. -framework R
installing to /Library/Frameworks/R.framework/Versions/4.5-x86_64/Resources/library/00LOCK-TargetSearch/00new/TargetSearch/libs
** R
** data
** inst
** byte-compile and prepare package for lazy loading
** help
*** installing help indices
** building package indices
** installing vignettes
** testing if installed package can be loaded from temporary location
** checking absolute paths in shared objects and dynamic libraries
** testing if installed package can be loaded from final location
** testing if installed package keeps a record of temporary installation path
* DONE (TargetSearch)

Tests output

TargetSearch.Rcheck/tests/tinytest.Rout


R version 4.5.1 Patched (2025-09-10 r88807) -- "Great Square Root"
Copyright (C) 2025 The R Foundation for Statistical Computing
Platform: x86_64-apple-darwin20

R is free software and comes with ABSOLUTELY NO WARRANTY.
You are welcome to redistribute it under certain conditions.
Type 'license()' or 'licence()' for distribution details.

R is a collaborative project with many contributors.
Type 'contributors()' for more information and
'citation()' on how to cite R or R packages in publications.

Type 'demo()' for some demos, 'help()' for on-line help, or
'help.start()' for an HTML browser interface to help.
Type 'q()' to quit R.

> if ( requireNamespace("tinytest", quietly=TRUE) && requireNamespace("TargetSearchData", quietly=TRUE)) {
+     tinytest::test_package("TargetSearch", color=FALSE, verbose=1)
+ }
Loading required package: TargetSearchData

test_FindAllPeaks.R...........   19 tests OK  1.8s
FAMEs were saved in /tmp/RtmpmJPY5g/fileb2512522064b.pdf
FAMEs were saved in /tmp/RtmpmJPY5g/fileb2512522064b.pdf
FAMEs were saved in /tmp/RtmpmJPY5g/fileb2512522064b.pdf
FAMEs were saved in /tmp/RtmpmJPY5g/fileb2512522064b.pdf

test_fameoutliers.R...........    5 tests OK  96ms

test_file.R...................    4 tests OK  0.1s

test_import_fame.R............   14 tests OK  25ms

test_import_library.R.........   15 tests OK  0.1s

test_ncdf4_plot_peak.R........    7 tests OK  0.4s

test_quantMatrix.R............    8 tests OK  36ms

test_ri_data_extract.R........    6 tests OK  5.0s

test_ri_plot_peak.R...........   22 tests OK  0.2s

test_ricorrect.R..............    5 tests OK  0.5s

test_tsLib.R..................   30 tests OK  0.1s

test_tsProfile.R..............   12 tests OK  15ms

test_tsRim.R..................    9 tests OK  6ms

test_tsSample.R...............   19 tests OK  58ms

test_write_ri_file.R..........    6 tests OK  13ms
All ok, 181 results (8.5s)
> 
> proc.time()
   user  system elapsed 
  8.282   0.421   8.919 

Example timings

TargetSearch.Rcheck/TargetSearch-Ex.timings

nameusersystemelapsed
FAMEoutliers0.0770.0170.096
FindAllPeaks1.3370.0661.427
FindPeaks0.2190.0090.231
ImportFameSettings0.0100.0010.012
ImportLibrary0.0250.0020.028
ImportSamples0.0100.0010.012
NetCDFPeakFinding0.2430.0300.277
Profile0.9040.0280.936
ProfileCleanUp0.8300.0260.863
RIcorrect12.550 2.37815.141
TSExample1.7680.3002.089
Write.Results0.0550.0110.067
baseline0.2910.0180.310
baselineCorrection0.3230.0220.348
baselineCorrectionQuant0.3750.0280.404
checkRimLim1.1860.0791.272
file0.0890.0140.103
fixRI1.2240.0971.329
makeIndex0.0030.0020.005
medianRILib0.4820.0230.509
ncdf4Convert-method0.0870.0170.104
ncdf4_convert0.0240.0020.026
ncdf4_convert_from_path2.5541.0213.668
ncdf4_data_extract0.4260.2400.702
ncdf4_plot_peak1.1870.4351.645
ncdf4_update_ri0.3120.0510.366
peakCDFextraction0.5590.0670.630
peakFind0.2460.0170.264
plotFAME0.0070.0030.012
plotPeak0.2490.0200.271
plotPeakRI0.9430.0481.002
plotPeakSimple0.4760.0430.530
plotRIdev0.4110.0280.441
plotRefSpectra0.0910.0070.099
plotSpectra0.2610.0170.280
quantMatrix0.8220.0410.869
ri2rt0.0040.0000.005
riMatrix1.0680.0681.142
ri_data_extract0.0520.0040.055
ri_plot_peak1.3970.0701.487
rt2ri0.0030.0010.003
sampleRI0.4770.0310.512
tsLib-class0.0200.0020.022
tsMSdata-class0.010.020.03
tsProfile-class0.0060.0030.009
tsRim-class0.0020.0010.002
tsSample-class0.0170.0020.019
tsUpdate-method0.0010.0000.000
updateRI0.9470.1151.071
writeLibText0.0270.0010.029
writeMSP0.0170.0030.020