| Back to Multiple platform build/check report for BioC 3.22: simplified long |
|
This page was generated on 2025-11-20 12:07 -0500 (Thu, 20 Nov 2025).
| Hostname | OS | Arch (*) | R version | Installed pkgs |
|---|---|---|---|---|
| nebbiolo2 | Linux (Ubuntu 24.04.3 LTS) | x86_64 | 4.5.2 (2025-10-31) -- "[Not] Part in a Rumble" | 4615 |
| merida1 | macOS 12.7.6 Monterey | x86_64 | 4.5.2 Patched (2025-11-05 r88990) -- "[Not] Part in a Rumble" | 4610 |
| kjohnson1 | macOS 13.7.5 Ventura | arm64 | 4.5.2 Patched (2025-11-04 r88984) -- "[Not] Part in a Rumble" | 4598 |
| taishan | Linux (openEuler 24.03 LTS) | aarch64 | 4.5.0 (2025-04-11) -- "How About a Twenty-Six" | 4668 |
| Click on any hostname to see more info about the system (e.g. compilers) (*) as reported by 'uname -p', except on Windows and Mac OS X | ||||
| Package 2186/2361 | Hostname | OS / Arch | INSTALL | BUILD | CHECK | BUILD BIN | ||||||||
| TargetSearch 2.12.0 (landing page) Alvaro Cuadros-Inostroza
| nebbiolo2 | Linux (Ubuntu 24.04.3 LTS) / x86_64 | OK | OK | OK | |||||||||
| merida1 | macOS 12.7.6 Monterey / x86_64 | OK | OK | OK | OK | |||||||||
| kjohnson1 | macOS 13.7.5 Ventura / arm64 | OK | OK | OK | OK | |||||||||
| taishan | Linux (openEuler 24.03 LTS) / aarch64 | OK | OK | OK | ||||||||||
|
To the developers/maintainers of the TargetSearch package: - Allow up to 24 hours (and sometimes 48 hours) for your latest push to git@git.bioconductor.org:packages/TargetSearch.git to reflect on this report. See Troubleshooting Build Report for more information. - Use the following Renviron settings to reproduce errors and warnings. - If 'R CMD check' started to fail recently on the Linux builder(s) over a missing dependency, add the missing dependency to 'Suggests:' in your DESCRIPTION file. See Renviron.bioc for more information. |
| Package: TargetSearch |
| Version: 2.12.0 |
| Command: /Library/Frameworks/R.framework/Resources/bin/R CMD check --install=check:TargetSearch.install-out.txt --library=/Library/Frameworks/R.framework/Resources/library --no-vignettes --timings TargetSearch_2.12.0.tar.gz |
| StartedAt: 2025-11-18 14:02:49 -0500 (Tue, 18 Nov 2025) |
| EndedAt: 2025-11-18 14:03:35 -0500 (Tue, 18 Nov 2025) |
| EllapsedTime: 45.4 seconds |
| RetCode: 0 |
| Status: OK |
| CheckDir: TargetSearch.Rcheck |
| Warnings: 0 |
##############################################################################
##############################################################################
###
### Running command:
###
### /Library/Frameworks/R.framework/Resources/bin/R CMD check --install=check:TargetSearch.install-out.txt --library=/Library/Frameworks/R.framework/Resources/library --no-vignettes --timings TargetSearch_2.12.0.tar.gz
###
##############################################################################
##############################################################################
* using log directory ‘/Users/biocbuild/bbs-3.22-bioc/meat/TargetSearch.Rcheck’
* using R version 4.5.2 Patched (2025-11-04 r88984)
* using platform: aarch64-apple-darwin20
* R was compiled by
Apple clang version 16.0.0 (clang-1600.0.26.6)
GNU Fortran (GCC) 14.2.0
* running under: macOS Ventura 13.7.8
* using session charset: UTF-8
* using option ‘--no-vignettes’
* checking for file ‘TargetSearch/DESCRIPTION’ ... OK
* checking extension type ... Package
* this is package ‘TargetSearch’ version ‘2.12.0’
* checking package namespace information ... OK
* checking package dependencies ... OK
* checking if this is a source package ... OK
* checking if there is a namespace ... OK
* checking for hidden files and directories ... OK
* checking for portable file names ... OK
* checking for sufficient/correct file permissions ... OK
* checking whether package ‘TargetSearch’ can be installed ... OK
* used C compiler: ‘Apple clang version 15.0.0 (clang-1500.0.40.1)’
* used SDK: ‘MacOSX11.3.1.sdk’
* checking installed package size ... OK
* checking package directory ... OK
* checking ‘build’ directory ... OK
* checking DESCRIPTION meta-information ... OK
* checking top-level files ... OK
* checking for left-over files ... OK
* checking index information ... OK
* checking package subdirectories ... OK
* checking code files for non-ASCII characters ... OK
* checking R files for syntax errors ... OK
* checking whether the package can be loaded ... OK
* checking whether the package can be loaded with stated dependencies ... OK
* checking whether the package can be unloaded cleanly ... OK
* checking whether the namespace can be loaded with stated dependencies ... OK
* checking whether the namespace can be unloaded cleanly ... OK
* checking dependencies in R code ... OK
* checking S3 generic/method consistency ... OK
* checking replacement functions ... OK
* checking foreign function calls ... OK
* checking R code for possible problems ... OK
* checking Rd files ... OK
* checking Rd metadata ... OK
* checking Rd cross-references ... OK
* checking for missing documentation entries ... OK
* checking for code/documentation mismatches ... OK
* checking Rd \usage sections ... OK
* checking Rd contents ... OK
* checking for unstated dependencies in examples ... OK
* checking contents of ‘data’ directory ... OK
* checking data for non-ASCII characters ... OK
* checking data for ASCII and uncompressed saves ... OK
* checking line endings in C/C++/Fortran sources/headers ... OK
* checking compiled code ... NOTE
Note: information on .o files is not available
* checking sizes of PDF files under ‘inst/doc’ ... OK
* checking installed files from ‘inst/doc’ ... OK
* checking files in ‘vignettes’ ... OK
* checking examples ... OK
Examples with CPU (user + system) or elapsed time > 5s
user system elapsed
RIcorrect 5.113 0.537 6.387
* checking for unstated dependencies in ‘tests’ ... OK
* checking tests ...
Running ‘tinytest.R’
OK
* checking for unstated dependencies in vignettes ... OK
* checking package vignettes ... OK
* checking running R code from vignettes ... SKIPPED
* checking re-building of vignette outputs ... SKIPPED
* checking PDF version of manual ... OK
* DONE
Status: 1 NOTE
See
‘/Users/biocbuild/bbs-3.22-bioc/meat/TargetSearch.Rcheck/00check.log’
for details.
TargetSearch.Rcheck/00install.out
############################################################################## ############################################################################## ### ### Running command: ### ### /Library/Frameworks/R.framework/Resources/bin/R CMD INSTALL TargetSearch ### ############################################################################## ############################################################################## * installing to library ‘/Library/Frameworks/R.framework/Versions/4.5-arm64/Resources/library’ * installing *source* package ‘TargetSearch’ ... ** this is package ‘TargetSearch’ version ‘2.12.0’ ** using staged installation ** libs using C compiler: ‘Apple clang version 15.0.0 (clang-1500.0.40.1)’ using SDK: ‘MacOSX11.3.1.sdk’ clang -arch arm64 -std=gnu2x -I"/Library/Frameworks/R.framework/Resources/include" -DNDEBUG -I/opt/R/arm64/include -fPIC -falign-functions=64 -Wall -g -O2 -c Rinit.c -o Rinit.o clang -arch arm64 -std=gnu2x -I"/Library/Frameworks/R.framework/Resources/include" -DNDEBUG -I/opt/R/arm64/include -fPIC -falign-functions=64 -Wall -g -O2 -c baseline.c -o baseline.o clang -arch arm64 -std=gnu2x -I"/Library/Frameworks/R.framework/Resources/include" -DNDEBUG -I/opt/R/arm64/include -fPIC -falign-functions=64 -Wall -g -O2 -c detection.c -o detection.o clang -arch arm64 -std=gnu2x -I"/Library/Frameworks/R.framework/Resources/include" -DNDEBUG -I/opt/R/arm64/include -fPIC -falign-functions=64 -Wall -g -O2 -c file.c -o file.o clang -arch arm64 -std=gnu2x -I"/Library/Frameworks/R.framework/Resources/include" -DNDEBUG -I/opt/R/arm64/include -fPIC -falign-functions=64 -Wall -g -O2 -c find.c -o find.o clang -arch arm64 -std=gnu2x -I"/Library/Frameworks/R.framework/Resources/include" -DNDEBUG -I/opt/R/arm64/include -fPIC -falign-functions=64 -Wall -g -O2 -c get_line.c -o get_line.o clang -arch arm64 -std=gnu2x -I"/Library/Frameworks/R.framework/Resources/include" -DNDEBUG -I/opt/R/arm64/include -fPIC -falign-functions=64 -Wall -g -O2 -c hpf.c -o hpf.o clang -arch arm64 -std=gnu2x -I"/Library/Frameworks/R.framework/Resources/include" -DNDEBUG -I/opt/R/arm64/include -fPIC -falign-functions=64 -Wall -g -O2 -c matrix.c -o matrix.o clang -arch arm64 -std=gnu2x -I"/Library/Frameworks/R.framework/Resources/include" -DNDEBUG -I/opt/R/arm64/include -fPIC -falign-functions=64 -Wall -g -O2 -c ncdf.c -o ncdf.o clang -arch arm64 -std=gnu2x -I"/Library/Frameworks/R.framework/Resources/include" -DNDEBUG -I/opt/R/arm64/include -fPIC -falign-functions=64 -Wall -g -O2 -c peak.c -o peak.o clang -arch arm64 -std=gnu2x -I"/Library/Frameworks/R.framework/Resources/include" -DNDEBUG -I/opt/R/arm64/include -fPIC -falign-functions=64 -Wall -g -O2 -c spectrum.c -o spectrum.o clang -arch arm64 -std=gnu2x -I"/Library/Frameworks/R.framework/Resources/include" -DNDEBUG -I/opt/R/arm64/include -fPIC -falign-functions=64 -Wall -g -O2 -c strutils.c -o strutils.o clang -arch arm64 -std=gnu2x -I"/Library/Frameworks/R.framework/Resources/include" -DNDEBUG -I/opt/R/arm64/include -fPIC -falign-functions=64 -Wall -g -O2 -c utils.c -o utils.o clang -arch arm64 -std=gnu2x -dynamiclib -Wl,-headerpad_max_install_names -undefined dynamic_lookup -L/Library/Frameworks/R.framework/Resources/lib -L/opt/R/arm64/lib -o TargetSearch.so Rinit.o baseline.o detection.o file.o find.o get_line.o hpf.o matrix.o ncdf.o peak.o spectrum.o strutils.o utils.o -F/Library/Frameworks/R.framework/.. -framework R installing to /Library/Frameworks/R.framework/Versions/4.5-arm64/Resources/library/00LOCK-TargetSearch/00new/TargetSearch/libs ** R ** data ** inst ** byte-compile and prepare package for lazy loading ** help *** installing help indices ** building package indices ** installing vignettes ** testing if installed package can be loaded from temporary location ** checking absolute paths in shared objects and dynamic libraries ** testing if installed package can be loaded from final location ** testing if installed package keeps a record of temporary installation path * DONE (TargetSearch)
TargetSearch.Rcheck/tests/tinytest.Rout
R version 4.5.2 Patched (2025-11-04 r88984) -- "[Not] Part in a Rumble"
Copyright (C) 2025 The R Foundation for Statistical Computing
Platform: aarch64-apple-darwin20
R is free software and comes with ABSOLUTELY NO WARRANTY.
You are welcome to redistribute it under certain conditions.
Type 'license()' or 'licence()' for distribution details.
R is a collaborative project with many contributors.
Type 'contributors()' for more information and
'citation()' on how to cite R or R packages in publications.
Type 'demo()' for some demos, 'help()' for on-line help, or
'help.start()' for an HTML browser interface to help.
Type 'q()' to quit R.
> if ( requireNamespace("tinytest", quietly=TRUE) && requireNamespace("TargetSearchData", quietly=TRUE)) {
+ tinytest::test_package("TargetSearch", color=FALSE, verbose=1)
+ }
Loading required package: TargetSearchData
test_FindAllPeaks.R........... 19 tests OK 0.8s
FAMEs were saved in /var/folders/dc/2xck8b8s0_3gymbxnrltzxhm0000gs/T//RtmpW105C7/file115875d62af1e.pdf
FAMEs were saved in /var/folders/dc/2xck8b8s0_3gymbxnrltzxhm0000gs/T//RtmpW105C7/file115875d62af1e.pdf
FAMEs were saved in /var/folders/dc/2xck8b8s0_3gymbxnrltzxhm0000gs/T//RtmpW105C7/file115875d62af1e.pdf
FAMEs were saved in /var/folders/dc/2xck8b8s0_3gymbxnrltzxhm0000gs/T//RtmpW105C7/file115875d62af1e.pdf
test_fameoutliers.R........... 5 tests OK 31ms
test_file.R................... 4 tests OK 38ms
test_import_fame.R............ 14 tests OK 7ms
test_import_library.R......... 15 tests OK 98ms
test_ncdf4_plot_peak.R........ 7 tests OK 0.2s
test_quantMatrix.R............ 8 tests OK 12ms
test_ri_data_extract.R........ 6 tests OK 2.6s
test_ri_plot_peak.R........... 22 tests OK 68ms
test_ricorrect.R.............. 5 tests OK 0.3s
test_tsLib.R.................. 30 tests OK 56ms
test_tsProfile.R.............. 12 tests OK 6ms
test_tsRim.R.................. 9 tests OK 2ms
test_tsSample.R............... 19 tests OK 20ms
test_write_ri_file.R.......... 6 tests OK 4ms
All ok, 181 results (4.2s)
>
> proc.time()
user system elapsed
3.325 0.135 4.425
TargetSearch.Rcheck/TargetSearch-Ex.timings
| name | user | system | elapsed | |
| FAMEoutliers | 0.025 | 0.004 | 0.033 | |
| FindAllPeaks | 0.481 | 0.016 | 0.533 | |
| FindPeaks | 0.100 | 0.004 | 0.114 | |
| ImportFameSettings | 0.003 | 0.001 | 0.004 | |
| ImportLibrary | 0.008 | 0.001 | 0.008 | |
| ImportSamples | 0.004 | 0.000 | 0.005 | |
| NetCDFPeakFinding | 0.127 | 0.012 | 0.160 | |
| Profile | 0.334 | 0.009 | 0.398 | |
| ProfileCleanUp | 0.308 | 0.010 | 0.356 | |
| RIcorrect | 5.113 | 0.537 | 6.387 | |
| TSExample | 0.709 | 0.099 | 0.899 | |
| Write.Results | 0.021 | 0.003 | 0.043 | |
| baseline | 0.133 | 0.009 | 0.187 | |
| baselineCorrection | 0.138 | 0.008 | 0.168 | |
| baselineCorrectionQuant | 0.203 | 0.011 | 0.232 | |
| checkRimLim | 0.470 | 0.035 | 0.544 | |
| file | 0.034 | 0.006 | 0.040 | |
| fixRI | 0.479 | 0.037 | 0.594 | |
| makeIndex | 0.001 | 0.001 | 0.003 | |
| medianRILib | 0.177 | 0.010 | 0.228 | |
| ncdf4Convert-method | 0.029 | 0.006 | 0.047 | |
| ncdf4_convert | 0.011 | 0.001 | 0.018 | |
| ncdf4_convert_from_path | 1.203 | 0.184 | 1.572 | |
| ncdf4_data_extract | 0.180 | 0.057 | 0.265 | |
| ncdf4_plot_peak | 0.480 | 0.061 | 0.644 | |
| ncdf4_update_ri | 0.136 | 0.008 | 0.166 | |
| peakCDFextraction | 0.237 | 0.019 | 0.286 | |
| peakFind | 0.086 | 0.005 | 0.100 | |
| plotFAME | 0.003 | 0.002 | 0.005 | |
| plotPeak | 0.098 | 0.008 | 0.109 | |
| plotPeakRI | 0.347 | 0.016 | 0.405 | |
| plotPeakSimple | 0.205 | 0.017 | 0.259 | |
| plotRIdev | 0.147 | 0.008 | 0.199 | |
| plotRefSpectra | 0.036 | 0.004 | 0.041 | |
| plotSpectra | 0.091 | 0.005 | 0.103 | |
| quantMatrix | 0.308 | 0.012 | 0.349 | |
| ri2rt | 0.001 | 0.000 | 0.001 | |
| riMatrix | 0.487 | 0.032 | 0.598 | |
| ri_data_extract | 0.018 | 0.001 | 0.019 | |
| ri_plot_peak | 0.603 | 0.032 | 0.759 | |
| rt2ri | 0.003 | 0.000 | 0.004 | |
| sampleRI | 0.199 | 0.016 | 0.239 | |
| tsLib-class | 0.009 | 0.001 | 0.012 | |
| tsMSdata-class | 0.004 | 0.007 | 0.013 | |
| tsProfile-class | 0.003 | 0.002 | 0.005 | |
| tsRim-class | 0.001 | 0.000 | 0.003 | |
| tsSample-class | 0.008 | 0.001 | 0.011 | |
| tsUpdate-method | 0 | 0 | 0 | |
| updateRI | 0.374 | 0.049 | 0.452 | |
| writeLibText | 0.009 | 0.001 | 0.015 | |
| writeMSP | 0.006 | 0.001 | 0.008 | |