Back to Multiple platform build/check report for BioC 3.22:   simplified   long
ABCDEFGHIJKLMNOPQRS[T]UVWXYZ

This page was generated on 2025-11-20 12:08 -0500 (Thu, 20 Nov 2025).

HostnameOSArch (*)R versionInstalled pkgs
nebbiolo2Linux (Ubuntu 24.04.3 LTS)x86_644.5.2 (2025-10-31) -- "[Not] Part in a Rumble" 4615
merida1macOS 12.7.6 Montereyx86_644.5.2 Patched (2025-11-05 r88990) -- "[Not] Part in a Rumble" 4610
kjohnson1macOS 13.7.5 Venturaarm644.5.2 Patched (2025-11-04 r88984) -- "[Not] Part in a Rumble" 4598
taishanLinux (openEuler 24.03 LTS)aarch644.5.0 (2025-04-11) -- "How About a Twenty-Six" 4668
Click on any hostname to see more info about the system (e.g. compilers)      (*) as reported by 'uname -p', except on Windows and Mac OS X

Package 2240/2361HostnameOS / ArchINSTALLBUILDCHECKBUILD BIN
TPP2D 1.26.0  (landing page)
Nils Kurzawa
Snapshot Date: 2025-11-17 13:45 -0500 (Mon, 17 Nov 2025)
git_url: https://git.bioconductor.org/packages/TPP2D
git_branch: RELEASE_3_22
git_last_commit: 41578f0
git_last_commit_date: 2025-10-29 10:52:09 -0500 (Wed, 29 Oct 2025)
nebbiolo2Linux (Ubuntu 24.04.3 LTS) / x86_64  OK    OK    OK  UNNEEDED, same version is already published
merida1macOS 12.7.6 Monterey / x86_64  OK    OK    OK    OK  UNNEEDED, same version is already published
kjohnson1macOS 13.7.5 Ventura / arm64  OK    OK    OK    OK  UNNEEDED, same version is already published
taishanLinux (openEuler 24.03 LTS) / aarch64  OK    OK    OK  


CHECK results for TPP2D on taishan

To the developers/maintainers of the TPP2D package:
- Allow up to 24 hours (and sometimes 48 hours) for your latest push to git@git.bioconductor.org:packages/TPP2D.git to reflect on this report. See Troubleshooting Build Report for more information.
- Use the following Renviron settings to reproduce errors and warnings.
- If 'R CMD check' started to fail recently on the Linux builder(s) over a missing dependency, add the missing dependency to 'Suggests:' in your DESCRIPTION file. See Renviron.bioc for more information.
- See Martin Grigorov's blog post for how to debug Linux ARM64 related issues on a x86_64 host.

raw results


Summary

Package: TPP2D
Version: 1.26.0
Command: /home/biocbuild/R/R/bin/R CMD check --install=check:TPP2D.install-out.txt --library=/home/biocbuild/R/R/site-library --no-vignettes --timings TPP2D_1.26.0.tar.gz
StartedAt: 2025-11-18 16:06:25 -0000 (Tue, 18 Nov 2025)
EndedAt: 2025-11-18 16:09:07 -0000 (Tue, 18 Nov 2025)
EllapsedTime: 162.2 seconds
RetCode: 0
Status:   OK  
CheckDir: TPP2D.Rcheck
Warnings: 0

Command output

##############################################################################
##############################################################################
###
### Running command:
###
###   /home/biocbuild/R/R/bin/R CMD check --install=check:TPP2D.install-out.txt --library=/home/biocbuild/R/R/site-library --no-vignettes --timings TPP2D_1.26.0.tar.gz
###
##############################################################################
##############################################################################


* using log directory ‘/home/biocbuild/bbs-3.22-bioc/meat/TPP2D.Rcheck’
* using R version 4.5.0 (2025-04-11)
* using platform: aarch64-unknown-linux-gnu
* R was compiled by
    aarch64-unknown-linux-gnu-gcc (GCC) 14.2.0
    GNU Fortran (GCC) 14.2.0
* running under: openEuler 24.03 (LTS)
* using session charset: UTF-8
* using option ‘--no-vignettes’
* checking for file ‘TPP2D/DESCRIPTION’ ... OK
* this is package ‘TPP2D’ version ‘1.26.0’
* package encoding: UTF-8
* checking package namespace information ... OK
* checking package dependencies ... OK
* checking if this is a source package ... OK
* checking if there is a namespace ... OK
* checking for hidden files and directories ... OK
* checking for portable file names ... OK
* checking for sufficient/correct file permissions ... OK
* checking whether package ‘TPP2D’ can be installed ... OK
* checking installed package size ... OK
* checking package directory ... OK
* checking ‘build’ directory ... OK
* checking DESCRIPTION meta-information ... OK
* checking top-level files ... OK
* checking for left-over files ... OK
* checking index information ... OK
* checking package subdirectories ... OK
* checking code files for non-ASCII characters ... OK
* checking R files for syntax errors ... OK
* checking whether the package can be loaded ... OK
* checking whether the package can be loaded with stated dependencies ... OK
* checking whether the package can be unloaded cleanly ... OK
* checking whether the namespace can be loaded with stated dependencies ... OK
* checking whether the namespace can be unloaded cleanly ... OK
* checking loading without being on the library search path ... OK
* checking dependencies in R code ... NOTE
There are ::: calls to the package's namespace in its code. A package
  almost never needs to use ::: for its own objects:
  ‘.min_RSS_h0’ ‘.min_RSS_h1_slope_pEC50’
* checking S3 generic/method consistency ... OK
* checking replacement functions ... OK
* checking foreign function calls ... OK
* checking R code for possible problems ... OK
* checking Rd files ... OK
* checking Rd metadata ... OK
* checking Rd cross-references ... OK
* checking for missing documentation entries ... OK
* checking for code/documentation mismatches ... OK
* checking Rd \usage sections ... OK
* checking Rd contents ... OK
* checking for unstated dependencies in examples ... OK
* checking contents of ‘data’ directory ... OK
* checking data for non-ASCII characters ... OK
* checking data for ASCII and uncompressed saves ... OK
* checking R/sysdata.rda ... OK
* checking files in ‘vignettes’ ... OK
* checking examples ... OK
Examples with CPU (user + system) or elapsed time > 5s
                        user system elapsed
getModelParamsDf       7.960  0.044   8.028
computeFStatFromParams 7.975  0.020   8.019
fitAndEvalDataset      7.133  0.028   7.181
plot2dTppVolcano       6.009  0.024   6.049
computeFstat           5.946  0.032   5.997
findHits               1.356  0.004   5.583
getFDR                 1.315  0.007   5.285
* checking for unstated dependencies in ‘tests’ ... OK
* checking tests ...
  Running ‘testthat.R’
 OK
* checking for unstated dependencies in vignettes ... OK
* checking package vignettes ... OK
* checking running R code from vignettes ... SKIPPED
* checking re-building of vignette outputs ... SKIPPED
* checking PDF version of manual ... OK
* DONE

Status: 1 NOTE
See
  ‘/home/biocbuild/bbs-3.22-bioc/meat/TPP2D.Rcheck/00check.log’
for details.


Installation output

TPP2D.Rcheck/00install.out

##############################################################################
##############################################################################
###
### Running command:
###
###   /home/biocbuild/R/R/bin/R CMD INSTALL TPP2D
###
##############################################################################
##############################################################################


* installing to library ‘/home/biocbuild/R/R-4.5.0/site-library’
* installing *source* package ‘TPP2D’ ...
** this is package ‘TPP2D’ version ‘1.26.0’
** using staged installation
** R
** data
** inst
** byte-compile and prepare package for lazy loading
** help
*** installing help indices
** building package indices
** installing vignettes
** testing if installed package can be loaded from temporary location
** testing if installed package can be loaded from final location
** testing if installed package keeps a record of temporary installation path
* DONE (TPP2D)

Tests output

TPP2D.Rcheck/tests/testthat.Rout


R version 4.5.0 (2025-04-11) -- "How About a Twenty-Six"
Copyright (C) 2025 The R Foundation for Statistical Computing
Platform: aarch64-unknown-linux-gnu

R is free software and comes with ABSOLUTELY NO WARRANTY.
You are welcome to redistribute it under certain conditions.
Type 'license()' or 'licence()' for distribution details.

R is a collaborative project with many contributors.
Type 'contributors()' for more information and
'citation()' on how to cite R or R packages in publications.

Type 'demo()' for some demos, 'help()' for on-line help, or
'help.start()' for an HTML browser interface to help.
Type 'q()' to quit R.

> Sys.setenv("R_TESTS" = "")
> library(testthat)
> library(TPP2D)
Loading required package: dplyr

Attaching package: 'dplyr'

The following object is masked from 'package:testthat':

    matches

The following objects are masked from 'package:stats':

    filter, lag

The following objects are masked from 'package:base':

    intersect, setdiff, setequal, union

> 
> test_check("TPP2D")
[1] "Warning: You have specificed B < 20, it is recommended to use at least B = 20 in order to obtain reliable results."

  |                                                                            
  |                                                                      |   0%
  |                                                                            
  |======================================================================| 100%

[ FAIL 0 | WARN 0 | SKIP 0 | PASS 18 ]
> 
> proc.time()
   user  system elapsed 
  9.726   0.197   9.935 

Example timings

TPP2D.Rcheck/TPP2D-Ex.timings

nameusersystemelapsed
TPP_importCheckConfigTable0.0220.0000.022
annotateDataList0.6920.0040.700
bootstrapNull0.0820.0022.786
bootstrapNullAlternativeModel2.5150.0282.551
bootstrapNullAlternativeModelFast2.5810.0602.650
competeModels3.6110.0403.662
computeFStatFromParams7.9750.0208.019
computeFstat5.9460.0325.997
configWide2Long0.0070.0000.008
filterOutContaminants0.0630.0000.064
findHits1.3560.0045.583
fitAndEvalDataset7.1330.0287.181
fitH0Model0.1520.0000.152
fitH1Model1.0320.0001.034
getFDR1.3150.0075.285
getModelParamsDf7.9600.0448.028
getPEC504Temperature0.5890.0000.591
getPvalues0.7530.0044.816
gg_qq0.0710.0000.071
import2dDataset0.6000.0000.602
import2dMain0.2790.0000.279
plot2dTppFcHeatmap0.5090.0000.510
plot2dTppFit0.6130.0080.622
plot2dTppProfile0.6070.0000.608
plot2dTppRelProfile0.6190.0000.621
plot2dTppVolcano6.0090.0246.049
recomputeSignalFromRatios0.0730.0000.073
renameColumns0.6380.0040.644
resolveAmbiguousProteinNames0.0420.0000.042
runTPP2D1.9590.0041.968
tpp2dExperiment-class0.0010.0000.000