Back to Multiple platform build/check report for BioC 3.22:   simplified   long
ABCDEFGHIJKLMNOPQR[S]TUVWXYZ

This page was generated on 2025-10-31 12:05 -0400 (Fri, 31 Oct 2025).

HostnameOSArch (*)R versionInstalled pkgs
nebbiolo2Linux (Ubuntu 24.04.3 LTS)x86_644.5.1 Patched (2025-08-23 r88802) -- "Great Square Root" 4901
lconwaymacOS 12.7.6 Montereyx86_644.5.1 Patched (2025-09-10 r88807) -- "Great Square Root" 4691
kjohnson3macOS 13.7.7 Venturaarm644.5.1 Patched (2025-09-10 r88807) -- "Great Square Root" 4637
Click on any hostname to see more info about the system (e.g. compilers)      (*) as reported by 'uname -p', except on Windows and Mac OS X

Package 2085/2361HostnameOS / ArchINSTALLBUILDCHECKBUILD BIN
SpatialOmicsOverlay 1.10.0  (landing page)
Maddy Griswold
Snapshot Date: 2025-10-30 13:45 -0400 (Thu, 30 Oct 2025)
git_url: https://git.bioconductor.org/packages/SpatialOmicsOverlay
git_branch: RELEASE_3_22
git_last_commit: edcd7be
git_last_commit_date: 2025-10-29 11:22:27 -0400 (Wed, 29 Oct 2025)
nebbiolo2Linux (Ubuntu 24.04.3 LTS) / x86_64  OK    OK    OK  UNNEEDED, same version is already published
lconwaymacOS 12.7.6 Monterey / x86_64  OK    OK    OK    OK  UNNEEDED, same version is already published
kjohnson3macOS 13.7.7 Ventura / arm64  OK    OK    OK    OK  UNNEEDED, same version is already published


CHECK results for SpatialOmicsOverlay on kjohnson3

To the developers/maintainers of the SpatialOmicsOverlay package:
- Allow up to 24 hours (and sometimes 48 hours) for your latest push to git@git.bioconductor.org:packages/SpatialOmicsOverlay.git to reflect on this report. See Troubleshooting Build Report for more information.
- Use the following Renviron settings to reproduce errors and warnings.
- If 'R CMD check' started to fail recently on the Linux builder(s) over a missing dependency, add the missing dependency to 'Suggests:' in your DESCRIPTION file. See Renviron.bioc for more information.

raw results


Summary

Package: SpatialOmicsOverlay
Version: 1.10.0
Command: /Library/Frameworks/R.framework/Resources/bin/R CMD check --install=check:SpatialOmicsOverlay.install-out.txt --library=/Library/Frameworks/R.framework/Resources/library --no-vignettes --timings SpatialOmicsOverlay_1.10.0.tar.gz
StartedAt: 2025-10-30 22:13:40 -0400 (Thu, 30 Oct 2025)
EndedAt: 2025-10-30 22:16:44 -0400 (Thu, 30 Oct 2025)
EllapsedTime: 183.2 seconds
RetCode: 0
Status:   OK  
CheckDir: SpatialOmicsOverlay.Rcheck
Warnings: 0

Command output

##############################################################################
##############################################################################
###
### Running command:
###
###   /Library/Frameworks/R.framework/Resources/bin/R CMD check --install=check:SpatialOmicsOverlay.install-out.txt --library=/Library/Frameworks/R.framework/Resources/library --no-vignettes --timings SpatialOmicsOverlay_1.10.0.tar.gz
###
##############################################################################
##############################################################################


* using log directory ‘/Users/biocbuild/bbs-3.22-bioc/meat/SpatialOmicsOverlay.Rcheck’
* using R version 4.5.1 Patched (2025-09-10 r88807)
* using platform: aarch64-apple-darwin20
* R was compiled by
    Apple clang version 16.0.0 (clang-1600.0.26.6)
    GNU Fortran (GCC) 14.2.0
* running under: macOS Ventura 13.7.7
* using session charset: UTF-8
* using option ‘--no-vignettes’
* checking for file ‘SpatialOmicsOverlay/DESCRIPTION’ ... OK
* this is package ‘SpatialOmicsOverlay’ version ‘1.10.0’
* package encoding: UTF-8
* checking package namespace information ... OK
* checking package dependencies ... OK
* checking if this is a source package ... OK
* checking if there is a namespace ... OK
* checking for hidden files and directories ... OK
* checking for portable file names ... OK
* checking for sufficient/correct file permissions ... OK
* checking whether package ‘SpatialOmicsOverlay’ can be installed ... OK
* checking installed package size ... OK
* checking package directory ... OK
* checking ‘build’ directory ... OK
* checking DESCRIPTION meta-information ... NOTE
License components which are templates and need '+ file LICENSE':
  MIT
* checking top-level files ... NOTE
File
  LICENSE
is not mentioned in the DESCRIPTION file.
* checking for left-over files ... OK
* checking index information ... OK
* checking package subdirectories ... OK
* checking code files for non-ASCII characters ... OK
* checking R files for syntax errors ... OK
* checking whether the package can be loaded ... OK
* checking whether the package can be loaded with stated dependencies ... OK
* checking whether the package can be unloaded cleanly ... OK
* checking whether the namespace can be loaded with stated dependencies ... OK
* checking whether the namespace can be unloaded cleanly ... OK
* checking dependencies in R code ... OK
* checking S3 generic/method consistency ... OK
* checking replacement functions ... OK
* checking foreign function calls ... OK
* checking R code for possible problems ... NOTE
plotSpatialOverlay: no visible binding for global variable ‘xcoor’
plotSpatialOverlay: no visible binding for global variable ‘ycoor’
plotSpatialOverlay: no visible binding for global variable ‘sampleID’
plotSpatialOverlay: no visible binding for global variable ‘Target’
scaleBarPrinting: no visible binding for global variable ‘X’
scaleBarPrinting: no visible binding for global variable ‘Y’
Undefined global functions or variables:
  Target X Y sampleID xcoor ycoor
* checking Rd files ... OK
* checking Rd metadata ... OK
* checking Rd cross-references ... OK
* checking for missing documentation entries ... OK
* checking for code/documentation mismatches ... OK
* checking Rd \usage sections ... OK
* checking Rd contents ... OK
* checking for unstated dependencies in examples ... OK
* checking files in ‘vignettes’ ... OK
* checking examples ... OK
Examples with CPU (user + system) or elapsed time > 5s
                    user system elapsed
add4ChannelImage   7.182  0.564   5.363
readSpatialOverlay 4.755  0.428   4.786
cropSamples        4.636  0.386   4.449
* checking for unstated dependencies in ‘tests’ ... OK
* checking tests ...
  Running ‘testthat.R’
 OK
* checking for unstated dependencies in vignettes ... OK
* checking package vignettes ... OK
* checking running R code from vignettes ... SKIPPED
* checking re-building of vignette outputs ... SKIPPED
* checking PDF version of manual ... OK
* DONE

Status: 3 NOTEs
See
  ‘/Users/biocbuild/bbs-3.22-bioc/meat/SpatialOmicsOverlay.Rcheck/00check.log’
for details.


Installation output

SpatialOmicsOverlay.Rcheck/00install.out

##############################################################################
##############################################################################
###
### Running command:
###
###   /Library/Frameworks/R.framework/Resources/bin/R CMD INSTALL SpatialOmicsOverlay
###
##############################################################################
##############################################################################


* installing to library ‘/Library/Frameworks/R.framework/Versions/4.5-arm64/Resources/library’
* installing *source* package ‘SpatialOmicsOverlay’ ...
** this is package ‘SpatialOmicsOverlay’ version ‘1.10.0’
** using staged installation
** R
** inst
** byte-compile and prepare package for lazy loading
** help
*** installing help indices
** building package indices
** installing vignettes
** testing if installed package can be loaded from temporary location
** testing if installed package can be loaded from final location
** testing if installed package keeps a record of temporary installation path
* DONE (SpatialOmicsOverlay)

Tests output

SpatialOmicsOverlay.Rcheck/tests/testthat.Rout


R version 4.5.1 Patched (2025-09-10 r88807) -- "Great Square Root"
Copyright (C) 2025 The R Foundation for Statistical Computing
Platform: aarch64-apple-darwin20

R is free software and comes with ABSOLUTELY NO WARRANTY.
You are welcome to redistribute it under certain conditions.
Type 'license()' or 'licence()' for distribution details.

R is a collaborative project with many contributors.
Type 'contributors()' for more information and
'citation()' on how to cite R or R packages in publications.

Type 'demo()' for some demos, 'help()' for on-line help, or
'help.start()' for an HTML browser interface to help.
Type 'q()' to quit R.

> library(testthat)
> library(vdiffr)
> 
> options( java.parameters = "-Xmx4g" )
> library( "RBioFormats" )
BioFormats library version 7.3.0
> 
> library(SpatialOmicsOverlay)
> 
> # #run tests
> test_check("SpatialOmicsOverlay")
Loading required package: Biobase
Loading required package: BiocGenerics
Loading required package: generics

Attaching package: 'generics'

The following objects are masked from 'package:base':

    as.difftime, as.factor, as.ordered, intersect, is.element, setdiff,
    setequal, union


Attaching package: 'BiocGenerics'

The following objects are masked from 'package:stats':

    IQR, mad, sd, var, xtabs

The following objects are masked from 'package:base':

    Filter, Find, Map, Position, Reduce, anyDuplicated, aperm, append,
    as.data.frame, basename, cbind, colnames, dirname, do.call,
    duplicated, eval, evalq, get, grep, grepl, is.unsorted, lapply,
    mapply, match, mget, order, paste, pmax, pmax.int, pmin, pmin.int,
    rank, rbind, rownames, sapply, saveRDS, table, tapply, unique,
    unsplit, which.max, which.min

Welcome to Bioconductor

    Vignettes contain introductory material; view with
    'browseVignettes()'. To cite Bioconductor, see
    'citation("Biobase")', and for packages 'citation("pkgname")'.

Loading required package: NanoStringNCTools
Loading required package: S4Vectors
Loading required package: stats4

Attaching package: 'S4Vectors'

The following object is masked from 'package:utils':

    findMatches

The following objects are masked from 'package:base':

    I, expand.grid, unname

Loading required package: ggplot2
Extracting XML
Parsing XML - scan metadata
Parsing XML - overlay data
Generating Coordinates
Extracting XML
Parsing XML - scan metadata
Parsing XML - overlay data
Generating Coordinates
Calculating and scaling coordinates
Calculating and scaling coordinates
[ FAIL 0 | WARN 4 | SKIP 0 | PASS 422 ]

[ FAIL 0 | WARN 4 | SKIP 0 | PASS 422 ]
> 
> 
> 
> proc.time()
   user  system elapsed 
 52.481   4.845  53.401 

Example timings

SpatialOmicsOverlay.Rcheck/SpatialOmicsOverlay-Ex.timings

nameusersystemelapsed
add4ChannelImage7.1820.5645.363
addImageOmeTiff4.4740.3554.099
addPlottingFactor0.1760.0060.182
bookendStr000
changeColoringIntensity4.4860.3234.011
changeImageColoring4.4850.3584.314
checkValidRes1.1510.0840.840
createCoordFile0.9580.0170.981
createMask2.9570.1213.079
cropSamples4.6360.3864.449
cropTissue4.2170.3694.175
downloadMouseBrainImage0.0420.0050.047
flipX3.8470.3153.818
flipY3.8880.3343.709
fluorLegend0.8820.0810.964
moveCoords0.0770.0050.083
parseOverlayAttrs1.1530.0851.103
parseScanMetadata1.2270.1331.077
plotSpatialOverlay0.7090.0740.788
readLabWorksheet0.0010.0000.001
readSpatialOverlay4.7550.4284.786
recolor4.0420.3933.776
removeSample0.1000.0090.108
xmlExtraction1.0520.0951.073