Back to Build/check report for BioC 3.22:   simplified   long
ABCDEFGHIJKLMNOPQR[S]TUVWXYZ

This page was generated on 2025-10-27 12:45 -0400 (Mon, 27 Oct 2025).

HostnameOSArch (*)R versionInstalled pkgs
kjohnson3macOS 13.7.7 Venturaarm644.5.1 Patched (2025-09-10 r88807) -- "Great Square Root" 4637
Click on any hostname to see more info about the system (e.g. compilers)      (*) as reported by 'uname -p', except on Windows and Mac OS X

Package 2032/2361HostnameOS / ArchINSTALLBUILDCHECKBUILD BIN
SingleCellSignalR 1.99.1  (landing page)
Jean-Philippe Villemin
Snapshot Date: 2025-10-26 13:45 -0400 (Sun, 26 Oct 2025)
git_url: https://git.bioconductor.org/packages/SingleCellSignalR
git_branch: devel
git_last_commit: 417c87a
git_last_commit_date: 2025-10-01 07:13:36 -0400 (Wed, 01 Oct 2025)
kjohnson3macOS 13.7.7 Ventura / arm64  OK    ERROR  skippedskipped


BUILD results for SingleCellSignalR on kjohnson3

To the developers/maintainers of the SingleCellSignalR package:
- Allow up to 24 hours (and sometimes 48 hours) for your latest push to git@git.bioconductor.org:packages/SingleCellSignalR.git to reflect on this report. See Troubleshooting Build Report for more information.
- Use the following Renviron settings to reproduce errors and warnings.
- If 'R CMD check' started to fail recently on the Linux builder(s) over a missing dependency, add the missing dependency to 'Suggests:' in your DESCRIPTION file. See Renviron.bioc for more information.

raw results


Summary

Package: SingleCellSignalR
Version: 1.99.1
Command: /Library/Frameworks/R.framework/Resources/bin/R CMD build --keep-empty-dirs --no-resave-data SingleCellSignalR
StartedAt: 2025-10-26 18:01:56 -0400 (Sun, 26 Oct 2025)
EndedAt: 2025-10-26 18:02:30 -0400 (Sun, 26 Oct 2025)
EllapsedTime: 34.4 seconds
RetCode: 1
Status:   ERROR  
PackageFile: None
PackageFileSize: NA

Command output

##############################################################################
##############################################################################
###
### Running command:
###
###   /Library/Frameworks/R.framework/Resources/bin/R CMD build --keep-empty-dirs --no-resave-data SingleCellSignalR
###
##############################################################################
##############################################################################


* checking for file ‘SingleCellSignalR/DESCRIPTION’ ... OK
* preparing ‘SingleCellSignalR’:
* checking DESCRIPTION meta-information ... OK
* installing the package to build vignettes
      -----------------------------------
* installing *source* package ‘SingleCellSignalR’ ...
** this is package ‘SingleCellSignalR’ version ‘1.99.1’
** using staged installation
** R
** data
** inst
** byte-compile and prepare package for lazy loading
✖ Remote server is down. 
"https://partage-dev.montp.inserm.fr:9192/CBSB/"
Error: .onLoad failed in loadNamespace() for 'BulkSignalR', details:
  call: .testRemoteServer()
  error: 
Execution halted
ERROR: lazy loading failed for package ‘SingleCellSignalR’
* removing ‘/private/var/folders/r0/l4fjk6cj5xj0j3brt4bplpl40000gt/T/Rtmp6ormcm/Rinst36c31a928c46/SingleCellSignalR’
      -----------------------------------
ERROR: package installation failed