| Back to Multiple platform build/check report for BioC 3.22: simplified long |
|
This page was generated on 2025-10-25 12:04 -0400 (Sat, 25 Oct 2025).
| Hostname | OS | Arch (*) | R version | Installed pkgs |
|---|---|---|---|---|
| nebbiolo2 | Linux (Ubuntu 24.04.3 LTS) | x86_64 | 4.5.1 Patched (2025-08-23 r88802) -- "Great Square Root" | 4901 |
| lconway | macOS 12.7.6 Monterey | x86_64 | 4.5.1 Patched (2025-09-10 r88807) -- "Great Square Root" | 4691 |
| kjohnson3 | macOS 13.7.7 Ventura | arm64 | 4.5.1 Patched (2025-09-10 r88807) -- "Great Square Root" | 4637 |
| taishan | Linux (openEuler 24.03 LTS) | aarch64 | 4.5.0 (2025-04-11) -- "How About a Twenty-Six" | 4658 |
| Click on any hostname to see more info about the system (e.g. compilers) (*) as reported by 'uname -p', except on Windows and Mac OS X | ||||
| Package 1941/2361 | Hostname | OS / Arch | INSTALL | BUILD | CHECK | BUILD BIN | ||||||||
| Sconify 1.29.1 (landing page) Tyler J Burns
| nebbiolo2 | Linux (Ubuntu 24.04.3 LTS) / x86_64 | OK | OK | OK | |||||||||
| lconway | macOS 12.7.6 Monterey / x86_64 | OK | OK | OK | OK | |||||||||
| kjohnson3 | macOS 13.7.7 Ventura / arm64 | OK | OK | OK | OK | |||||||||
| taishan | Linux (openEuler 24.03 LTS) / aarch64 | OK | NA | NA | ||||||||||
|
To the developers/maintainers of the Sconify package: - Allow up to 24 hours (and sometimes 48 hours) for your latest push to git@git.bioconductor.org:packages/Sconify.git to reflect on this report. See Troubleshooting Build Report for more information. - Use the following Renviron settings to reproduce errors and warnings. - If 'R CMD check' started to fail recently on the Linux builder(s) over a missing dependency, add the missing dependency to 'Suggests:' in your DESCRIPTION file. See Renviron.bioc for more information. |
| Package: Sconify |
| Version: 1.29.1 |
| Command: /home/biocbuild/bbs-3.22-bioc/R/bin/R CMD check --install=check:Sconify.install-out.txt --library=/home/biocbuild/bbs-3.22-bioc/R/site-library --timings Sconify_1.29.1.tar.gz |
| StartedAt: 2025-10-25 03:54:02 -0400 (Sat, 25 Oct 2025) |
| EndedAt: 2025-10-25 03:56:18 -0400 (Sat, 25 Oct 2025) |
| EllapsedTime: 136.1 seconds |
| RetCode: 0 |
| Status: OK |
| CheckDir: Sconify.Rcheck |
| Warnings: 0 |
##############################################################################
##############################################################################
###
### Running command:
###
### /home/biocbuild/bbs-3.22-bioc/R/bin/R CMD check --install=check:Sconify.install-out.txt --library=/home/biocbuild/bbs-3.22-bioc/R/site-library --timings Sconify_1.29.1.tar.gz
###
##############################################################################
##############################################################################
* using log directory ‘/home/biocbuild/bbs-3.22-bioc/meat/Sconify.Rcheck’
* using R version 4.5.1 Patched (2025-08-23 r88802)
* using platform: x86_64-pc-linux-gnu
* R was compiled by
gcc (Ubuntu 13.3.0-6ubuntu2~24.04) 13.3.0
GNU Fortran (Ubuntu 13.3.0-6ubuntu2~24.04) 13.3.0
* running under: Ubuntu 24.04.3 LTS
* using session charset: UTF-8
* checking for file ‘Sconify/DESCRIPTION’ ... OK
* checking extension type ... Package
* this is package ‘Sconify’ version ‘1.29.1’
* package encoding: UTF-8
* checking package namespace information ... OK
* checking package dependencies ... OK
* checking if this is a source package ... OK
* checking if there is a namespace ... OK
* checking for hidden files and directories ... OK
* checking for portable file names ... OK
* checking for sufficient/correct file permissions ... OK
* checking whether package ‘Sconify’ can be installed ... OK
* checking installed package size ... OK
* checking package directory ... OK
* checking ‘build’ directory ... OK
* checking DESCRIPTION meta-information ... OK
* checking top-level files ... OK
* checking for left-over files ... OK
* checking index information ... OK
* checking package subdirectories ... OK
* checking code files for non-ASCII characters ... OK
* checking R files for syntax errors ... OK
* checking whether the package can be loaded ... OK
* checking whether the package can be loaded with stated dependencies ... OK
* checking whether the package can be unloaded cleanly ... OK
* checking whether the namespace can be loaded with stated dependencies ... OK
* checking whether the namespace can be unloaded cleanly ... OK
* checking loading without being on the library search path ... OK
* checking dependencies in R code ... OK
* checking S3 generic/method consistency ... OK
* checking replacement functions ... OK
* checking foreign function calls ... OK
* checking R code for possible problems ... OK
* checking Rd files ... OK
* checking Rd metadata ... OK
* checking Rd cross-references ... OK
* checking for missing documentation entries ... OK
* checking for code/documentation mismatches ... OK
* checking Rd \usage sections ... OK
* checking Rd contents ... OK
* checking for unstated dependencies in examples ... OK
* checking contents of ‘data’ directory ... OK
* checking data for non-ASCII characters ... OK
* checking LazyData ... OK
* checking data for ASCII and uncompressed saves ... OK
* checking files in ‘vignettes’ ... OK
* checking examples ... OK
Examples with CPU (user + system) or elapsed time > 5s
user system elapsed
SconeValues 12.103 0.587 12.69
* checking for unstated dependencies in ‘tests’ ... OK
* checking tests ...
Running ‘testthat.R’
OK
* checking for unstated dependencies in vignettes ... OK
* checking package vignettes ... OK
* checking re-building of vignette outputs ... OK
* checking PDF version of manual ... OK
* DONE
Status: OK
Sconify.Rcheck/00install.out
############################################################################## ############################################################################## ### ### Running command: ### ### /home/biocbuild/bbs-3.22-bioc/R/bin/R CMD INSTALL Sconify ### ############################################################################## ############################################################################## * installing to library ‘/home/biocbuild/bbs-3.22-bioc/R/site-library’ * installing *source* package ‘Sconify’ ... ** this is package ‘Sconify’ version ‘1.29.1’ ** using staged installation ** R ** data *** moving datasets to lazyload DB ** inst ** byte-compile and prepare package for lazy loading Note: wrong number of arguments to '/' Note: wrong number of arguments to 'asinh' ** help *** installing help indices ** building package indices ** installing vignettes ** testing if installed package can be loaded from temporary location ** testing if installed package can be loaded from final location ** testing if installed package keeps a record of temporary installation path * DONE (Sconify)
Sconify.Rcheck/tests/testthat.Rout
R version 4.5.1 Patched (2025-08-23 r88802) -- "Great Square Root"
Copyright (C) 2025 The R Foundation for Statistical Computing
Platform: x86_64-pc-linux-gnu
R is free software and comes with ABSOLUTELY NO WARRANTY.
You are welcome to redistribute it under certain conditions.
Type 'license()' or 'licence()' for distribution details.
R is a collaborative project with many contributors.
Type 'contributors()' for more information and
'citation()' on how to cite R or R packages in publications.
Type 'demo()' for some demos, 'help()' for on-line help, or
'help.start()' for an HTML browser interface to help.
Type 'q()' to quit R.
> library(testthat)
> library(Sconify)
>
> test_check("Sconify")
Read the 100 x 27 data matrix successfully!
OpenMP is working. 1 threads.
Using no_dims = 2, perplexity = 30.000000, and theta = 0.500000
Computing input similarities...
Building tree...
Done in 0.01 seconds (sparsity = 0.966800)!
Learning embedding...
Iteration 50: error is 48.751883 (50 iterations in 0.01 seconds)
Iteration 100: error is 52.692058 (50 iterations in 0.01 seconds)
Iteration 150: error is 53.156531 (50 iterations in 0.01 seconds)
Iteration 200: error is 49.777024 (50 iterations in 0.01 seconds)
Iteration 250: error is 49.100039 (50 iterations in 0.01 seconds)
Iteration 300: error is 0.875911 (50 iterations in 0.01 seconds)
Iteration 350: error is 0.236708 (50 iterations in 0.01 seconds)
Iteration 400: error is 0.185053 (50 iterations in 0.01 seconds)
Iteration 450: error is 0.175295 (50 iterations in 0.01 seconds)
Iteration 500: error is 0.171862 (50 iterations in 0.01 seconds)
Iteration 550: error is 0.169319 (50 iterations in 0.01 seconds)
Iteration 600: error is 0.169955 (50 iterations in 0.01 seconds)
Iteration 650: error is 0.170893 (50 iterations in 0.01 seconds)
Iteration 700: error is 0.170682 (50 iterations in 0.01 seconds)
Iteration 750: error is 0.169226 (50 iterations in 0.01 seconds)
Iteration 800: error is 0.170955 (50 iterations in 0.01 seconds)
Iteration 850: error is 0.168811 (50 iterations in 0.01 seconds)
Iteration 900: error is 0.169575 (50 iterations in 0.01 seconds)
Iteration 950: error is 0.170565 (50 iterations in 0.01 seconds)
Iteration 1000: error is 0.171390 (50 iterations in 0.01 seconds)
Fitting performed in 0.17 seconds.
Read the 1000 x 27 data matrix successfully!
OpenMP is working. 1 threads.
Using no_dims = 2, perplexity = 30.000000, and theta = 0.500000
Computing input similarities...
Building tree...
Done in 0.12 seconds (sparsity = 0.129120)!
Learning embedding...
Iteration 50: error is 65.981660 (50 iterations in 0.29 seconds)
Iteration 100: error is 60.874836 (50 iterations in 0.20 seconds)
Iteration 150: error is 60.347895 (50 iterations in 0.20 seconds)
Iteration 200: error is 60.186780 (50 iterations in 0.20 seconds)
Iteration 250: error is 60.124665 (50 iterations in 0.21 seconds)
Iteration 300: error is 1.341583 (50 iterations in 0.15 seconds)
Iteration 350: error is 1.233538 (50 iterations in 0.13 seconds)
Iteration 400: error is 1.203774 (50 iterations in 0.14 seconds)
Iteration 450: error is 1.191483 (50 iterations in 0.14 seconds)
Iteration 500: error is 1.182629 (50 iterations in 0.15 seconds)
Iteration 550: error is 1.175534 (50 iterations in 0.15 seconds)
Iteration 600: error is 1.168946 (50 iterations in 0.14 seconds)
Iteration 650: error is 1.163894 (50 iterations in 0.14 seconds)
Iteration 700: error is 1.161147 (50 iterations in 0.14 seconds)
Iteration 750: error is 1.159283 (50 iterations in 0.14 seconds)
Iteration 800: error is 1.157458 (50 iterations in 0.14 seconds)
Iteration 850: error is 1.155646 (50 iterations in 0.14 seconds)
Iteration 900: error is 1.154270 (50 iterations in 0.14 seconds)
Iteration 950: error is 1.152712 (50 iterations in 0.14 seconds)
Iteration 1000: error is 1.151245 (50 iterations in 0.14 seconds)
Fitting performed in 3.22 seconds.
[ FAIL 0 | WARN 2 | SKIP 0 | PASS 72 ]
[ FAIL 0 | WARN 2 | SKIP 0 | PASS 72 ]
>
> proc.time()
user system elapsed
19.259 0.822 20.072
Sconify.Rcheck/Sconify-Ex.timings
| name | user | system | elapsed | |
| FcsToTibble | 0.122 | 0.001 | 0.122 | |
| Fnn | 0.199 | 0.130 | 0.329 | |
| GetKnnDe | 0.072 | 0.007 | 0.078 | |
| GetMarkerNames | 0.027 | 0.005 | 0.032 | |
| ImputeTesting | 3.26 | 0.02 | 3.28 | |
| MakeHist | 0.574 | 0.017 | 0.591 | |
| MakeKnnList | 0.286 | 0.081 | 0.368 | |
| MeaningOfLife | 0.000 | 0.000 | 0.001 | |
| ParseMarkers | 0.216 | 0.035 | 0.249 | |
| PostProcessing | 0.070 | 0.008 | 0.080 | |
| ProcessMultipleFiles | 0.102 | 0.007 | 0.109 | |
| QuantNormalizeElements | 0.174 | 0.004 | 0.178 | |
| SconeValues | 12.103 | 0.587 | 12.690 | |
| SplitFile | 0.071 | 0.001 | 0.072 | |
| StringToNumbers | 0 | 0 | 0 | |
| SubsampleAndTsne | 1.697 | 0.009 | 1.706 | |
| TsneVis | 0.181 | 0.030 | 0.211 | |