Back to Multiple platform build/check report for BioC 3.22:   simplified   long
ABCDEFGHIJKLMNOPQR[S]TUVWXYZ

This page was generated on 2025-11-20 12:04 -0500 (Thu, 20 Nov 2025).

HostnameOSArch (*)R versionInstalled pkgs
nebbiolo2Linux (Ubuntu 24.04.3 LTS)x86_644.5.2 (2025-10-31) -- "[Not] Part in a Rumble" 4615
merida1macOS 12.7.6 Montereyx86_644.5.2 Patched (2025-11-05 r88990) -- "[Not] Part in a Rumble" 4610
kjohnson1macOS 13.7.5 Venturaarm644.5.2 Patched (2025-11-04 r88984) -- "[Not] Part in a Rumble" 4598
taishanLinux (openEuler 24.03 LTS)aarch644.5.0 (2025-04-11) -- "How About a Twenty-Six" 4668
Click on any hostname to see more info about the system (e.g. compilers)      (*) as reported by 'uname -p', except on Windows and Mac OS X

Package 2165/2361HostnameOS / ArchINSTALLBUILDCHECKBUILD BIN
SWATH2stats 1.40.0  (landing page)
Peter Blattmann
Snapshot Date: 2025-11-17 13:45 -0500 (Mon, 17 Nov 2025)
git_url: https://git.bioconductor.org/packages/SWATH2stats
git_branch: RELEASE_3_22
git_last_commit: 63159bf
git_last_commit_date: 2025-10-29 10:28:13 -0500 (Wed, 29 Oct 2025)
nebbiolo2Linux (Ubuntu 24.04.3 LTS) / x86_64  OK    OK    ERROR  
merida1macOS 12.7.6 Monterey / x86_64  OK    OK    ERROR    OK  
kjohnson1macOS 13.7.5 Ventura / arm64  OK    OK    ERROR    OK  
taishanLinux (openEuler 24.03 LTS) / aarch64  OK    OK    OK  


CHECK results for SWATH2stats on nebbiolo2

To the developers/maintainers of the SWATH2stats package:
- Allow up to 24 hours (and sometimes 48 hours) for your latest push to git@git.bioconductor.org:packages/SWATH2stats.git to reflect on this report. See Troubleshooting Build Report for more information.
- Use the following Renviron settings to reproduce errors and warnings.
- If 'R CMD check' started to fail recently on the Linux builder(s) over a missing dependency, add the missing dependency to 'Suggests:' in your DESCRIPTION file. See Renviron.bioc for more information.

raw results


Summary

Package: SWATH2stats
Version: 1.40.0
Command: /home/biocbuild/bbs-3.22-bioc/R/bin/R CMD check --install=check:SWATH2stats.install-out.txt --library=/home/biocbuild/bbs-3.22-bioc/R/site-library --timings SWATH2stats_1.40.0.tar.gz
StartedAt: 2025-11-18 09:13:20 -0500 (Tue, 18 Nov 2025)
EndedAt: 2025-11-18 09:17:09 -0500 (Tue, 18 Nov 2025)
EllapsedTime: 229.2 seconds
RetCode: 1
Status:   ERROR  
CheckDir: SWATH2stats.Rcheck
Warnings: NA

Command output

##############################################################################
##############################################################################
###
### Running command:
###
###   /home/biocbuild/bbs-3.22-bioc/R/bin/R CMD check --install=check:SWATH2stats.install-out.txt --library=/home/biocbuild/bbs-3.22-bioc/R/site-library --timings SWATH2stats_1.40.0.tar.gz
###
##############################################################################
##############################################################################


* using log directory ‘/home/biocbuild/bbs-3.22-bioc/meat/SWATH2stats.Rcheck’
* using R version 4.5.2 (2025-10-31)
* using platform: x86_64-pc-linux-gnu
* R was compiled by
    gcc (Ubuntu 13.3.0-6ubuntu2~24.04) 13.3.0
    GNU Fortran (Ubuntu 13.3.0-6ubuntu2~24.04) 13.3.0
* running under: Ubuntu 24.04.3 LTS
* using session charset: UTF-8
* checking for file ‘SWATH2stats/DESCRIPTION’ ... OK
* checking extension type ... Package
* this is package ‘SWATH2stats’ version ‘1.40.0’
* package encoding: UTF-8
* checking package namespace information ... OK
* checking package dependencies ... INFO
Package which this enhances but not available for checking: ‘aLFQ’
* checking if this is a source package ... OK
* checking if there is a namespace ... OK
* checking for hidden files and directories ... OK
* checking for portable file names ... OK
* checking for sufficient/correct file permissions ... OK
* checking whether package ‘SWATH2stats’ can be installed ... OK
* checking installed package size ... OK
* checking package directory ... OK
* checking ‘build’ directory ... OK
* checking DESCRIPTION meta-information ... OK
* checking top-level files ... OK
* checking for left-over files ... OK
* checking index information ... OK
* checking package subdirectories ... OK
* checking code files for non-ASCII characters ... OK
* checking R files for syntax errors ... OK
* checking whether the package can be loaded ... OK
* checking whether the package can be loaded with stated dependencies ... OK
* checking whether the package can be unloaded cleanly ... OK
* checking whether the namespace can be loaded with stated dependencies ... OK
* checking whether the namespace can be unloaded cleanly ... OK
* checking loading without being on the library search path ... OK
* checking dependencies in R code ... OK
* checking S3 generic/method consistency ... OK
* checking replacement functions ... OK
* checking foreign function calls ... OK
* checking R code for possible problems ... OK
* checking Rd files ... OK
* checking Rd metadata ... OK
* checking Rd cross-references ... OK
* checking for missing documentation entries ... OK
* checking for code/documentation mismatches ... OK
* checking Rd \usage sections ... OK
* checking Rd contents ... OK
* checking for unstated dependencies in examples ... OK
* checking contents of ‘data’ directory ... OK
* checking data for non-ASCII characters ... OK
* checking data for ASCII and uncompressed saves ... OK
* checking files in ‘vignettes’ ... OK
* checking examples ... OK
Examples with CPU (user + system) or elapsed time > 5s
           user system elapsed
load_mart 1.341  0.173  10.028
* checking for unstated dependencies in ‘tests’ ... OK
* checking tests ...
  Running ‘test-all.R’
 ERROR
Running the tests in ‘tests/test-all.R’ failed.
Last 13 lines of output:
  [1] "peterb_L150425_011_SW"
  [1] "peterb_L150514_002_SW"
  [ FAIL 1 | WARN 65 | SKIP 0 | PASS 93 ]
  
  ══ Failed tests ════════════════════════════════════════════════════════════════
  ── Error ('test_convert.R:33:3'): data conversion ──────────────────────────────
  Error in `is_true()`: could not find function "is_true"
  Backtrace:
      ▆
   1. └─testthat::expect_that(...) at test_convert.R:33:3
  
  [ FAIL 1 | WARN 65 | SKIP 0 | PASS 93 ]
  Error:
  ! Test failures.
  Execution halted
* checking for unstated dependencies in vignettes ... OK
* checking package vignettes ... OK
* checking re-building of vignette outputs ... OK
* checking PDF version of manual ... OK
* DONE

Status: 1 ERROR
See
  ‘/home/biocbuild/bbs-3.22-bioc/meat/SWATH2stats.Rcheck/00check.log’
for details.


Installation output

SWATH2stats.Rcheck/00install.out

##############################################################################
##############################################################################
###
### Running command:
###
###   /home/biocbuild/bbs-3.22-bioc/R/bin/R CMD INSTALL SWATH2stats
###
##############################################################################
##############################################################################


* installing to library ‘/home/biocbuild/bbs-3.22-bioc/R/site-library’
* installing *source* package ‘SWATH2stats’ ...
** this is package ‘SWATH2stats’ version ‘1.40.0’
** using staged installation
** R
** data
** inst
** byte-compile and prepare package for lazy loading
** help
*** installing help indices
** building package indices
** installing vignettes
** testing if installed package can be loaded from temporary location
** testing if installed package can be loaded from final location
** testing if installed package keeps a record of temporary installation path
* DONE (SWATH2stats)

Tests output

SWATH2stats.Rcheck/tests/test-all.Rout.fail


R version 4.5.2 (2025-10-31) -- "[Not] Part in a Rumble"
Copyright (C) 2025 The R Foundation for Statistical Computing
Platform: x86_64-pc-linux-gnu

R is free software and comes with ABSOLUTELY NO WARRANTY.
You are welcome to redistribute it under certain conditions.
Type 'license()' or 'licence()' for distribution details.

R is a collaborative project with many contributors.
Type 'contributors()' for more information and
'citation()' on how to cite R or R packages in publications.

Type 'demo()' for some demos, 'help()' for on-line help, or
'help.start()' for an HTML browser interface to help.
Type 'q()' to quit R.

> library(testthat)
> test_check("SWATH2stats")
Loading required package: SWATH2stats
Saving _problems/test_convert-33.R
[1] "peterb_J131223_054"
[1] "peterb_L150425_011_SW"
[1] "peterb_L150514_002_SW"
[ FAIL 1 | WARN 65 | SKIP 0 | PASS 93 ]

══ Failed tests ════════════════════════════════════════════════════════════════
── Error ('test_convert.R:33:3'): data conversion ──────────────────────────────
Error in `is_true()`: could not find function "is_true"
Backtrace:
    ▆
 1. └─testthat::expect_that(...) at test_convert.R:33:3

[ FAIL 1 | WARN 65 | SKIP 0 | PASS 93 ]
Error:
! Test failures.
Execution halted

Example timings

SWATH2stats.Rcheck/SWATH2stats-Ex.timings

nameusersystemelapsed
JPP_update0.1120.0000.112
add_genesymbol0.0060.0000.006
assess_decoy_rate0.5280.0040.531
assess_fdr_byrun0.1610.0210.182
assess_fdr_overall0.1660.0610.227
convert4MSstats0.7490.0830.832
convert4PECA0.1450.0130.158
convert4aLFQ0.7860.0760.862
convert4mapDIA0.3640.0220.386
convert4pythonscript0.1210.0010.122
convert_protein_ids000
count_analytes0.1380.0010.138
disaggregate0.2040.0010.204
filter_all_peptides0.1360.0010.137
filter_mscore0.1840.0220.191
filter_mscore_condition0.1580.0120.156
filter_mscore_fdr0.3370.0060.343
filter_mscore_freqobs0.1660.0000.150
filter_on_max_peptides0.1680.0000.143
filter_on_min_peptides0.1810.0000.153
filter_proteotypic_peptides0.1230.0010.118
import_data0.4490.0190.470
load_mart 1.341 0.17310.028
mscore4assayfdr0.2330.0230.257
mscore4pepfdr0.2950.0020.298
mscore4protfdr0.2000.0030.202
plot.fdr_cube0.1430.0010.144
plot.fdr_table0.1390.0020.141
plot_correlation_between_samples0.6800.0730.753
plot_variation0.5130.0460.560
plot_variation_vs_total0.4620.0030.464
reduce_OpenSWATH_output0.1060.0030.109
removeDecoyProteins0.1100.0010.111
sample_annotation0.1510.0000.152
transform_MSstats_OpenSWATH0.0030.0000.003
unifyProteinGroupLabels0.1140.0000.114
validate_columns0.0000.0000.001
write_matrix_peptides0.1150.0000.115
write_matrix_proteins0.1100.0050.116