| Back to Multiple platform build/check report for BioC 3.22: simplified long |
|
This page was generated on 2025-10-25 12:06 -0400 (Sat, 25 Oct 2025).
| Hostname | OS | Arch (*) | R version | Installed pkgs |
|---|---|---|---|---|
| nebbiolo2 | Linux (Ubuntu 24.04.3 LTS) | x86_64 | 4.5.1 Patched (2025-08-23 r88802) -- "Great Square Root" | 4901 |
| lconway | macOS 12.7.6 Monterey | x86_64 | 4.5.1 Patched (2025-09-10 r88807) -- "Great Square Root" | 4691 |
| kjohnson3 | macOS 13.7.7 Ventura | arm64 | 4.5.1 Patched (2025-09-10 r88807) -- "Great Square Root" | 4637 |
| taishan | Linux (openEuler 24.03 LTS) | aarch64 | 4.5.0 (2025-04-11) -- "How About a Twenty-Six" | 4658 |
| Click on any hostname to see more info about the system (e.g. compilers) (*) as reported by 'uname -p', except on Windows and Mac OS X | ||||
| Package 1743/2361 | Hostname | OS / Arch | INSTALL | BUILD | CHECK | BUILD BIN | ||||||||
| ReactomeGSA 1.23.0 (landing page) Johannes Griss
| nebbiolo2 | Linux (Ubuntu 24.04.3 LTS) / x86_64 | OK | OK | OK | |||||||||
| lconway | macOS 12.7.6 Monterey / x86_64 | OK | OK | OK | OK | |||||||||
| kjohnson3 | macOS 13.7.7 Ventura / arm64 | OK | OK | OK | OK | |||||||||
| taishan | Linux (openEuler 24.03 LTS) / aarch64 | OK | NA | NA | ||||||||||
|
To the developers/maintainers of the ReactomeGSA package: - Allow up to 24 hours (and sometimes 48 hours) for your latest push to git@git.bioconductor.org:packages/ReactomeGSA.git to reflect on this report. See Troubleshooting Build Report for more information. - Use the following Renviron settings to reproduce errors and warnings. - If 'R CMD check' started to fail recently on the Linux builder(s) over a missing dependency, add the missing dependency to 'Suggests:' in your DESCRIPTION file. See Renviron.bioc for more information. |
| Package: ReactomeGSA |
| Version: 1.23.0 |
| Command: /Library/Frameworks/R.framework/Resources/bin/R CMD check --install=check:ReactomeGSA.install-out.txt --library=/Library/Frameworks/R.framework/Resources/library --no-vignettes --timings ReactomeGSA_1.23.0.tar.gz |
| StartedAt: 2025-10-24 21:35:14 -0400 (Fri, 24 Oct 2025) |
| EndedAt: 2025-10-24 21:45:14 -0400 (Fri, 24 Oct 2025) |
| EllapsedTime: 599.7 seconds |
| RetCode: 0 |
| Status: OK |
| CheckDir: ReactomeGSA.Rcheck |
| Warnings: 0 |
##############################################################################
##############################################################################
###
### Running command:
###
### /Library/Frameworks/R.framework/Resources/bin/R CMD check --install=check:ReactomeGSA.install-out.txt --library=/Library/Frameworks/R.framework/Resources/library --no-vignettes --timings ReactomeGSA_1.23.0.tar.gz
###
##############################################################################
##############################################################################
* using log directory ‘/Users/biocbuild/bbs-3.22-bioc/meat/ReactomeGSA.Rcheck’
* using R version 4.5.1 Patched (2025-09-10 r88807)
* using platform: aarch64-apple-darwin20
* R was compiled by
Apple clang version 16.0.0 (clang-1600.0.26.6)
GNU Fortran (GCC) 14.2.0
* running under: macOS Ventura 13.7.7
* using session charset: UTF-8
* using option ‘--no-vignettes’
* checking for file ‘ReactomeGSA/DESCRIPTION’ ... OK
* checking extension type ... Package
* this is package ‘ReactomeGSA’ version ‘1.23.0’
* package encoding: UTF-8
* checking package namespace information ... OK
* checking package dependencies ... OK
* checking if this is a source package ... OK
* checking if there is a namespace ... OK
* checking for hidden files and directories ... OK
* checking for portable file names ... OK
* checking for sufficient/correct file permissions ... OK
* checking whether package ‘ReactomeGSA’ can be installed ... OK
* checking installed package size ... OK
* checking package directory ... OK
* checking ‘build’ directory ... OK
* checking DESCRIPTION meta-information ... OK
* checking top-level files ... OK
* checking for left-over files ... OK
* checking index information ... OK
* checking package subdirectories ... OK
* checking code files for non-ASCII characters ... OK
* checking R files for syntax errors ... OK
* checking whether the package can be loaded ... OK
* checking whether the package can be loaded with stated dependencies ... OK
* checking whether the package can be unloaded cleanly ... OK
* checking whether the namespace can be loaded with stated dependencies ... OK
* checking whether the namespace can be unloaded cleanly ... OK
* checking whether startup messages can be suppressed ... OK
* checking dependencies in R code ... OK
* checking S3 generic/method consistency ... OK
* checking replacement functions ... OK
* checking foreign function calls ... OK
* checking R code for possible problems ... NOTE
plot_correlations,ReactomeAnalysisResult: no visible binding for global
variable ‘combined_sig’
plot_correlations,ReactomeAnalysisResult: no visible binding for global
variable ‘alpha’
plot_gsva_pathway,ReactomeAnalysisResult: no visible binding for global
variable ‘cluster_id’
plot_gsva_pathway,ReactomeAnalysisResult: no visible binding for global
variable ‘expr’
plot_gsva_pca,ReactomeAnalysisResult: no visible binding for global
variable ‘gsva_result’
plot_gsva_pca,ReactomeAnalysisResult: no visible binding for global
variable ‘PC1’
plot_gsva_pca,ReactomeAnalysisResult: no visible binding for global
variable ‘PC2’
plot_heatmap,ReactomeAnalysisResult: no visible global function
definition for ‘desc’
plot_heatmap,ReactomeAnalysisResult: no visible binding for global
variable ‘n_sig’
plot_heatmap,ReactomeAnalysisResult: no visible binding for global
variable ‘dataset’
plot_heatmap,ReactomeAnalysisResult: no visible binding for global
variable ‘Name’
plot_volcano,ReactomeAnalysisResult: no visible binding for global
variable ‘av_foldchange’
plot_volcano,ReactomeAnalysisResult: no visible binding for global
variable ‘FDR’
Undefined global functions or variables:
FDR Name PC1 PC2 alpha av_foldchange cluster_id combined_sig dataset
desc expr gsva_result n_sig
* checking Rd files ... OK
* checking Rd metadata ... OK
* checking Rd cross-references ... OK
* checking for missing documentation entries ... OK
* checking for code/documentation mismatches ... OK
* checking Rd \usage sections ... OK
* checking Rd contents ... OK
* checking for unstated dependencies in examples ... OK
* checking files in ‘vignettes’ ... OK
* checking examples ... OK
Examples with CPU (user + system) or elapsed time > 5s
user system elapsed
plot_gsva_heatmap 10.568 1.070 83.126
plot_gsva_pathway 10.519 0.982 47.163
plot_gsva_heatmap-ReactomeAnalysisResult-method 10.313 1.002 85.360
plot_gsva_pca-ReactomeAnalysisResult-method 10.192 1.104 45.476
plot_gsva_pca 10.182 1.069 48.833
analyse_sc_clusters-Seurat-method 10.313 0.929 57.883
plot_gsva_pathway-ReactomeAnalysisResult-method 9.891 1.022 49.942
analyse_sc_clusters-SingleCellExperiment-method 9.924 0.986 48.305
analyse_sc_clusters 9.518 0.929 48.275
generate_pseudo_bulk_data 6.060 0.487 6.624
perform_reactome_analysis 0.886 0.104 15.233
load_public_dataset 0.569 0.074 23.917
* checking for unstated dependencies in ‘tests’ ... OK
* checking tests ...
Running ‘testthat.R’
OK
* checking for unstated dependencies in vignettes ... OK
* checking package vignettes ... OK
* checking running R code from vignettes ... SKIPPED
* checking re-building of vignette outputs ... SKIPPED
* checking PDF version of manual ... OK
* DONE
Status: 1 NOTE
See
‘/Users/biocbuild/bbs-3.22-bioc/meat/ReactomeGSA.Rcheck/00check.log’
for details.
ReactomeGSA.Rcheck/00install.out
############################################################################## ############################################################################## ### ### Running command: ### ### /Library/Frameworks/R.framework/Resources/bin/R CMD INSTALL ReactomeGSA ### ############################################################################## ############################################################################## * installing to library ‘/Library/Frameworks/R.framework/Versions/4.5-arm64/Resources/library’ * installing *source* package ‘ReactomeGSA’ ... ** this is package ‘ReactomeGSA’ version ‘1.23.0’ ** using staged installation ** R ** inst ** byte-compile and prepare package for lazy loading in method for ‘analyse_sc_clusters’ with signature ‘object="Seurat"’: no definition for class “Seurat” in method for ‘analyse_sc_clusters’ with signature ‘object="SingleCellExperiment"’: no definition for class “SingleCellExperiment” in method for ‘add_dataset’ with signature ‘request="ReactomeAnalysisRequest",expression_values="EList"’: no definition for class “EList” in method for ‘add_dataset’ with signature ‘request="ReactomeAnalysisRequest",expression_values="DGEList"’: no definition for class “DGEList” in method for ‘generate_pseudo_bulk_data’ with signature ‘object="Seurat"’: no definition for class “Seurat” in method for ‘generate_pseudo_bulk_data’ with signature ‘object="SingleCellExperiment"’: no definition for class “SingleCellExperiment” ** help *** installing help indices ** building package indices ** installing vignettes ** testing if installed package can be loaded from temporary location ** testing if installed package can be loaded from final location ** testing if installed package keeps a record of temporary installation path * DONE (ReactomeGSA)
ReactomeGSA.Rcheck/tests/testthat.Rout
R version 4.5.1 Patched (2025-09-10 r88807) -- "Great Square Root"
Copyright (C) 2025 The R Foundation for Statistical Computing
Platform: aarch64-apple-darwin20
R is free software and comes with ABSOLUTELY NO WARRANTY.
You are welcome to redistribute it under certain conditions.
Type 'license()' or 'licence()' for distribution details.
R is a collaborative project with many contributors.
Type 'contributors()' for more information and
'citation()' on how to cite R or R packages in publications.
Type 'demo()' for some demos, 'help()' for on-line help, or
'help.start()' for an HTML browser interface to help.
Type 'q()' to quit R.
> library(testthat)
> library(ReactomeGSA)
>
> test_check("ReactomeGSA")
[ FAIL 0 | WARN 0 | SKIP 0 | PASS 17 ]
>
> proc.time()
user system elapsed
0.695 0.059 0.754
ReactomeGSA.Rcheck/ReactomeGSA-Ex.timings
| name | user | system | elapsed | |
| ReactomeAnalysisRequest | 1.975 | 0.096 | 2.078 | |
| ReactomeAnalysisResult-class | 0.085 | 0.003 | 0.089 | |
| add_dataset-ReactomeAnalysisRequest-DGEList-method | 0.425 | 0.030 | 0.462 | |
| add_dataset-ReactomeAnalysisRequest-EList-method | 0.257 | 0.025 | 0.284 | |
| add_dataset-ReactomeAnalysisRequest-ExpressionSet-method | 0.251 | 0.028 | 0.279 | |
| add_dataset-ReactomeAnalysisRequest-data.frame-method | 0.255 | 0.031 | 0.286 | |
| add_dataset-ReactomeAnalysisRequest-matrix-method | 0.260 | 0.024 | 0.286 | |
| add_dataset | 0.256 | 0.029 | 0.284 | |
| analyse_sc_clusters-Seurat-method | 10.313 | 0.929 | 57.883 | |
| analyse_sc_clusters-SingleCellExperiment-method | 9.924 | 0.986 | 48.305 | |
| analyse_sc_clusters | 9.518 | 0.929 | 48.275 | |
| find_public_datasets | 0.039 | 0.008 | 3.291 | |
| generate_metadata | 0.001 | 0.000 | 0.001 | |
| generate_pseudo_bulk_data | 6.060 | 0.487 | 6.624 | |
| get_public_species | 0.010 | 0.001 | 0.309 | |
| get_reactome_data_types | 0.022 | 0.004 | 0.622 | |
| get_reactome_methods | 0.035 | 0.007 | 0.946 | |
| get_result-ReactomeAnalysisResult-method | 0.089 | 0.003 | 0.092 | |
| get_result | 0.089 | 0.003 | 0.092 | |
| load_public_dataset | 0.569 | 0.074 | 23.917 | |
| names-ReactomeAnalysisResult-method | 0.091 | 0.004 | 0.095 | |
| open_reactome-ReactomeAnalysisResult-method | 0.084 | 0.004 | 0.088 | |
| open_reactome | 0.086 | 0.003 | 0.089 | |
| pathways-ReactomeAnalysisResult-method | 0.110 | 0.006 | 0.117 | |
| pathways | 0.106 | 0.004 | 0.111 | |
| perform_reactome_analysis | 0.886 | 0.104 | 15.233 | |
| plot_correlations-ReactomeAnalysisResult-method | 0.131 | 0.006 | 0.136 | |
| plot_correlations | 0.107 | 0.005 | 0.112 | |
| plot_gsva_heatmap-ReactomeAnalysisResult-method | 10.313 | 1.002 | 85.360 | |
| plot_gsva_heatmap | 10.568 | 1.070 | 83.126 | |
| plot_gsva_pathway-ReactomeAnalysisResult-method | 9.891 | 1.022 | 49.942 | |
| plot_gsva_pathway | 10.519 | 0.982 | 47.163 | |
| plot_gsva_pca-ReactomeAnalysisResult-method | 10.192 | 1.104 | 45.476 | |
| plot_gsva_pca | 10.182 | 1.069 | 48.833 | |
| plot_heatmap-ReactomeAnalysisResult-method | 0.200 | 0.005 | 0.206 | |
| plot_heatmap | 0.225 | 0.005 | 0.231 | |
| plot_volcano-ReactomeAnalysisResult-method | 0.094 | 0.004 | 0.098 | |
| plot_volcano | 0.098 | 0.004 | 0.101 | |
| print-ReactomeAnalysisRequest-method | 0.001 | 0.000 | 0.001 | |
| print-ReactomeAnalysisResult-method | 0.088 | 0.004 | 0.093 | |
| reactome_links-ReactomeAnalysisResult-method | 0.091 | 0.004 | 0.103 | |
| reactome_links | 0.093 | 0.003 | 0.096 | |
| result_types-ReactomeAnalysisResult-method | 0.100 | 0.003 | 0.104 | |
| result_types | 0.092 | 0.003 | 0.096 | |
| set_method-ReactomeAnalysisRequest-method | 0.001 | 0.001 | 0.002 | |
| set_method | 0.001 | 0.001 | 0.001 | |
| set_parameters-ReactomeAnalysisRequest-method | 0.000 | 0.000 | 0.001 | |
| set_parameters | 0.001 | 0.000 | 0.001 | |
| show-ReactomeAnalysisRequest-method | 0.000 | 0.001 | 0.001 | |
| show-ReactomeAnalysisResult-method | 0.091 | 0.003 | 0.094 | |