Back to Multiple platform build/check report for BioC 3.22:   simplified   long
ABCDEFGHIJKLMNOPQ[R]STUVWXYZ

This page was generated on 2025-11-24 12:05 -0500 (Mon, 24 Nov 2025).

HostnameOSArch (*)R versionInstalled pkgs
nebbiolo2Linux (Ubuntu 24.04.3 LTS)x86_644.5.2 (2025-10-31) -- "[Not] Part in a Rumble" 4873
merida1macOS 12.7.6 Montereyx86_644.5.2 Patched (2025-11-05 r88990) -- "[Not] Part in a Rumble" 4654
kjohnson1macOS 13.7.5 Venturaarm644.5.2 Patched (2025-11-04 r88984) -- "[Not] Part in a Rumble" 4600
taishanLinux (openEuler 24.03 LTS)aarch644.5.0 (2025-04-11) -- "How About a Twenty-Six" 4668
Click on any hostname to see more info about the system (e.g. compilers)      (*) as reported by 'uname -p', except on Windows and Mac OS X

Package 1771/2361HostnameOS / ArchINSTALLBUILDCHECKBUILD BIN
RESOLVE 1.12.0  (landing page)
Luca De Sano
Snapshot Date: 2025-11-20 15:01 -0500 (Thu, 20 Nov 2025)
git_url: https://git.bioconductor.org/packages/RESOLVE
git_branch: RELEASE_3_22
git_last_commit: 0daa88d
git_last_commit_date: 2025-10-29 11:19:27 -0500 (Wed, 29 Oct 2025)
nebbiolo2Linux (Ubuntu 24.04.3 LTS) / x86_64  OK    OK    OK  UNNEEDED, same version is already published
merida1macOS 12.7.6 Monterey / x86_64  OK    OK    OK    OK  UNNEEDED, same version is already published
kjohnson1macOS 13.7.5 Ventura / arm64  OK    OK    OK    OK  UNNEEDED, same version is already published
taishanLinux (openEuler 24.03 LTS) / aarch64  OK    OK    OK  


CHECK results for RESOLVE on merida1

To the developers/maintainers of the RESOLVE package:
- Allow up to 24 hours (and sometimes 48 hours) for your latest push to git@git.bioconductor.org:packages/RESOLVE.git to reflect on this report. See Troubleshooting Build Report for more information.
- Use the following Renviron settings to reproduce errors and warnings.
- If 'R CMD check' started to fail recently on the Linux builder(s) over a missing dependency, add the missing dependency to 'Suggests:' in your DESCRIPTION file. See Renviron.bioc for more information.

raw results


Summary

Package: RESOLVE
Version: 1.12.0
Command: /Library/Frameworks/R.framework/Resources/bin/R CMD check --install=check:RESOLVE.install-out.txt --library=/Library/Frameworks/R.framework/Resources/library --no-vignettes --timings RESOLVE_1.12.0.tar.gz
StartedAt: 2025-11-21 10:24:03 -0500 (Fri, 21 Nov 2025)
EndedAt: 2025-11-21 10:47:33 -0500 (Fri, 21 Nov 2025)
EllapsedTime: 1410.5 seconds
RetCode: 0
Status:   OK  
CheckDir: RESOLVE.Rcheck
Warnings: 0

Command output

##############################################################################
##############################################################################
###
### Running command:
###
###   /Library/Frameworks/R.framework/Resources/bin/R CMD check --install=check:RESOLVE.install-out.txt --library=/Library/Frameworks/R.framework/Resources/library --no-vignettes --timings RESOLVE_1.12.0.tar.gz
###
##############################################################################
##############################################################################


* using log directory ‘/Users/biocbuild/bbs-3.22-bioc/meat/RESOLVE.Rcheck’
* using R version 4.5.2 Patched (2025-11-05 r88990)
* using platform: x86_64-apple-darwin20
* R was compiled by
    Apple clang version 14.0.0 (clang-1400.0.29.202)
    GNU Fortran (GCC) 14.2.0
* running under: macOS Monterey 12.7.6
* using session charset: UTF-8
* using option ‘--no-vignettes’
* checking for file ‘RESOLVE/DESCRIPTION’ ... OK
* this is package ‘RESOLVE’ version ‘1.12.0’
* package encoding: UTF-8
* checking package namespace information ... OK
* checking package dependencies ... OK
* checking if this is a source package ... OK
* checking if there is a namespace ... OK
* checking for hidden files and directories ... OK
* checking for portable file names ... OK
* checking for sufficient/correct file permissions ... OK
* checking whether package ‘RESOLVE’ can be installed ... OK
* checking installed package size ... OK
* checking package directory ... OK
* checking ‘build’ directory ... OK
* checking DESCRIPTION meta-information ... OK
* checking top-level files ... OK
* checking for left-over files ... OK
* checking index information ... OK
* checking package subdirectories ... OK
* checking code files for non-ASCII characters ... OK
* checking R files for syntax errors ... OK
* checking whether the package can be loaded ... OK
* checking whether the package can be loaded with stated dependencies ... OK
* checking whether the package can be unloaded cleanly ... OK
* checking whether the namespace can be loaded with stated dependencies ... OK
* checking whether the namespace can be unloaded cleanly ... OK
* checking dependencies in R code ... OK
* checking S3 generic/method consistency ... OK
* checking replacement functions ... OK
* checking foreign function calls ... OK
* checking R code for possible problems ... OK
* checking Rd files ... OK
* checking Rd metadata ... OK
* checking Rd cross-references ... OK
* checking for missing documentation entries ... OK
* checking for code/documentation mismatches ... OK
* checking Rd \usage sections ... OK
* checking Rd contents ... OK
* checking for unstated dependencies in examples ... OK
* checking contents of ‘data’ directory ... OK
* checking data for non-ASCII characters ... OK
* checking data for ASCII and uncompressed saves ... OK
* checking files in ‘vignettes’ ... OK
* checking examples ... OK
Examples with CPU (user + system) or elapsed time > 5s
                           user system elapsed
signaturesSignificance  158.217  0.595 166.534
signaturesCV            122.822  0.562 126.677
signaturesDecomposition  91.968  0.392  93.711
signaturesAssignment     46.105  0.218  51.049
getMNVCounts             29.428  0.259  31.451
signaturesClustering     17.846  0.065  18.483
groupsIDPlot             13.980  0.055  15.173
getIDCounts              13.112  0.734  14.872
groupsMNVPlot            11.602  0.368  12.352
signaturesIDPlot         11.118  0.041  11.328
groupsSBSPlot            10.183  0.057  10.383
groupsCNPlot              9.335  0.056  10.125
signaturesMNVPlot         7.234  0.022   7.437
signaturesCNPlot          7.010  0.049   7.129
patientsIDPlot            6.890  0.020   6.932
groupsCXPlot              5.682  0.031   6.151
getSBSCounts              2.655  1.462   6.362
* checking for unstated dependencies in ‘tests’ ... OK
* checking tests ...
  Running ‘testthat.R’
 OK
* checking for unstated dependencies in vignettes ... OK
* checking package vignettes ... OK
* checking running R code from vignettes ... SKIPPED
* checking re-building of vignette outputs ... SKIPPED
* checking PDF version of manual ... OK
* DONE

Status: OK


Installation output

RESOLVE.Rcheck/00install.out

##############################################################################
##############################################################################
###
### Running command:
###
###   /Library/Frameworks/R.framework/Resources/bin/R CMD INSTALL RESOLVE
###
##############################################################################
##############################################################################


* installing to library ‘/Library/Frameworks/R.framework/Versions/4.5-x86_64/Resources/library’
* installing *source* package ‘RESOLVE’ ...
** this is package ‘RESOLVE’ version ‘1.12.0’
** using staged installation
** R
** data
** inst
** byte-compile and prepare package for lazy loading
** help
*** installing help indices
** building package indices
** installing vignettes
** testing if installed package can be loaded from temporary location
** testing if installed package can be loaded from final location
** testing if installed package keeps a record of temporary installation path
* DONE (RESOLVE)

Tests output

RESOLVE.Rcheck/tests/testthat.Rout


R version 4.5.2 Patched (2025-11-05 r88990) -- "[Not] Part in a Rumble"
Copyright (C) 2025 The R Foundation for Statistical Computing
Platform: x86_64-apple-darwin20

R is free software and comes with ABSOLUTELY NO WARRANTY.
You are welcome to redistribute it under certain conditions.
Type 'license()' or 'licence()' for distribution details.

R is a collaborative project with many contributors.
Type 'contributors()' for more information and
'citation()' on how to cite R or R packages in publications.

Type 'demo()' for some demos, 'help()' for on-line help, or
'help.start()' for an HTML browser interface to help.
Type 'q()' to quit R.

> Sys.setenv("R_TESTS" = "")
> 
> library("testthat")
> library("RESOLVE")
> 
> test_check("RESOLVE")
[ FAIL 0 | WARN 203 | SKIP 0 | PASS 6 ]

[ FAIL 0 | WARN 203 | SKIP 0 | PASS 6 ]
> 
> proc.time()
   user  system elapsed 
238.609   3.029 264.472 

Example timings

RESOLVE.Rcheck/RESOLVE-Ex.timings

nameusersystemelapsed
associationAlterations1.9370.0892.225
associationPrognosis1.2610.0261.388
associationSignatures2.3670.0652.623
getCNCounts0.0270.0020.029
getIDCounts13.112 0.73414.872
getMNVCounts29.428 0.25931.451
getSBSCounts2.6551.4626.362
groupsCNPlot 9.335 0.05610.125
groupsCXPlot5.6820.0316.151
groupsIDPlot13.980 0.05515.173
groupsMNVPlot11.602 0.36812.352
groupsSBSPlot10.183 0.05710.383
patientsCNPlot4.6290.0174.657
patientsCXPlot3.2300.0143.250
patientsIDPlot6.8900.0206.932
patientsMNVPlot4.6220.0184.737
patientsSBSPlot2.9940.0123.013
signaturesAssignment46.105 0.21851.049
signaturesCNPlot7.0100.0497.129
signaturesCV122.822 0.562126.677
signaturesCXPlot3.4670.0143.563
signaturesClustering17.846 0.06518.483
signaturesDecomposition91.968 0.39293.711
signaturesIDPlot11.118 0.04111.328
signaturesMNVPlot7.2340.0227.437
signaturesSBSPlot4.6730.0164.851
signaturesSignificance158.217 0.595166.534