Back to Multiple platform build/check report for BioC 3.22:   simplified   long
ABCDEFGHIJKLMNOPQ[R]STUVWXYZ

This page was generated on 2025-10-25 12:04 -0400 (Sat, 25 Oct 2025).

HostnameOSArch (*)R versionInstalled pkgs
nebbiolo2Linux (Ubuntu 24.04.3 LTS)x86_644.5.1 Patched (2025-08-23 r88802) -- "Great Square Root" 4901
lconwaymacOS 12.7.6 Montereyx86_644.5.1 Patched (2025-09-10 r88807) -- "Great Square Root" 4691
kjohnson3macOS 13.7.7 Venturaarm644.5.1 Patched (2025-09-10 r88807) -- "Great Square Root" 4637
taishanLinux (openEuler 24.03 LTS)aarch644.5.0 (2025-04-11) -- "How About a Twenty-Six" 4658
Click on any hostname to see more info about the system (e.g. compilers)      (*) as reported by 'uname -p', except on Windows and Mac OS X

Package 1702/2361HostnameOS / ArchINSTALLBUILDCHECKBUILD BIN
RAIDS 1.7.3  (landing page)
Pascal Belleau
Snapshot Date: 2025-10-24 13:45 -0400 (Fri, 24 Oct 2025)
git_url: https://git.bioconductor.org/packages/RAIDS
git_branch: devel
git_last_commit: 3a182eb
git_last_commit_date: 2025-10-07 16:32:58 -0400 (Tue, 07 Oct 2025)
nebbiolo2Linux (Ubuntu 24.04.3 LTS) / x86_64  OK    OK    OK  UNNEEDED, same version is already published
lconwaymacOS 12.7.6 Monterey / x86_64  OK    OK    OK    OK  UNNEEDED, same version is already published
kjohnson3macOS 13.7.7 Ventura / arm64  OK    OK    OK    OK  UNNEEDED, same version is already published
taishanLinux (openEuler 24.03 LTS) / aarch64  OK    NA    NA  


CHECK results for RAIDS on nebbiolo2

To the developers/maintainers of the RAIDS package:
- Allow up to 24 hours (and sometimes 48 hours) for your latest push to git@git.bioconductor.org:packages/RAIDS.git to reflect on this report. See Troubleshooting Build Report for more information.
- Use the following Renviron settings to reproduce errors and warnings.
- If 'R CMD check' started to fail recently on the Linux builder(s) over a missing dependency, add the missing dependency to 'Suggests:' in your DESCRIPTION file. See Renviron.bioc for more information.

raw results


Summary

Package: RAIDS
Version: 1.7.3
Command: /home/biocbuild/bbs-3.22-bioc/R/bin/R CMD check --install=check:RAIDS.install-out.txt --library=/home/biocbuild/bbs-3.22-bioc/R/site-library --timings RAIDS_1.7.3.tar.gz
StartedAt: 2025-10-25 03:07:57 -0400 (Sat, 25 Oct 2025)
EndedAt: 2025-10-25 03:16:38 -0400 (Sat, 25 Oct 2025)
EllapsedTime: 520.7 seconds
RetCode: 0
Status:   OK  
CheckDir: RAIDS.Rcheck
Warnings: 0

Command output

##############################################################################
##############################################################################
###
### Running command:
###
###   /home/biocbuild/bbs-3.22-bioc/R/bin/R CMD check --install=check:RAIDS.install-out.txt --library=/home/biocbuild/bbs-3.22-bioc/R/site-library --timings RAIDS_1.7.3.tar.gz
###
##############################################################################
##############################################################################


* using log directory ‘/home/biocbuild/bbs-3.22-bioc/meat/RAIDS.Rcheck’
* using R version 4.5.1 Patched (2025-08-23 r88802)
* using platform: x86_64-pc-linux-gnu
* R was compiled by
    gcc (Ubuntu 13.3.0-6ubuntu2~24.04) 13.3.0
    GNU Fortran (Ubuntu 13.3.0-6ubuntu2~24.04) 13.3.0
* running under: Ubuntu 24.04.3 LTS
* using session charset: UTF-8
* checking for file ‘RAIDS/DESCRIPTION’ ... OK
* checking extension type ... Package
* this is package ‘RAIDS’ version ‘1.7.3’
* package encoding: UTF-8
* checking package namespace information ... OK
* checking package dependencies ... OK
* checking if this is a source package ... OK
* checking if there is a namespace ... OK
* checking for hidden files and directories ... OK
* checking for portable file names ... OK
* checking for sufficient/correct file permissions ... OK
* checking whether package ‘RAIDS’ can be installed ... OK
* checking installed package size ... OK
* checking package directory ... OK
* checking ‘build’ directory ... OK
* checking DESCRIPTION meta-information ... OK
* checking top-level files ... OK
* checking for left-over files ... OK
* checking index information ... OK
* checking package subdirectories ... OK
* checking code files for non-ASCII characters ... OK
* checking R files for syntax errors ... OK
* checking whether the package can be loaded ... OK
* checking whether the package can be loaded with stated dependencies ... OK
* checking whether the package can be unloaded cleanly ... OK
* checking whether the namespace can be loaded with stated dependencies ... OK
* checking whether the namespace can be unloaded cleanly ... OK
* checking loading without being on the library search path ... OK
* checking dependencies in R code ... OK
* checking S3 generic/method consistency ... OK
* checking replacement functions ... OK
* checking foreign function calls ... OK
* checking R code for possible problems ... OK
* checking Rd files ... OK
* checking Rd metadata ... OK
* checking Rd cross-references ... OK
* checking for missing documentation entries ... OK
* checking for code/documentation mismatches ... OK
* checking Rd \usage sections ... NOTE
Documented arguments not in \usage in Rd file 'wrapperAncestry.Rd':
  ‘pathGeno’

Functions with \usage entries need to have the appropriate \alias
entries, and all their arguments documented.
The \usage entries must correspond to syntactically valid R code.
See chapter ‘Writing R documentation files’ in the ‘Writing R
Extensions’ manual.
* checking Rd contents ... OK
* checking for unstated dependencies in examples ... OK
* checking contents of ‘data’ directory ... OK
* checking data for non-ASCII characters ... OK
* checking data for ASCII and uncompressed saves ... OK
* checking files in ‘vignettes’ ... OK
* checking examples ... OK
Examples with CPU (user + system) or elapsed time > 5s
                                  user system elapsed
readSNVBAM                       5.369  0.096   5.465
computeAncestryFromSyntheticFile 5.151  0.128   5.280
* checking for unstated dependencies in ‘tests’ ... OK
* checking tests ...
  Running ‘testthat.R’
 OK
* checking for unstated dependencies in vignettes ... OK
* checking package vignettes ... OK
* checking re-building of vignette outputs ... OK
* checking PDF version of manual ... OK
* DONE

Status: 1 NOTE
See
  ‘/home/biocbuild/bbs-3.22-bioc/meat/RAIDS.Rcheck/00check.log’
for details.


Installation output

RAIDS.Rcheck/00install.out

##############################################################################
##############################################################################
###
### Running command:
###
###   /home/biocbuild/bbs-3.22-bioc/R/bin/R CMD INSTALL RAIDS
###
##############################################################################
##############################################################################


* installing to library ‘/home/biocbuild/bbs-3.22-bioc/R/site-library’
* installing *source* package ‘RAIDS’ ...
** this is package ‘RAIDS’ version ‘1.7.3’
** using staged installation
** R
** data
** inst
** byte-compile and prepare package for lazy loading
** help
*** installing help indices
** building package indices
** installing vignettes
** testing if installed package can be loaded from temporary location
** testing if installed package can be loaded from final location
** testing if installed package keeps a record of temporary installation path
* DONE (RAIDS)

Tests output

RAIDS.Rcheck/tests/testthat.Rout


R version 4.5.1 Patched (2025-08-23 r88802) -- "Great Square Root"
Copyright (C) 2025 The R Foundation for Statistical Computing
Platform: x86_64-pc-linux-gnu

R is free software and comes with ABSOLUTELY NO WARRANTY.
You are welcome to redistribute it under certain conditions.
Type 'license()' or 'licence()' for distribution details.

R is a collaborative project with many contributors.
Type 'contributors()' for more information and
'citation()' on how to cite R or R packages in publications.

Type 'demo()' for some demos, 'help()' for on-line help, or
'help.start()' for an HTML browser interface to help.
Type 'q()' to quit R.

> library(testthat)
> library(RAIDS)
Loading required package: gdsfmt
Loading required package: SNPRelate
SNPRelate -- supported by Streaming SIMD Extensions 2 (SSE2)
Loading required package: GENESIS
Loading required package: dplyr

Attaching package: 'dplyr'

The following object is masked from 'package:testthat':

    matches

The following objects are masked from 'package:stats':

    filter, lag

The following objects are masked from 'package:base':

    intersect, setdiff, setequal, union

Loading required package: Rsamtools
Loading required package: Seqinfo
Loading required package: BiocGenerics
Loading required package: generics

Attaching package: 'generics'

The following object is masked from 'package:dplyr':

    explain

The following objects are masked from 'package:base':

    as.difftime, as.factor, as.ordered, intersect, is.element, setdiff,
    setequal, union


Attaching package: 'BiocGenerics'

The following object is masked from 'package:dplyr':

    combine

The following objects are masked from 'package:stats':

    IQR, mad, sd, var, xtabs

The following objects are masked from 'package:base':

    Filter, Find, Map, Position, Reduce, anyDuplicated, aperm, append,
    as.data.frame, basename, cbind, colnames, dirname, do.call,
    duplicated, eval, evalq, get, grep, grepl, is.unsorted, lapply,
    mapply, match, mget, order, paste, pmax, pmax.int, pmin, pmin.int,
    rank, rbind, rownames, sapply, saveRDS, table, tapply, unique,
    unsplit, which.max, which.min

Loading required package: GenomicRanges
Loading required package: stats4
Loading required package: S4Vectors

Attaching package: 'S4Vectors'

The following objects are masked from 'package:dplyr':

    first, rename

The following object is masked from 'package:utils':

    findMatches

The following objects are masked from 'package:base':

    I, expand.grid, unname

Loading required package: IRanges

Attaching package: 'IRanges'

The following objects are masked from 'package:dplyr':

    collapse, desc, slice

Loading required package: Biostrings
Loading required package: XVector

Attaching package: 'Biostrings'

The following object is masked from 'package:base':

    strsplit

> 
> ## Run all unit tests
> test_check("RAIDS")

Attaching package: 'Matrix'

The following object is masked from 'package:S4Vectors':

    expand

[ FAIL 0 | WARN 0 | SKIP 0 | PASS 478 ]
> 
> proc.time()
   user  system elapsed 
 35.280   1.526  36.807 

Example timings

RAIDS.Rcheck/RAIDS-Ex.timings

nameusersystemelapsed
add1KG2SampleGDS0.0800.0210.114
addBlockFromDetFile0.0010.0010.004
addBlockInGDSAnnot0.0030.0020.011
addGDS1KGLDBlock0.0010.0010.002
addGDSRef0.0020.0010.005
addGDSStudyPruning0.0010.0000.002
addGeneBlockGDSRefAnnot0.7420.0500.792
addGeneBlockRefAnnot0.0010.0000.001
addRef2GDS1KG0.0040.0000.004
addStudy1Kg0.0070.0020.027
addStudyGDSSample0.0060.0010.013
addUpdateLap0.0020.0000.003
addUpdateSegment0.0010.0000.002
appendGDSRefSample0.0060.0000.014
appendGDSSampleOnly0.0010.0000.003
appendGDSgenotype0.0130.0010.026
appendGDSgenotypeMat0.0010.0000.003
calcAFMLRNA0.0030.0020.005
computeAlleleFraction0.0020.0000.002
computeAllelicFractionDNA0.1260.0040.131
computeAllelicFractionRNA0.2420.0020.257
computeAllelicImbDNAChr0.0060.0000.006
computeAncestryFromSynthetic0.0150.0010.017
computeAncestryFromSyntheticFile5.1510.1285.280
computeKNNRefSample0.0140.0040.018
computeKNNRefSynthetic1.5610.0201.582
computeLOHBlocksDNAChr0.0080.0000.009
computePCAMultiSynthetic0.0070.0010.008
computePCARefRMMulti0.1860.0140.200
computePCARefSample0.2000.0010.202
computePoolSyntheticAncestryGr0.4860.0190.505
computeSyntheticConfMat0.0150.0000.015
computeSyntheticROC0.0380.0010.038
createAUROCGraph0.8970.0170.914
createAccuracyGraph0.8450.0060.852
createProfile0.0500.0030.069
createStudy2GDS1KG0.0490.0020.067
demoKnownSuperPop1KG2.6310.1692.801
demoPCA1KG0.0050.0030.008
demoPCASyntheticProfiles1.4760.0371.512
demoPedigreeEx10.0120.0020.015
estimateAllelicFraction0.0740.0030.078
extractNucleotide000
generateGDS1KG0.0110.0010.028
generateGDS1KGgenotypeFromSNPPileup0.0460.0010.066
generateGDSRefSample0.0030.0020.007
generateGDSSNPinfo0.0030.0010.013
generateGDSgenotype0.0110.0010.029
generateGeneBlock0.0010.0000.001
generateMapSnvSel0.0030.0000.003
generatePhase1KG2GDS0.0120.0020.031
generatePhaseRef0.0130.0000.033
generateProfileGDS0.0420.0020.072
getBlockIDs0.0020.0000.003
getRef1KGPop0.0020.0000.003
getRefSuperPop0.0020.0000.002
getTableSNV0.0100.0010.011
groupChr1KGSNV0.0460.0080.052
identifyRelative0.0080.0000.008
identifyRelativeRef0.0060.0000.005
inferAncestry0.0120.0010.013
inferAncestryDNA0.0120.0010.014
inferAncestryGeneAware0.0120.0000.013
matKNNSynthetic0.0350.0030.038
pedSynthetic0.0380.0010.040
prepPed1KG0.0040.0000.004
prepPedSynthetic1KG0.0030.0010.005
prepSynthetic0.0100.0010.015
processBlockChr0.0020.0000.003
processPileupChrBin3.2180.0583.276
profileAncestry0.0150.0010.016
pruning1KGbyChr0.0040.0000.003
pruningSample0.0360.0030.039
readSNVBAM5.3690.0965.465
readSNVFileGeneric0.0020.0020.004
readSNVPileupFile0.0320.0010.033
readSNVVCF4.8470.0754.923
runExomeAncestry0.0140.0010.015
runIBDKING0.0510.0020.053
runLDPruning0.0170.0050.022
runProfileAncestry0.0150.0010.017
runRNAAncestry0.0150.0000.016
runWrapperAncestry0.0150.0010.016
selParaPCAUpQuartile4.6890.0444.733
select1KGPop0.0040.0000.004
select1KGPopForSynthetic0.0040.0000.004
snpPositionDemo0.0020.0000.003
snvListVCF0.0030.0000.004
splitSelectByPop0.0010.0000.001
syntheticGeno0.0250.0020.030
tableBlockAF0.0190.0000.019
testAlleleFractionChange0.0020.0000.002
testEmptyBox0.0010.0000.001
validateAccuracyGraphInternal000
validateAdd1KG2SampleGDS0.0010.0010.001
validateAddStudy1Kg0.0010.0000.001
validateCharacterString000
validateComputeAncestryFromSyntheticFile0.0010.0000.001
validateComputeKNNRefSample0.0040.0000.004
validateComputeKNNRefSynthetic0.0060.0000.005
validateComputePCAMultiSynthetic0.0040.0000.004
validateComputePCARefSample0.0020.0000.002
validateComputePoolSyntheticAncestryGr0.0000.0010.001
validateComputeSyntheticRoc0.0100.0020.011
validateCreateAccuracyGraph0.0020.0000.001
validateCreateStudy2GDS1KG0.0020.0000.002
validateDataRefSynParameter0.0010.0000.001
validateEstimateAllelicFraction0.0020.0000.003
validateGDSClass0.0010.0000.001
validateGenerateGDS1KG0.0010.0000.001
validateLogical000
validatePEDStudyParameter000
validatePepSynthetic0.0010.0000.001
validatePositiveIntegerVector000
validatePrepPed1KG000
validateProfileGDSExist0.0010.0000.001
validatePruningSample0.0010.0000.001
validateRunExomeOrRNAAncestry0.0030.0000.003
validateSingleRatio000
validateStudyDataFrameParameter0.0010.0000.001
validateSyntheticGeno0.0000.0010.002
validatecreateAUROCGraph0.0010.0000.001
validatecreateProfile0.0010.0000.002
wrapperAncestry0.0140.0010.015