Back to Multiple platform build/check report for BioC 3.22:   simplified   long
ABCDEFGHIJKLMNO[P]QRSTUVWXYZ

This page was generated on 2025-10-25 12:04 -0400 (Sat, 25 Oct 2025).

HostnameOSArch (*)R versionInstalled pkgs
nebbiolo2Linux (Ubuntu 24.04.3 LTS)x86_644.5.1 Patched (2025-08-23 r88802) -- "Great Square Root" 4901
lconwaymacOS 12.7.6 Montereyx86_644.5.1 Patched (2025-09-10 r88807) -- "Great Square Root" 4691
kjohnson3macOS 13.7.7 Venturaarm644.5.1 Patched (2025-09-10 r88807) -- "Great Square Root" 4637
taishanLinux (openEuler 24.03 LTS)aarch644.5.0 (2025-04-11) -- "How About a Twenty-Six" 4658
Click on any hostname to see more info about the system (e.g. compilers)      (*) as reported by 'uname -p', except on Windows and Mac OS X

Package 1596/2361HostnameOS / ArchINSTALLBUILDCHECKBUILD BIN
PhyloProfile 2.1.13  (landing page)
Vinh Tran
Snapshot Date: 2025-10-24 13:45 -0400 (Fri, 24 Oct 2025)
git_url: https://git.bioconductor.org/packages/PhyloProfile
git_branch: devel
git_last_commit: 1bd932f
git_last_commit_date: 2025-10-20 14:26:46 -0400 (Mon, 20 Oct 2025)
nebbiolo2Linux (Ubuntu 24.04.3 LTS) / x86_64  OK    OK    OK  UNNEEDED, same version is already published
lconwaymacOS 12.7.6 Monterey / x86_64  OK    OK    OK    OK  UNNEEDED, same version is already published
kjohnson3macOS 13.7.7 Ventura / arm64  OK    OK    OK    OK  UNNEEDED, same version is already published
taishanLinux (openEuler 24.03 LTS) / aarch64  OK    NA    NA  


CHECK results for PhyloProfile on nebbiolo2

To the developers/maintainers of the PhyloProfile package:
- Allow up to 24 hours (and sometimes 48 hours) for your latest push to git@git.bioconductor.org:packages/PhyloProfile.git to reflect on this report. See Troubleshooting Build Report for more information.
- Use the following Renviron settings to reproduce errors and warnings.
- If 'R CMD check' started to fail recently on the Linux builder(s) over a missing dependency, add the missing dependency to 'Suggests:' in your DESCRIPTION file. See Renviron.bioc for more information.

raw results


Summary

Package: PhyloProfile
Version: 2.1.13
Command: /home/biocbuild/bbs-3.22-bioc/R/bin/R CMD check --install=check:PhyloProfile.install-out.txt --library=/home/biocbuild/bbs-3.22-bioc/R/site-library --timings PhyloProfile_2.1.13.tar.gz
StartedAt: 2025-10-25 02:44:58 -0400 (Sat, 25 Oct 2025)
EndedAt: 2025-10-25 02:48:09 -0400 (Sat, 25 Oct 2025)
EllapsedTime: 191.2 seconds
RetCode: 0
Status:   OK  
CheckDir: PhyloProfile.Rcheck
Warnings: 0

Command output

##############################################################################
##############################################################################
###
### Running command:
###
###   /home/biocbuild/bbs-3.22-bioc/R/bin/R CMD check --install=check:PhyloProfile.install-out.txt --library=/home/biocbuild/bbs-3.22-bioc/R/site-library --timings PhyloProfile_2.1.13.tar.gz
###
##############################################################################
##############################################################################


* using log directory ‘/home/biocbuild/bbs-3.22-bioc/meat/PhyloProfile.Rcheck’
* using R version 4.5.1 Patched (2025-08-23 r88802)
* using platform: x86_64-pc-linux-gnu
* R was compiled by
    gcc (Ubuntu 13.3.0-6ubuntu2~24.04) 13.3.0
    GNU Fortran (Ubuntu 13.3.0-6ubuntu2~24.04) 13.3.0
* running under: Ubuntu 24.04.3 LTS
* using session charset: UTF-8
* checking for file ‘PhyloProfile/DESCRIPTION’ ... OK
* this is package ‘PhyloProfile’ version ‘2.1.13’
* package encoding: UTF-8
* checking package namespace information ... OK
* checking package dependencies ... INFO
Imports includes 31 non-default packages.
Importing from so many packages makes the package vulnerable to any of
them becoming unavailable.  Move as many as possible to Suggests and
use conditionally.
* checking if this is a source package ... OK
* checking if there is a namespace ... OK
* checking for hidden files and directories ... OK
* checking for portable file names ... OK
* checking for sufficient/correct file permissions ... OK
* checking whether package ‘PhyloProfile’ can be installed ... OK
* checking installed package size ... OK
* checking package directory ... OK
* checking ‘build’ directory ... OK
* checking DESCRIPTION meta-information ... OK
* checking top-level files ... OK
* checking for left-over files ... OK
* checking index information ... OK
* checking package subdirectories ... OK
* checking code files for non-ASCII characters ... OK
* checking R files for syntax errors ... OK
* checking whether the package can be loaded ... OK
* checking whether the package can be loaded with stated dependencies ... OK
* checking whether the package can be unloaded cleanly ... OK
* checking whether the namespace can be loaded with stated dependencies ... OK
* checking whether the namespace can be unloaded cleanly ... OK
* checking loading without being on the library search path ... OK
* checking dependencies in R code ... OK
* checking S3 generic/method consistency ... OK
* checking replacement functions ... OK
* checking foreign function calls ... OK
* checking R code for possible problems ... OK
* checking Rd files ... OK
* checking Rd metadata ... OK
* checking Rd cross-references ... OK
* checking for missing documentation entries ... OK
* checking for code/documentation mismatches ... OK
* checking Rd \usage sections ... OK
* checking Rd contents ... OK
* checking for unstated dependencies in examples ... OK
* checking contents of ‘data’ directory ... OK
* checking data for non-ASCII characters ... OK
* checking data for ASCII and uncompressed saves ... OK
* checking files in ‘vignettes’ ... OK
* checking examples ... OK
Examples with CPU (user + system) or elapsed time > 5s
                     user system elapsed
heatmapPlottingFast 4.908  0.328   4.894
* checking for unstated dependencies in ‘tests’ ... OK
* checking tests ...
  Running ‘testthat.R’
 OK
* checking for unstated dependencies in vignettes ... OK
* checking package vignettes ... OK
* checking re-building of vignette outputs ... OK
* checking PDF version of manual ... OK
* DONE

Status: OK


Installation output

PhyloProfile.Rcheck/00install.out

##############################################################################
##############################################################################
###
### Running command:
###
###   /home/biocbuild/bbs-3.22-bioc/R/bin/R CMD INSTALL PhyloProfile
###
##############################################################################
##############################################################################


* installing to library ‘/home/biocbuild/bbs-3.22-bioc/R/site-library’
* installing *source* package ‘PhyloProfile’ ...
** this is package ‘PhyloProfile’ version ‘2.1.13’
** using staged installation
** R
** data
** inst
** byte-compile and prepare package for lazy loading
** help
*** installing help indices
** building package indices
** installing vignettes
** testing if installed package can be loaded from temporary location
** testing if installed package can be loaded from final location
** testing if installed package keeps a record of temporary installation path
* DONE (PhyloProfile)

Tests output

PhyloProfile.Rcheck/tests/testthat.Rout


R version 4.5.1 Patched (2025-08-23 r88802) -- "Great Square Root"
Copyright (C) 2025 The R Foundation for Statistical Computing
Platform: x86_64-pc-linux-gnu

R is free software and comes with ABSOLUTELY NO WARRANTY.
You are welcome to redistribute it under certain conditions.
Type 'license()' or 'licence()' for distribution details.

R is a collaborative project with many contributors.
Type 'contributors()' for more information and
'citation()' on how to cite R or R packages in publications.

Type 'demo()' for some demos, 'help()' for on-line help, or
'help.start()' for an HTML browser interface to help.
Type 'q()' to quit R.

> library(testthat)
> library(PhyloProfile)
> 
> test_check("PhyloProfile")
[ FAIL 0 | WARN 0 | SKIP 0 | PASS 22 ]
> 
> proc.time()
   user  system elapsed 
  7.397   0.503   7.895 

Example timings

PhyloProfile.Rcheck/PhyloProfile-Ex.timings

nameusersystemelapsed
addDimRedTaxaColors0.7040.0420.746
addFeatureColors0.0310.0010.031
addRankDivisionPlot1.5000.0631.562
calcPresSpec0.0400.0130.052
checkColorPalette000
checkInputValidity0.0040.0010.005
checkNewick0.0020.0000.002
checkOmaID000
checkOverlapDomains0.0150.0020.018
clusterDataDend0.0150.0030.019
compareMedianTaxonGroups0.0220.0020.026
compareTaxonGroups0.0320.0000.032
createArchiPlot2.0690.0462.117
createDimRedPlotData0.5610.0310.592
createGeneAgePlot0.3090.0010.311
createLongMatrix0.0110.0010.012
createPercentageDistributionData0.0610.0020.064
createProfileFromOma000
createUnrootedTree0.0110.0000.011
createVarDistPlot0.2470.0000.248
createVariableDistributionData0.0060.0010.006
createVariableDistributionDataSubset0.0070.0000.007
dataCustomizedPlot0.0290.0000.029
dataFeatureTaxGroup0.0110.0000.012
dataMainPlot0.0320.0010.033
dataVarDistTaxGroup0.0050.0010.004
dimReduction0.5760.0090.585
estimateGeneAge0.1080.0000.109
fastaParser0.0280.0020.030
featureDistTaxPlot0.2940.0000.294
filterProfileData0.1050.0040.109
fromInputToProfile0.1540.0030.156
geneAgePlotDf0.0070.0000.007
generateSinglePlot0.4530.0260.479
getAllDomainsOma000
getAllFastaOma000
getCommonAncestor0.0240.0030.027
getCoreGene0.0850.0000.085
getDataClustering0.0150.0010.015
getDataForOneOma000
getDendrogram0.0470.0010.048
getDistanceMatrix0.0150.0000.015
getDomainFolder000
getFastaFromFasInput0.0120.0010.013
getFastaFromFile0.0080.0000.008
getFastaFromFolder0.0060.0000.006
getIDsRank0.0170.0000.017
getInputTaxaID0.0010.0010.002
getInputTaxaName0.0080.0010.010
getNameList0.0100.0040.014
getOmaDataForOneOrtholog000
getOmaDomainFromURL0.0000.0010.000
getOmaMembers000
getQualColForVector000
getSelectedFastaOma000
getSelectedTaxonNames0.0140.0000.014
getTaxHierarchy0.0120.0010.013
getTaxonomyInfo0.0120.0000.012
getTaxonomyMatrix0.0610.0140.075
getTaxonomyRanks000
gridArrangeSharedLegend000
groupLabelDimRedData0.0570.0010.057
heatmapPlotting0.40.00.4
heatmapPlottingFast4.9080.3284.894
highlightProfilePlot0.4680.0010.469
id2name0.0040.0000.004
joinPlotMergeLegends0.7650.0010.765
linearizeArchitecture0.0070.0000.007
mainTaxonomyRank0.0000.0000.001
modifyFeatureName0.0100.0020.012
pairDomainPlotting0.5530.0000.552
parseDomainInput0.0100.0020.013
parseInfoProfile0.1140.0010.115
plotDimRed0.9950.0261.022
plotDimRed3D0.8260.0050.832
prepareDimRedData0.0430.0020.045
processNcbiTaxonomy000
processOrthoID0.1130.0150.143
qualitativeColours000
rankIndexing0.0390.0000.039
reduceProfile0.0420.0010.042
resolveOverlapFeatures0.0140.0010.014
runPhyloProfile0.0830.0050.087
singleDomainPlotting0.2830.0000.283
sortDomains0.0060.0000.006
sortDomainsByList0.0070.0000.007
sortInputTaxa0.0240.0010.025
sortTaxaFromTree0.010.000.01
taxonomyTableCreator0.0740.0020.077
varDistTaxPlot1.0180.0011.018
wideToLong0.0080.0010.009
xmlParser0.0140.0000.015