| Back to Multiple platform build/check report for BioC 3.22: simplified long |
|
This page was generated on 2025-10-25 12:04 -0400 (Sat, 25 Oct 2025).
| Hostname | OS | Arch (*) | R version | Installed pkgs |
|---|---|---|---|---|
| nebbiolo2 | Linux (Ubuntu 24.04.3 LTS) | x86_64 | 4.5.1 Patched (2025-08-23 r88802) -- "Great Square Root" | 4901 |
| lconway | macOS 12.7.6 Monterey | x86_64 | 4.5.1 Patched (2025-09-10 r88807) -- "Great Square Root" | 4691 |
| kjohnson3 | macOS 13.7.7 Ventura | arm64 | 4.5.1 Patched (2025-09-10 r88807) -- "Great Square Root" | 4637 |
| taishan | Linux (openEuler 24.03 LTS) | aarch64 | 4.5.0 (2025-04-11) -- "How About a Twenty-Six" | 4658 |
| Click on any hostname to see more info about the system (e.g. compilers) (*) as reported by 'uname -p', except on Windows and Mac OS X | ||||
| Package 1653/2361 | Hostname | OS / Arch | INSTALL | BUILD | CHECK | BUILD BIN | ||||||||
| PRONE 1.3.2 (landing page) Lis Arend
| nebbiolo2 | Linux (Ubuntu 24.04.3 LTS) / x86_64 | OK | OK | OK | |||||||||
| lconway | macOS 12.7.6 Monterey / x86_64 | OK | OK | OK | OK | |||||||||
| kjohnson3 | macOS 13.7.7 Ventura / arm64 | OK | OK | OK | OK | |||||||||
| taishan | Linux (openEuler 24.03 LTS) / aarch64 | OK | NA | NA | ||||||||||
|
To the developers/maintainers of the PRONE package: - Allow up to 24 hours (and sometimes 48 hours) for your latest push to git@git.bioconductor.org:packages/PRONE.git to reflect on this report. See Troubleshooting Build Report for more information. - Use the following Renviron settings to reproduce errors and warnings. - If 'R CMD check' started to fail recently on the Linux builder(s) over a missing dependency, add the missing dependency to 'Suggests:' in your DESCRIPTION file. See Renviron.bioc for more information. |
| Package: PRONE |
| Version: 1.3.2 |
| Command: /home/biocbuild/bbs-3.22-bioc/R/bin/R CMD check --install=check:PRONE.install-out.txt --library=/home/biocbuild/bbs-3.22-bioc/R/site-library --timings PRONE_1.3.2.tar.gz |
| StartedAt: 2025-10-25 02:58:52 -0400 (Sat, 25 Oct 2025) |
| EndedAt: 2025-10-25 03:07:01 -0400 (Sat, 25 Oct 2025) |
| EllapsedTime: 489.4 seconds |
| RetCode: 0 |
| Status: OK |
| CheckDir: PRONE.Rcheck |
| Warnings: 0 |
##############################################################################
##############################################################################
###
### Running command:
###
### /home/biocbuild/bbs-3.22-bioc/R/bin/R CMD check --install=check:PRONE.install-out.txt --library=/home/biocbuild/bbs-3.22-bioc/R/site-library --timings PRONE_1.3.2.tar.gz
###
##############################################################################
##############################################################################
* using log directory ‘/home/biocbuild/bbs-3.22-bioc/meat/PRONE.Rcheck’
* using R version 4.5.1 Patched (2025-08-23 r88802)
* using platform: x86_64-pc-linux-gnu
* R was compiled by
gcc (Ubuntu 13.3.0-6ubuntu2~24.04) 13.3.0
GNU Fortran (Ubuntu 13.3.0-6ubuntu2~24.04) 13.3.0
* running under: Ubuntu 24.04.3 LTS
* using session charset: UTF-8
* checking for file ‘PRONE/DESCRIPTION’ ... OK
* checking extension type ... Package
* this is package ‘PRONE’ version ‘1.3.2’
* package encoding: UTF-8
* checking package namespace information ... OK
* checking package dependencies ... INFO
Imports includes 34 non-default packages.
Importing from so many packages makes the package vulnerable to any of
them becoming unavailable. Move as many as possible to Suggests and
use conditionally.
* checking if this is a source package ... OK
* checking if there is a namespace ... OK
* checking for hidden files and directories ... OK
* checking for portable file names ... OK
* checking for sufficient/correct file permissions ... OK
* checking whether package ‘PRONE’ can be installed ... OK
* checking installed package size ... OK
* checking package directory ... OK
* checking ‘build’ directory ... OK
* checking DESCRIPTION meta-information ... OK
* checking top-level files ... OK
* checking for left-over files ... OK
* checking index information ... OK
* checking package subdirectories ... OK
* checking code files for non-ASCII characters ... OK
* checking R files for syntax errors ... OK
* checking whether the package can be loaded ... OK
* checking whether the package can be loaded with stated dependencies ... OK
* checking whether the package can be unloaded cleanly ... OK
* checking whether the namespace can be loaded with stated dependencies ... OK
* checking whether the namespace can be unloaded cleanly ... OK
* checking loading without being on the library search path ... OK
* checking dependencies in R code ... NOTE
Unexported objects imported by ':::' calls:
‘NormalyzerDE:::calculateAvgMadMem’
‘NormalyzerDE:::calculateAvgReplicateVariation’
‘NormalyzerDE:::calculatePercentageAvgDiffInMat’
‘NormalyzerDE:::calculateReplicateCV’
‘NormalyzerDE:::calculateSummarizedCorrelationVector’
See the note in ?`:::` about the use of this operator.
* checking S3 generic/method consistency ... OK
* checking replacement functions ... OK
* checking foreign function calls ... OK
* checking R code for possible problems ... NOTE
plot_upset_DE: no visible global function definition for
‘packageVersion’
Undefined global functions or variables:
packageVersion
Consider adding
importFrom("utils", "packageVersion")
to your NAMESPACE file.
* checking Rd files ... OK
* checking Rd metadata ... OK
* checking Rd cross-references ... OK
* checking for missing documentation entries ... OK
* checking for code/documentation mismatches ... OK
* checking Rd \usage sections ... OK
* checking Rd contents ... OK
* checking for unstated dependencies in examples ... OK
* checking contents of ‘data’ directory ... OK
* checking data for non-ASCII characters ... OK
* checking data for ASCII and uncompressed saves ... OK
* checking files in ‘vignettes’ ... OK
* checking examples ... OK
* checking for unstated dependencies in vignettes ... OK
* checking package vignettes ... OK
* checking re-building of vignette outputs ... OK
* checking PDF version of manual ... OK
* DONE
Status: 2 NOTEs
See
‘/home/biocbuild/bbs-3.22-bioc/meat/PRONE.Rcheck/00check.log’
for details.
PRONE.Rcheck/00install.out
############################################################################## ############################################################################## ### ### Running command: ### ### /home/biocbuild/bbs-3.22-bioc/R/bin/R CMD INSTALL PRONE ### ############################################################################## ############################################################################## * installing to library ‘/home/biocbuild/bbs-3.22-bioc/R/site-library’ * installing *source* package ‘PRONE’ ... ** this is package ‘PRONE’ version ‘1.3.2’ ** using staged installation ** R ** data ** inst ** byte-compile and prepare package for lazy loading ** help *** installing help indices *** copying figures ** building package indices ** installing vignettes ** testing if installed package can be loaded from temporary location ** testing if installed package can be loaded from final location ** testing if installed package keeps a record of temporary installation path * DONE (PRONE)
PRONE.Rcheck/PRONE-Ex.timings
| name | user | system | elapsed | |
| apply_thresholds | 0.032 | 0.000 | 0.032 | |
| detect_outliers_POMA | 1.811 | 0.083 | 1.894 | |
| eigenMSNorm | 0.595 | 0.072 | 0.667 | |
| export_data | 0.029 | 0.000 | 0.028 | |
| extract_consensus_DE_candidates | 0.083 | 0.001 | 0.083 | |
| filter_out_NA_proteins_by_threshold | 0.222 | 0.001 | 0.216 | |
| filter_out_complete_NA_proteins | 0.056 | 0.000 | 0.056 | |
| filter_out_proteins_by_ID | 0.157 | 0.001 | 0.157 | |
| filter_out_proteins_by_value | 0.156 | 0.000 | 0.155 | |
| get_NA_overview | 0.036 | 0.000 | 0.036 | |
| get_normalization_methods | 0 | 0 | 0 | |
| get_overview_DE | 0.037 | 0.004 | 0.042 | |
| get_proteins_by_value | 0.172 | 0.010 | 0.184 | |
| get_spiked_stats_DE | 0.084 | 0.004 | 0.087 | |
| globalIntNorm | 0.126 | 0.002 | 0.129 | |
| globalMeanNorm | 0.126 | 0.001 | 0.129 | |
| globalMedianNorm | 0.135 | 0.001 | 0.136 | |
| impute_se | 0.753 | 0.008 | 0.718 | |
| irsNorm | 0.057 | 0.000 | 0.057 | |
| limmaNorm | 0.069 | 0.000 | 0.069 | |
| load_data | 0.044 | 0.004 | 0.049 | |
| load_spike_data | 0.04 | 0.00 | 0.04 | |
| loessCycNorm | 0.124 | 0.004 | 0.128 | |
| loessFNorm | 0.085 | 0.002 | 0.087 | |
| meanNorm | 0.044 | 0.001 | 0.044 | |
| medianAbsDevNorm | 0.097 | 0.001 | 0.097 | |
| medianNorm | 0.061 | 0.002 | 0.062 | |
| normalize_se | 3.446 | 0.103 | 3.549 | |
| normalize_se_combination | 4.158 | 0.208 | 4.367 | |
| normalize_se_single | 3.214 | 0.073 | 3.288 | |
| normicsNorm | 3.082 | 0.028 | 3.111 | |
| plot_NA_density | 0.397 | 0.003 | 0.392 | |
| plot_NA_frequency | 0.224 | 0.004 | 0.212 | |
| plot_NA_heatmap | 1.302 | 0.033 | 1.336 | |
| plot_PCA | 1.360 | 0.000 | 1.362 | |
| plot_ROC_AUC_spiked | 1.201 | 0.012 | 1.207 | |
| plot_TP_FP_spiked_bar | 0.326 | 0.001 | 0.327 | |
| plot_TP_FP_spiked_box | 0.418 | 0.001 | 0.419 | |
| plot_TP_FP_spiked_scatter | 0.421 | 0.014 | 0.435 | |
| plot_boxplots | 4.614 | 0.029 | 4.535 | |
| plot_condition_overview | 0.268 | 0.001 | 0.268 | |
| plot_densities | 2.812 | 0.001 | 2.705 | |
| plot_fold_changes_spiked | 0.565 | 0.004 | 0.562 | |
| plot_heatmap | 3.705 | 0.004 | 3.709 | |
| plot_heatmap_DE | 1.219 | 0.001 | 1.220 | |
| plot_histogram_spiked | 0.397 | 0.004 | 0.394 | |
| plot_identified_spiked_proteins | 0.470 | 0.001 | 0.472 | |
| plot_intersection_enrichment | 0.817 | 0.009 | 2.496 | |
| plot_intragroup_PCV | 0.667 | 0.004 | 0.671 | |
| plot_intragroup_PEV | 0.426 | 0.001 | 0.427 | |
| plot_intragroup_PMAD | 0.439 | 0.001 | 0.441 | |
| plot_intragroup_correlation | 0.405 | 0.001 | 0.406 | |
| plot_jaccard_heatmap | 0.313 | 0.002 | 0.303 | |
| plot_logFC_thresholds_spiked | 0.709 | 0.034 | 0.744 | |
| plot_markers_boxplots | 0.838 | 0.077 | 0.909 | |
| plot_nr_prot_samples | 0.303 | 0.032 | 0.337 | |
| plot_overview_DE_bar | 0.421 | 0.019 | 0.440 | |
| plot_overview_DE_tile | 0.248 | 0.009 | 0.257 | |
| plot_profiles_spiked | 0.865 | 0.083 | 0.926 | |
| plot_pvalues_spiked | 0.542 | 0.043 | 0.586 | |
| plot_stats_spiked_heatmap | 0.462 | 0.040 | 0.503 | |
| plot_tot_int_samples | 0.276 | 0.007 | 0.284 | |
| plot_upset | 0.835 | 0.025 | 0.859 | |
| plot_upset_DE | 0.032 | 0.001 | 0.033 | |
| plot_volcano_DE | 4.146 | 0.289 | 4.436 | |
| quantileNorm | 0.045 | 0.003 | 0.049 | |
| readPRONE_example | 0.001 | 0.000 | 0.001 | |
| remove_POMA_outliers | 0.658 | 0.034 | 0.693 | |
| remove_assays_from_SE | 0.049 | 0.001 | 0.051 | |
| remove_reference_samples | 0.044 | 0.002 | 0.048 | |
| remove_samples_manually | 0.039 | 0.001 | 0.040 | |
| rlrMACycNorm | 0.570 | 0.014 | 0.585 | |
| rlrMANorm | 0.097 | 0.005 | 0.103 | |
| rlrNorm | 0.132 | 0.031 | 0.164 | |
| robnormNorm | 0.075 | 0.024 | 0.099 | |
| run_DE | 2.589 | 0.221 | 2.760 | |
| specify_comparisons | 0.033 | 0.001 | 0.032 | |
| subset_SE_by_norm | 0.084 | 0.002 | 0.086 | |
| tmmNorm | 0.144 | 0.017 | 0.161 | |
| vsnNorm | 1.189 | 0.281 | 1.470 | |