Back to Multiple platform build/check report for BioC 3.22:   simplified   long
ABCDEFGHIJKLMN[O]PQRSTUVWXYZ

This page was generated on 2025-11-20 12:07 -0500 (Thu, 20 Nov 2025).

HostnameOSArch (*)R versionInstalled pkgs
nebbiolo2Linux (Ubuntu 24.04.3 LTS)x86_644.5.2 (2025-10-31) -- "[Not] Part in a Rumble" 4615
merida1macOS 12.7.6 Montereyx86_644.5.2 Patched (2025-11-05 r88990) -- "[Not] Part in a Rumble" 4610
kjohnson1macOS 13.7.5 Venturaarm644.5.2 Patched (2025-11-04 r88984) -- "[Not] Part in a Rumble" 4598
taishanLinux (openEuler 24.03 LTS)aarch644.5.0 (2025-04-11) -- "How About a Twenty-Six" 4668
Click on any hostname to see more info about the system (e.g. compilers)      (*) as reported by 'uname -p', except on Windows and Mac OS X

Package 1516/2361HostnameOS / ArchINSTALLBUILDCHECKBUILD BIN
OpenStats 1.22.0  (landing page)
Marina Kan
Snapshot Date: 2025-11-17 13:45 -0500 (Mon, 17 Nov 2025)
git_url: https://git.bioconductor.org/packages/OpenStats
git_branch: RELEASE_3_22
git_last_commit: c2e418f
git_last_commit_date: 2025-10-29 10:58:46 -0500 (Wed, 29 Oct 2025)
nebbiolo2Linux (Ubuntu 24.04.3 LTS) / x86_64  OK    OK    OK  UNNEEDED, same version is already published
merida1macOS 12.7.6 Monterey / x86_64  OK    OK    OK    OK  UNNEEDED, same version is already published
kjohnson1macOS 13.7.5 Ventura / arm64  OK    OK    OK    OK  UNNEEDED, same version is already published
taishanLinux (openEuler 24.03 LTS) / aarch64  OK    OK    OK  


CHECK results for OpenStats on taishan

To the developers/maintainers of the OpenStats package:
- Allow up to 24 hours (and sometimes 48 hours) for your latest push to git@git.bioconductor.org:packages/OpenStats.git to reflect on this report. See Troubleshooting Build Report for more information.
- Use the following Renviron settings to reproduce errors and warnings.
- If 'R CMD check' started to fail recently on the Linux builder(s) over a missing dependency, add the missing dependency to 'Suggests:' in your DESCRIPTION file. See Renviron.bioc for more information.
- See Martin Grigorov's blog post for how to debug Linux ARM64 related issues on a x86_64 host.

raw results


Summary

Package: OpenStats
Version: 1.22.0
Command: /home/biocbuild/R/R/bin/R CMD check --install=check:OpenStats.install-out.txt --library=/home/biocbuild/R/R/site-library --no-vignettes --timings OpenStats_1.22.0.tar.gz
StartedAt: 2025-11-18 12:56:14 -0000 (Tue, 18 Nov 2025)
EndedAt: 2025-11-18 13:00:44 -0000 (Tue, 18 Nov 2025)
EllapsedTime: 270.3 seconds
RetCode: 0
Status:   OK  
CheckDir: OpenStats.Rcheck
Warnings: 0

Command output

##############################################################################
##############################################################################
###
### Running command:
###
###   /home/biocbuild/R/R/bin/R CMD check --install=check:OpenStats.install-out.txt --library=/home/biocbuild/R/R/site-library --no-vignettes --timings OpenStats_1.22.0.tar.gz
###
##############################################################################
##############################################################################


* using log directory ‘/home/biocbuild/bbs-3.22-bioc/meat/OpenStats.Rcheck’
* using R version 4.5.0 (2025-04-11)
* using platform: aarch64-unknown-linux-gnu
* R was compiled by
    aarch64-unknown-linux-gnu-gcc (GCC) 14.2.0
    GNU Fortran (GCC) 14.2.0
* running under: openEuler 24.03 (LTS)
* using session charset: UTF-8
* using option ‘--no-vignettes’
* checking for file ‘OpenStats/DESCRIPTION’ ... OK
* checking extension type ... Package
* this is package ‘OpenStats’ version ‘1.22.0’
* package encoding: UTF-8
* checking package namespace information ... OK
* checking package dependencies ... OK
* checking if this is a source package ... OK
* checking if there is a namespace ... OK
* checking for hidden files and directories ... OK
* checking for portable file names ... OK
* checking for sufficient/correct file permissions ... OK
* checking whether package ‘OpenStats’ can be installed ... OK
* checking installed package size ... OK
* checking package directory ... OK
* checking ‘build’ directory ... OK
* checking DESCRIPTION meta-information ... OK
* checking top-level files ... OK
* checking for left-over files ... OK
* checking index information ... OK
* checking package subdirectories ... OK
* checking code files for non-ASCII characters ... OK
* checking R files for syntax errors ... OK
* checking whether the package can be loaded ... OK
* checking whether the package can be loaded with stated dependencies ... OK
* checking whether the package can be unloaded cleanly ... OK
* checking whether the namespace can be loaded with stated dependencies ... OK
* checking whether the namespace can be unloaded cleanly ... OK
* checking loading without being on the library search path ... OK
* checking whether startup messages can be suppressed ... OK
* checking dependencies in R code ... OK
* checking S3 generic/method consistency ... OK
* checking replacement functions ... OK
* checking foreign function calls ... OK
* checking R code for possible problems ... OK
* checking Rd files ... NOTE
checkRd: (-1) OpenStatsAnalysis.Rd:108: Escaped LaTeX specials: \& \& \& \& \&
* checking Rd metadata ... OK
* checking Rd cross-references ... OK
* checking for missing documentation entries ... OK
* checking for code/documentation mismatches ... OK
* checking Rd \usage sections ... OK
* checking Rd contents ... OK
* checking for unstated dependencies in examples ... OK
* checking files in ‘vignettes’ ... OK
* checking examples ... OK
* checking for unstated dependencies in vignettes ... OK
* checking package vignettes ... OK
* checking running R code from vignettes ... SKIPPED
* checking re-building of vignette outputs ... SKIPPED
* checking PDF version of manual ... OK
* DONE

Status: 1 NOTE
See
  ‘/home/biocbuild/bbs-3.22-bioc/meat/OpenStats.Rcheck/00check.log’
for details.


Installation output

OpenStats.Rcheck/00install.out

##############################################################################
##############################################################################
###
### Running command:
###
###   /home/biocbuild/R/R/bin/R CMD INSTALL OpenStats
###
##############################################################################
##############################################################################


* installing to library ‘/home/biocbuild/R/R-4.5.0/site-library’
* installing *source* package ‘OpenStats’ ...
** this is package ‘OpenStats’ version ‘1.22.0’
** using staged installation
** R
** inst
** byte-compile and prepare package for lazy loading
** help
*** installing help indices
** building package indices
** installing vignettes
** testing if installed package can be loaded from temporary location
** testing if installed package can be loaded from final location
** testing if installed package keeps a record of temporary installation path
* DONE (OpenStats)

Tests output


Example timings

OpenStats.Rcheck/OpenStats-Ex.timings

nameusersystemelapsed
OpenStatsAnalysis2.6030.0322.644
OpenStatsBuilder000
OpenStatsComplementarySplit1.8830.0041.890
OpenStatsList1.5440.1051.710
OpenStatsReport2.7360.2132.998
plot.OpenStats0.9140.1041.062
plot.OpenStatsComplementarySplit2.1180.2282.392
plot.OpenStatsFE0.0950.0200.115
plot.OpenStatsMM0.7400.1360.891
plot.OpenStatsRR0.4230.0400.470
print.OpenStats0.8410.1281.009
print.OpenStatsComplementarySplit2.1790.2882.511
print.OpenStatsFE0.1020.0040.107
print.OpenStatsMM0.7670.0800.861
print.OpenStatsRR0.3900.0520.448
summary.OpenStats0.8130.0960.950
summary.OpenStatsComplementarySplit2.1710.2282.431
summary.OpenStatsFE0.1240.0000.125
summary.OpenStatsMM0.7420.0720.825
summary.OpenStatsRR0.3990.0280.432