Back to Multiple platform build/check report for BioC 3.22:   simplified   long
ABCDEFGHIJKLMN[O]PQRSTUVWXYZ

This page was generated on 2025-10-25 12:06 -0400 (Sat, 25 Oct 2025).

HostnameOSArch (*)R versionInstalled pkgs
nebbiolo2Linux (Ubuntu 24.04.3 LTS)x86_644.5.1 Patched (2025-08-23 r88802) -- "Great Square Root" 4901
lconwaymacOS 12.7.6 Montereyx86_644.5.1 Patched (2025-09-10 r88807) -- "Great Square Root" 4691
kjohnson3macOS 13.7.7 Venturaarm644.5.1 Patched (2025-09-10 r88807) -- "Great Square Root" 4637
taishanLinux (openEuler 24.03 LTS)aarch644.5.0 (2025-04-11) -- "How About a Twenty-Six" 4658
Click on any hostname to see more info about the system (e.g. compilers)      (*) as reported by 'uname -p', except on Windows and Mac OS X

Package 1516/2361HostnameOS / ArchINSTALLBUILDCHECKBUILD BIN
OpenStats 1.21.0  (landing page)
Marina Kan
Snapshot Date: 2025-10-24 13:45 -0400 (Fri, 24 Oct 2025)
git_url: https://git.bioconductor.org/packages/OpenStats
git_branch: devel
git_last_commit: 19ee548
git_last_commit_date: 2025-04-15 11:57:39 -0400 (Tue, 15 Apr 2025)
nebbiolo2Linux (Ubuntu 24.04.3 LTS) / x86_64  OK    OK    OK  UNNEEDED, same version is already published
lconwaymacOS 12.7.6 Monterey / x86_64  OK    OK    OK    OK  UNNEEDED, same version is already published
kjohnson3macOS 13.7.7 Ventura / arm64  OK    OK    OK    OK  UNNEEDED, same version is already published
taishanLinux (openEuler 24.03 LTS) / aarch64  OK    NA    NA  


CHECK results for OpenStats on kjohnson3

To the developers/maintainers of the OpenStats package:
- Allow up to 24 hours (and sometimes 48 hours) for your latest push to git@git.bioconductor.org:packages/OpenStats.git to reflect on this report. See Troubleshooting Build Report for more information.
- Use the following Renviron settings to reproduce errors and warnings.
- If 'R CMD check' started to fail recently on the Linux builder(s) over a missing dependency, add the missing dependency to 'Suggests:' in your DESCRIPTION file. See Renviron.bioc for more information.

raw results


Summary

Package: OpenStats
Version: 1.21.0
Command: /Library/Frameworks/R.framework/Resources/bin/R CMD check --install=check:OpenStats.install-out.txt --library=/Library/Frameworks/R.framework/Resources/library --no-vignettes --timings OpenStats_1.21.0.tar.gz
StartedAt: 2025-10-24 21:10:01 -0400 (Fri, 24 Oct 2025)
EndedAt: 2025-10-24 21:10:42 -0400 (Fri, 24 Oct 2025)
EllapsedTime: 40.5 seconds
RetCode: 0
Status:   OK  
CheckDir: OpenStats.Rcheck
Warnings: 0

Command output

##############################################################################
##############################################################################
###
### Running command:
###
###   /Library/Frameworks/R.framework/Resources/bin/R CMD check --install=check:OpenStats.install-out.txt --library=/Library/Frameworks/R.framework/Resources/library --no-vignettes --timings OpenStats_1.21.0.tar.gz
###
##############################################################################
##############################################################################


* using log directory ‘/Users/biocbuild/bbs-3.22-bioc/meat/OpenStats.Rcheck’
* using R version 4.5.1 Patched (2025-09-10 r88807)
* using platform: aarch64-apple-darwin20
* R was compiled by
    Apple clang version 16.0.0 (clang-1600.0.26.6)
    GNU Fortran (GCC) 14.2.0
* running under: macOS Ventura 13.7.7
* using session charset: UTF-8
* using option ‘--no-vignettes’
* checking for file ‘OpenStats/DESCRIPTION’ ... OK
* checking extension type ... Package
* this is package ‘OpenStats’ version ‘1.21.0’
* package encoding: UTF-8
* checking package namespace information ... OK
* checking package dependencies ... OK
* checking if this is a source package ... OK
* checking if there is a namespace ... OK
* checking for hidden files and directories ... OK
* checking for portable file names ... OK
* checking for sufficient/correct file permissions ... OK
* checking whether package ‘OpenStats’ can be installed ... OK
* checking installed package size ... OK
* checking package directory ... OK
* checking ‘build’ directory ... OK
* checking DESCRIPTION meta-information ... OK
* checking top-level files ... OK
* checking for left-over files ... OK
* checking index information ... OK
* checking package subdirectories ... OK
* checking code files for non-ASCII characters ... OK
* checking R files for syntax errors ... OK
* checking whether the package can be loaded ... OK
* checking whether the package can be loaded with stated dependencies ... OK
* checking whether the package can be unloaded cleanly ... OK
* checking whether the namespace can be loaded with stated dependencies ... OK
* checking whether the namespace can be unloaded cleanly ... OK
* checking whether startup messages can be suppressed ... OK
* checking dependencies in R code ... OK
* checking S3 generic/method consistency ... OK
* checking replacement functions ... OK
* checking foreign function calls ... OK
* checking R code for possible problems ... OK
* checking Rd files ... NOTE
checkRd: (-1) OpenStatsAnalysis.Rd:108: Escaped LaTeX specials: \& \& \& \& \&
* checking Rd metadata ... OK
* checking Rd cross-references ... OK
* checking for missing documentation entries ... OK
* checking for code/documentation mismatches ... OK
* checking Rd \usage sections ... OK
* checking Rd contents ... OK
* checking for unstated dependencies in examples ... OK
* checking files in ‘vignettes’ ... OK
* checking examples ... OK
* checking for unstated dependencies in vignettes ... OK
* checking package vignettes ... OK
* checking running R code from vignettes ... SKIPPED
* checking re-building of vignette outputs ... SKIPPED
* checking PDF version of manual ... OK
* DONE

Status: 1 NOTE
See
  ‘/Users/biocbuild/bbs-3.22-bioc/meat/OpenStats.Rcheck/00check.log’
for details.


Installation output

OpenStats.Rcheck/00install.out

##############################################################################
##############################################################################
###
### Running command:
###
###   /Library/Frameworks/R.framework/Resources/bin/R CMD INSTALL OpenStats
###
##############################################################################
##############################################################################


* installing to library ‘/Library/Frameworks/R.framework/Versions/4.5-arm64/Resources/library’
* installing *source* package ‘OpenStats’ ...
** this is package ‘OpenStats’ version ‘1.21.0’
** using staged installation
** R
** inst
** byte-compile and prepare package for lazy loading
** help
*** installing help indices
** building package indices
** installing vignettes
** testing if installed package can be loaded from temporary location
** testing if installed package can be loaded from final location
** testing if installed package keeps a record of temporary installation path
* DONE (OpenStats)

Tests output


Example timings

OpenStats.Rcheck/OpenStats-Ex.timings

nameusersystemelapsed
OpenStatsAnalysis0.5940.0270.624
OpenStatsBuilder000
OpenStatsComplementarySplit0.4090.0160.425
OpenStatsList0.4070.0380.449
OpenStatsReport0.6100.0710.692
plot.OpenStats0.1760.0310.206
plot.OpenStatsComplementarySplit0.4650.0700.553
plot.OpenStatsFE0.0340.0030.037
plot.OpenStatsMM0.1740.0270.200
plot.OpenStatsRR0.0830.0180.104
print.OpenStats0.1740.0350.308
print.OpenStatsComplementarySplit0.5100.0930.622
print.OpenStatsFE0.0250.0040.029
print.OpenStatsMM0.1730.0260.209
print.OpenStatsRR0.0860.0080.093
summary.OpenStats0.1840.0240.213
summary.OpenStatsComplementarySplit0.4740.0740.561
summary.OpenStatsFE0.0300.0040.038
summary.OpenStatsMM0.1640.0210.183
summary.OpenStatsRR0.0820.0060.088