| Back to Multiple platform build/check report for BioC 3.22: simplified long |
|
This page was generated on 2025-11-27 12:05 -0500 (Thu, 27 Nov 2025).
| Hostname | OS | Arch (*) | R version | Installed pkgs |
|---|---|---|---|---|
| nebbiolo2 | Linux (Ubuntu 24.04.3 LTS) | x86_64 | 4.5.2 (2025-10-31) -- "[Not] Part in a Rumble" | 4876 |
| merida1 | macOS 12.7.6 Monterey | x86_64 | 4.5.2 Patched (2025-11-05 r88990) -- "[Not] Part in a Rumble" | 4656 |
| kjohnson1 | macOS 13.7.5 Ventura | arm64 | 4.5.2 Patched (2025-11-04 r88984) -- "[Not] Part in a Rumble" | 4602 |
| taishan | Linux (openEuler 24.03 LTS) | aarch64 | 4.5.0 (2025-04-11) -- "How About a Twenty-Six" | 4668 |
| Click on any hostname to see more info about the system (e.g. compilers) (*) as reported by 'uname -p', except on Windows and Mac OS X | ||||
| Package 1395/2361 | Hostname | OS / Arch | INSTALL | BUILD | CHECK | BUILD BIN | ||||||||
| MsQuality 1.10.0 (landing page) Thomas Naake
| nebbiolo2 | Linux (Ubuntu 24.04.3 LTS) / x86_64 | OK | OK | OK | |||||||||
| merida1 | macOS 12.7.6 Monterey / x86_64 | OK | OK | OK | OK | |||||||||
| kjohnson1 | macOS 13.7.5 Ventura / arm64 | OK | OK | OK | NA | |||||||||
| taishan | Linux (openEuler 24.03 LTS) / aarch64 | OK | OK | TIMEOUT | ||||||||||
|
To the developers/maintainers of the MsQuality package: - Allow up to 24 hours (and sometimes 48 hours) for your latest push to git@git.bioconductor.org:packages/MsQuality.git to reflect on this report. See Troubleshooting Build Report for more information. - Use the following Renviron settings to reproduce errors and warnings. - If 'R CMD check' started to fail recently on the Linux builder(s) over a missing dependency, add the missing dependency to 'Suggests:' in your DESCRIPTION file. See Renviron.bioc for more information. - See Martin Grigorov's blog post for how to debug Linux ARM64 related issues on a x86_64 host. |
| Package: MsQuality |
| Version: 1.10.0 |
| Command: /home/biocbuild/R/R/bin/R CMD check --install=check:MsQuality.install-out.txt --library=/home/biocbuild/R/R/site-library --no-vignettes --timings MsQuality_1.10.0.tar.gz |
| StartedAt: 2025-11-25 12:15:33 -0000 (Tue, 25 Nov 2025) |
| EndedAt: 2025-11-25 12:55:33 -0000 (Tue, 25 Nov 2025) |
| EllapsedTime: 2400.1 seconds |
| RetCode: None |
| Status: TIMEOUT |
| CheckDir: MsQuality.Rcheck |
| Warnings: NA |
##############################################################################
##############################################################################
###
### Running command:
###
### /home/biocbuild/R/R/bin/R CMD check --install=check:MsQuality.install-out.txt --library=/home/biocbuild/R/R/site-library --no-vignettes --timings MsQuality_1.10.0.tar.gz
###
##############################################################################
##############################################################################
* using log directory ‘/home/biocbuild/bbs-3.22-bioc/meat/MsQuality.Rcheck’
* using R version 4.5.0 (2025-04-11)
* using platform: aarch64-unknown-linux-gnu
* R was compiled by
aarch64-unknown-linux-gnu-gcc (GCC) 14.2.0
GNU Fortran (GCC) 14.2.0
* running under: openEuler 24.03 (LTS)
* using session charset: UTF-8
* using option ‘--no-vignettes’
* checking for file ‘MsQuality/DESCRIPTION’ ... OK
* checking extension type ... Package
* this is package ‘MsQuality’ version ‘1.10.0’
* package encoding: UTF-8
* checking package namespace information ... OK
* checking package dependencies ... OK
* checking if this is a source package ... OK
* checking if there is a namespace ... OK
* checking for hidden files and directories ... OK
* checking for portable file names ... OK
* checking for sufficient/correct file permissions ... OK
* checking whether package ‘MsQuality’ can be installed ... OK
* checking installed package size ... OK
* checking package directory ... OK
* checking ‘build’ directory ... OK
* checking DESCRIPTION meta-information ... OK
* checking top-level files ... OK
* checking for left-over files ... OK
* checking index information ... OK
* checking package subdirectories ... OK
* checking code files for non-ASCII characters ... OK
* checking R files for syntax errors ... OK
* checking whether the package can be loaded ... OK
* checking whether the package can be loaded with stated dependencies ... OK
* checking whether the package can be unloaded cleanly ... OK
* checking whether the namespace can be loaded with stated dependencies ... OK
* checking whether the namespace can be unloaded cleanly ... OK
* checking loading without being on the library search path ... OK
* checking dependencies in R code ... OK
* checking S3 generic/method consistency ... OK
* checking replacement functions ... OK
* checking foreign function calls ... OK
* checking R code for possible problems ... OK
* checking Rd files ... OK
* checking Rd metadata ... OK
* checking Rd cross-references ... OK
* checking for missing documentation entries ... OK
* checking for code/documentation mismatches ... OK
* checking Rd \usage sections ... OK
* checking Rd contents ... OK
* checking for unstated dependencies in examples ... OK
* checking contents of ‘data’ directory ... OK
* checking data for non-ASCII characters ... OK
* checking data for ASCII and uncompressed saves ... OK
* checking files in ‘vignettes’ ... OK
* checking examples ... OK
Examples with CPU (user + system) or elapsed time > 5s
user system elapsed
calculateMetricsFromSpectra 13.808 2.241 16.406
calculateMetrics 7.571 1.006 9.767
calculateMetricsFromMsExperiment 5.907 1.181 6.233
calculateMetricsFromOneSampleSpectra 4.187 0.460 5.637
plotMetric 3.817 0.829 6.230
* checking for unstated dependencies in ‘tests’ ... OK
* checking tests ...
Running ‘testthat.R’
MsQuality.Rcheck/00install.out
############################################################################## ############################################################################## ### ### Running command: ### ### /home/biocbuild/R/R/bin/R CMD INSTALL MsQuality ### ############################################################################## ############################################################################## * installing to library ‘/home/biocbuild/R/R-4.5.0/site-library’ * installing *source* package ‘MsQuality’ ... ** this is package ‘MsQuality’ version ‘1.10.0’ ** using staged installation ** R ** data ** inst ** byte-compile and prepare package for lazy loading ** help *** installing help indices ** building package indices ** installing vignettes ** testing if installed package can be loaded from temporary location ** testing if installed package can be loaded from final location ** testing if installed package keeps a record of temporary installation path * DONE (MsQuality)
MsQuality.Rcheck/tests/testthat.Rout
R version 4.5.0 (2025-04-11) -- "How About a Twenty-Six"
Copyright (C) 2025 The R Foundation for Statistical Computing
Platform: aarch64-unknown-linux-gnu
R is free software and comes with ABSOLUTELY NO WARRANTY.
You are welcome to redistribute it under certain conditions.
Type 'license()' or 'licence()' for distribution details.
R is a collaborative project with many contributors.
Type 'contributors()' for more information and
'citation()' on how to cite R or R packages in publications.
Type 'demo()' for some demos, 'help()' for on-line help, or
'help.start()' for an HTML browser interface to help.
Type 'q()' to quit R.
> library("testthat")
> library("MsQuality")
> library("Spectra")
Loading required package: S4Vectors
Loading required package: stats4
Loading required package: BiocGenerics
Loading required package: generics
Attaching package: 'generics'
The following objects are masked from 'package:base':
as.difftime, as.factor, as.ordered, intersect, is.element, setdiff,
setequal, union
Attaching package: 'BiocGenerics'
The following objects are masked from 'package:stats':
IQR, mad, sd, var, xtabs
The following objects are masked from 'package:base':
Filter, Find, Map, Position, Reduce, anyDuplicated, aperm, append,
as.data.frame, basename, cbind, colnames, dirname, do.call,
duplicated, eval, evalq, get, grep, grepl, is.unsorted, lapply,
mapply, match, mget, order, paste, pmax, pmax.int, pmin, pmin.int,
rank, rbind, rownames, sapply, saveRDS, table, tapply, unique,
unsplit, which.max, which.min
Attaching package: 'S4Vectors'
The following object is masked from 'package:utils':
findMatches
The following objects are masked from 'package:base':
I, expand.grid, unname
Loading required package: BiocParallel
> library("MsExperiment")
Loading required package: ProtGenerics
Attaching package: 'ProtGenerics'
The following object is masked from 'package:stats':
smooth
> library("msdata")
> library("S4Vectors")
>
> test_check("MsQuality")
trying URL 'https://api.github.com/repos/HUPO-PSI/psi-ms-CV/releases/latest'
Content type 'application/json; charset=utf-8' length 7683 bytes
==================================================
downloaded 7683 bytes
trying URL 'https://github.com/HUPO-PSI/psi-ms-CV/releases/download/v4.1.217/psi-ms.obo'
Content type 'application/octet-stream' length 1101150 bytes (1.1 MB)
==================================================
downloaded 1.1 MB
MsQuality.Rcheck/MsQuality-Ex.timings
| name | user | system | elapsed | |
| MsQuality-package | 0 | 0 | 0 | |
| areaUnderTic | 0.262 | 0.020 | 0.328 | |
| areaUnderTicRtQuantiles | 0.252 | 0.008 | 0.261 | |
| calculateMetrics | 7.571 | 1.006 | 9.767 | |
| calculateMetricsFromMsExperiment | 5.907 | 1.181 | 6.233 | |
| calculateMetricsFromOneSampleSpectra | 4.187 | 0.460 | 5.637 | |
| calculateMetricsFromSpectra | 13.808 | 2.241 | 16.406 | |
| chromatographyDuration | 0.147 | 0.016 | 0.329 | |
| dot-rtOrderSpectra | 0.165 | 0.020 | 0.347 | |
| extentIdentifiedPrecursorIntensity | 0.146 | 0.020 | 0.209 | |
| meanCharge | 0.154 | 0.004 | 0.237 | |
| medianCharge | 0.143 | 0.008 | 0.152 | |
| medianPrecursorMz | 0.146 | 0.004 | 0.151 | |
| medianTicOfRtRange | 0.249 | 0.040 | 0.475 | |
| medianTicRtIqr | 0.140 | 0.004 | 0.145 | |
| msSignal10xChange | 0.143 | 0.000 | 0.144 | |
| mzAcquisitionRange | 0.15 | 0.00 | 0.15 | |
| numberEmptyScans | 0.156 | 0.004 | 0.161 | |
| numberSpectra | 0.136 | 0.020 | 0.157 | |
| plotMetric | 3.817 | 0.829 | 6.230 | |
| plotMetricTibble | 3.299 | 0.703 | 3.713 | |
| precursorIntensityMean | 0.227 | 0.040 | 0.268 | |
| precursorIntensityQuartiles | 0.149 | 0.016 | 0.166 | |
| precursorIntensityRange | 0.163 | 0.004 | 0.179 | |
| precursorIntensitySd | 0.148 | 0.020 | 0.212 | |
| qualityMetrics | 0.153 | 0.004 | 0.157 | |
| ratioCharge1over2 | 0.157 | 0.004 | 0.200 | |
| ratioCharge3over2 | 0.151 | 0.016 | 0.167 | |
| ratioCharge4over2 | 0.145 | 0.020 | 0.165 | |
| rtAcquisitionRange | 0.157 | 0.010 | 0.168 | |
| rtIqr | 0.155 | 0.008 | 0.165 | |
| rtIqrRate | 0.162 | 0.000 | 0.162 | |
| rtOverMsQuarters | 0.159 | 0.008 | 0.167 | |
| shinyMsQuality | 1.855 | 0.431 | 3.386 | |
| ticQuantileRtFraction | 1.416 | 0.218 | 0.272 | |
| ticQuartileToQuartileLogRatio | 0.154 | 0.017 | 0.195 | |
| transformIntoMzQC | 3.066 | 0.637 | 2.551 | |