Back to Multiple platform build/check report for BioC 3.22:   simplified   long
ABCDEFGHIJKL[M]NOPQRSTUVWXYZ

This page was generated on 2025-10-25 12:06 -0400 (Sat, 25 Oct 2025).

HostnameOSArch (*)R versionInstalled pkgs
nebbiolo2Linux (Ubuntu 24.04.3 LTS)x86_644.5.1 Patched (2025-08-23 r88802) -- "Great Square Root" 4901
lconwaymacOS 12.7.6 Montereyx86_644.5.1 Patched (2025-09-10 r88807) -- "Great Square Root" 4691
kjohnson3macOS 13.7.7 Venturaarm644.5.1 Patched (2025-09-10 r88807) -- "Great Square Root" 4637
taishanLinux (openEuler 24.03 LTS)aarch644.5.0 (2025-04-11) -- "How About a Twenty-Six" 4658
Click on any hostname to see more info about the system (e.g. compilers)      (*) as reported by 'uname -p', except on Windows and Mac OS X

Package 1375/2361HostnameOS / ArchINSTALLBUILDCHECKBUILD BIN
MsBackendMetaboLights 1.3.1  (landing page)
Johannes Rainer
Snapshot Date: 2025-10-24 13:45 -0400 (Fri, 24 Oct 2025)
git_url: https://git.bioconductor.org/packages/MsBackendMetaboLights
git_branch: devel
git_last_commit: 11ea78a
git_last_commit_date: 2025-04-30 02:41:33 -0400 (Wed, 30 Apr 2025)
nebbiolo2Linux (Ubuntu 24.04.3 LTS) / x86_64  OK    OK    OK  UNNEEDED, same version is already published
lconwaymacOS 12.7.6 Monterey / x86_64  OK    OK    OK    OK  UNNEEDED, same version is already published
kjohnson3macOS 13.7.7 Ventura / arm64  OK    OK    OK    OK  UNNEEDED, same version is already published
taishanLinux (openEuler 24.03 LTS) / aarch64  OK    NA    NA  


CHECK results for MsBackendMetaboLights on kjohnson3

To the developers/maintainers of the MsBackendMetaboLights package:
- Allow up to 24 hours (and sometimes 48 hours) for your latest push to git@git.bioconductor.org:packages/MsBackendMetaboLights.git to reflect on this report. See Troubleshooting Build Report for more information.
- Use the following Renviron settings to reproduce errors and warnings.
- If 'R CMD check' started to fail recently on the Linux builder(s) over a missing dependency, add the missing dependency to 'Suggests:' in your DESCRIPTION file. See Renviron.bioc for more information.

raw results


Summary

Package: MsBackendMetaboLights
Version: 1.3.1
Command: /Library/Frameworks/R.framework/Resources/bin/R CMD check --install=check:MsBackendMetaboLights.install-out.txt --library=/Library/Frameworks/R.framework/Resources/library --no-vignettes --timings MsBackendMetaboLights_1.3.1.tar.gz
StartedAt: 2025-10-24 20:54:19 -0400 (Fri, 24 Oct 2025)
EndedAt: 2025-10-24 21:01:05 -0400 (Fri, 24 Oct 2025)
EllapsedTime: 405.1 seconds
RetCode: 0
Status:   OK  
CheckDir: MsBackendMetaboLights.Rcheck
Warnings: 0

Command output

##############################################################################
##############################################################################
###
### Running command:
###
###   /Library/Frameworks/R.framework/Resources/bin/R CMD check --install=check:MsBackendMetaboLights.install-out.txt --library=/Library/Frameworks/R.framework/Resources/library --no-vignettes --timings MsBackendMetaboLights_1.3.1.tar.gz
###
##############################################################################
##############################################################################


* using log directory ‘/Users/biocbuild/bbs-3.22-bioc/meat/MsBackendMetaboLights.Rcheck’
* using R version 4.5.1 Patched (2025-09-10 r88807)
* using platform: aarch64-apple-darwin20
* R was compiled by
    Apple clang version 16.0.0 (clang-1600.0.26.6)
    GNU Fortran (GCC) 14.2.0
* running under: macOS Ventura 13.7.7
* using session charset: UTF-8
* using option ‘--no-vignettes’
* checking for file ‘MsBackendMetaboLights/DESCRIPTION’ ... OK
* this is package ‘MsBackendMetaboLights’ version ‘1.3.1’
* package encoding: UTF-8
* checking package namespace information ... OK
* checking package dependencies ... OK
* checking if this is a source package ... OK
* checking if there is a namespace ... OK
* checking for hidden files and directories ... OK
* checking for portable file names ... OK
* checking for sufficient/correct file permissions ... OK
* checking whether package ‘MsBackendMetaboLights’ can be installed ... OK
* checking installed package size ... OK
* checking package directory ... OK
* checking ‘build’ directory ... OK
* checking DESCRIPTION meta-information ... OK
* checking top-level files ... OK
* checking for left-over files ... OK
* checking index information ... OK
* checking package subdirectories ... OK
* checking code files for non-ASCII characters ... OK
* checking R files for syntax errors ... OK
* checking whether the package can be loaded ... OK
* checking whether the package can be loaded with stated dependencies ... OK
* checking whether the package can be unloaded cleanly ... OK
* checking whether the namespace can be loaded with stated dependencies ... OK
* checking whether the namespace can be unloaded cleanly ... OK
* checking dependencies in R code ... OK
* checking S3 generic/method consistency ... OK
* checking replacement functions ... OK
* checking foreign function calls ... OK
* checking R code for possible problems ... OK
* checking Rd files ... OK
* checking Rd metadata ... OK
* checking Rd cross-references ... OK
* checking for missing documentation entries ... OK
* checking for code/documentation mismatches ... OK
* checking Rd \usage sections ... OK
* checking Rd contents ... OK
* checking for unstated dependencies in examples ... OK
* checking files in ‘vignettes’ ... OK
* checking examples ... OK
Examples with CPU (user + system) or elapsed time > 5s
                       user system elapsed
MsBackendMetaboLights 2.880  0.574   9.716
MetaboLights-utils    0.128  0.015   6.758
* checking for unstated dependencies in ‘tests’ ... OK
* checking tests ...
  Running ‘testthat.R’
 OK
* checking for unstated dependencies in vignettes ... OK
* checking package vignettes ... OK
* checking running R code from vignettes ... SKIPPED
* checking re-building of vignette outputs ... SKIPPED
* checking PDF version of manual ... OK
* DONE

Status: OK


Installation output

MsBackendMetaboLights.Rcheck/00install.out

##############################################################################
##############################################################################
###
### Running command:
###
###   /Library/Frameworks/R.framework/Resources/bin/R CMD INSTALL MsBackendMetaboLights
###
##############################################################################
##############################################################################


* installing to library ‘/Library/Frameworks/R.framework/Versions/4.5-arm64/Resources/library’
* installing *source* package ‘MsBackendMetaboLights’ ...
** this is package ‘MsBackendMetaboLights’ version ‘1.3.1’
** using staged installation
** R
** byte-compile and prepare package for lazy loading
** help
*** installing help indices
*** copying figures
** building package indices
** installing vignettes
** testing if installed package can be loaded from temporary location
** testing if installed package can be loaded from final location
** testing if installed package keeps a record of temporary installation path
* DONE (MsBackendMetaboLights)

Tests output

MsBackendMetaboLights.Rcheck/tests/testthat.Rout


R version 4.5.1 Patched (2025-09-10 r88807) -- "Great Square Root"
Copyright (C) 2025 The R Foundation for Statistical Computing
Platform: aarch64-apple-darwin20

R is free software and comes with ABSOLUTELY NO WARRANTY.
You are welcome to redistribute it under certain conditions.
Type 'license()' or 'licence()' for distribution details.

R is a collaborative project with many contributors.
Type 'contributors()' for more information and
'citation()' on how to cite R or R packages in publications.

Type 'demo()' for some demos, 'help()' for on-line help, or
'help.start()' for an HTML browser interface to help.
Type 'q()' to quit R.

> #' MetaboLights ID: MTBLS8735
> #' ftp://ftp.ebi.ac.uk/pub/databases/metabolights/studies/public/MTBLS8735
> 
> library(testthat)
> library(MsBackendMetaboLights)
Loading required package: Spectra
Loading required package: S4Vectors
Loading required package: stats4
Loading required package: BiocGenerics
Loading required package: generics

Attaching package: 'generics'

The following objects are masked from 'package:base':

    as.difftime, as.factor, as.ordered, intersect, is.element, setdiff,
    setequal, union


Attaching package: 'BiocGenerics'

The following objects are masked from 'package:stats':

    IQR, mad, sd, var, xtabs

The following objects are masked from 'package:base':

    Filter, Find, Map, Position, Reduce, anyDuplicated, aperm, append,
    as.data.frame, basename, cbind, colnames, dirname, do.call,
    duplicated, eval, evalq, get, grep, grepl, is.unsorted, lapply,
    mapply, match, mget, order, paste, pmax, pmax.int, pmin, pmin.int,
    rank, rbind, rownames, sapply, saveRDS, table, tapply, unique,
    unsplit, which.max, which.min


Attaching package: 'S4Vectors'

The following object is masked from 'package:utils':

    findMatches

The following objects are masked from 'package:base':

    I, expand.grid, unname

Loading required package: BiocParallel
> 
> test_check("MsBackendMetaboLights")
[ FAIL 0 | WARN 0 | SKIP 0 | PASS 74 ]
> 
> ## Run tests with the unit test suite defined in the Spectra package to ensure
> ## compliance with the definitions of the MsBackend interface/class.
> be <- backendInitialize(MsBackendMetaboLights(), mtblsId = "MTBLS39",
+                         filePattern = "63A.cdf")
Used data files from the assay's column "Raw Spectral Data File" since none were available in column "Derived Spectral Data File".
> 
> library(Spectra)
> test_suite <- system.file("test_backends", "test_MsBackend",
+                           package = "Spectra")
> res <- test_dir(test_suite, stop_on_failure = TRUE)
✔ | F W  S  OK | Context

⠏ |          0 | peaks_variables                                                
⠙ |          2 | peaks_variables                                                
⠸ |          4 | peaks_variables                                                
✔ |          4 | peaks_variables

⠏ |          0 | spectra_subsetting                                             
⠋ |          1 | spectra_subsetting                                             
⠏ |         40 | spectra_subsetting                                             
⠇ |         79 | spectra_subsetting                                             
⠧ |        118 | spectra_subsetting                                             
⠦ |        157 | spectra_subsetting                                             
⠴ |        196 | spectra_subsetting                                             
⠹ |        233 | spectra_subsetting                                             
⠋ |        271 | spectra_subsetting                                             
⠏ |        310 | spectra_subsetting                                             
⠴ |        346 | spectra_subsetting                                             
⠙ |        382 | spectra_subsetting                                             
⠇ |        419 | spectra_subsetting                                             
⠧ |        458 | spectra_subsetting                                             
⠴ |        496 | spectra_subsetting                                             
⠋ |        531 | spectra_subsetting                                             
⠏ |        570 | spectra_subsetting                                             
⠦ |        607 | spectra_subsetting                                             
⠴ |        646 | spectra_subsetting                                             
⠼ |        685 | spectra_subsetting                                             
⠸ |        724 | spectra_subsetting                                             
⠹ |        763 | spectra_subsetting                                             
⠙ |        802 | spectra_subsetting                                             
⠋ |        841 | spectra_subsetting                                             
⠏ |        880 | spectra_subsetting                                             
⠇ |        919 | spectra_subsetting                                             
⠧ |        958 | spectra_subsetting                                             
⠧ |        998 | spectra_subsetting                                             
⠴ |        1036 | spectra_subsetting                                            
⠙ |        1072 | spectra_subsetting                                            
⠋ |        1111 | spectra_subsetting                                            
⠸ |        1144 | spectra_subsetting                                            
⠹ |        1183 | spectra_subsetting                                            
⠴ |        1216 | spectra_subsetting                                            
⠙ |        1252 | spectra_subsetting                                            
⠏ |        1290 | spectra_subsetting                                            
⠼ |        1325 | spectra_subsetting                                            
⠹ |        1363 | spectra_subsetting                                            
⠴ |        1396 | spectra_subsetting                                            
⠙ |        1432 | spectra_subsetting                                            
⠧ |        1468 | spectra_subsetting                                            
⠸ |        1504 | spectra_subsetting                                            
⠹ |        1543 | spectra_subsetting                                            
⠇ |        1579 | spectra_subsetting                                            
⠧ |        1618 | spectra_subsetting                                            
⠧ |        1658 | spectra_subsetting                                            
⠸ |        1694 | spectra_subsetting                                            
⠙ |        1732 | spectra_subsetting                                            
⠋ |        1771 | spectra_subsetting                                            
⠦ |        1807 | spectra_subsetting                                            
⠴ |        1846 | spectra_subsetting                                            
⠹ |        1883 | spectra_subsetting                                            
⠋ |        1921 | spectra_subsetting                                            
⠦ |        1957 | spectra_subsetting                                            
⠸ |        1994 | spectra_subsetting                                            
⠇ |        2029 | spectra_subsetting                                            
⠧ |        2068 | spectra_subsetting                                            
⠦ |        2107 | spectra_subsetting                                            
⠴ |        2146 | spectra_subsetting                                            
⠙ |        2182 | spectra_subsetting                                            
⠋ |        2221 | spectra_subsetting                                            
⠏ |        2260 | spectra_subsetting                                            
⠇ |        2299 | spectra_subsetting                                            
⠧ |        2338 | spectra_subsetting                                            
⠸ |        2374 | spectra_subsetting                                            
⠏ |        2410 | spectra_subsetting                                            
⠇ |        2449 | spectra_subsetting                                            
⠼ |        2485 | spectra_subsetting                                            
⠸ |        2524 | spectra_subsetting                                            
⠹ |        2563 | spectra_subsetting                                            
⠙ |        2602 | spectra_subsetting                                            
⠋ |        2641 | spectra_subsetting                                            
⠏ |        2680 | spectra_subsetting                                            
⠇ |        2719 | spectra_subsetting                                            
⠧ |        2758 | spectra_subsetting                                            
⠦ |        2797 | spectra_subsetting                                            
⠴ |        2836 | spectra_subsetting                                            
⠼ |        2875 | spectra_subsetting                                            
⠸ |        2914 | spectra_subsetting                                            
⠹ |        2953 | spectra_subsetting                                            
⠙ |        2992 | spectra_subsetting                                            
⠋ |        3031 | spectra_subsetting                                            
⠧ |        3068 | spectra_subsetting                                            
⠧ |        3108 | spectra_subsetting                                            
⠼ |        3145 | spectra_subsetting                                            
⠸ |        3184 | spectra_subsetting                                            
⠹ |        3223 | spectra_subsetting                                            
⠙ |        3262 | spectra_subsetting                                            
⠋ |        3301 | spectra_subsetting                                            
⠇ |        3339 | spectra_subsetting                                            
⠸ |        3374 | spectra_subsetting                                            
⠙ |        3412 | spectra_subsetting                                            
⠋ |        3451 | spectra_subsetting                                            
⠏ |        3490 | spectra_subsetting                                            
⠇ |        3529 | spectra_subsetting                                            
⠧ |        3568 | spectra_subsetting                                            
⠸ |        3604 | spectra_subsetting                                            
⠹ |        3643 | spectra_subsetting                                            
⠙ |        3682 | spectra_subsetting                                            
⠋ |        3721 | spectra_subsetting                                            
⠸ |        3754 | spectra_subsetting                                            
⠏ |        3790 | spectra_subsetting                                            
⠇ |        3829 | spectra_subsetting                                            
⠼ |        3865 | spectra_subsetting                                            
⠹ |        3903 | spectra_subsetting                                            
⠏ |        3940 | spectra_subsetting                                            
⠇ |        3979 | spectra_subsetting                                            
⠧ |        4018 | spectra_subsetting                                            
⠦ |        4057 | spectra_subsetting                                            
⠴ |        4096 | spectra_subsetting                                            
⠼ |        4135 | spectra_subsetting                                            
⠙ |        4172 | spectra_subsetting                                            
⠧ |        4208 | spectra_subsetting                                            
⠴ |        4246 | spectra_subsetting                                            
⠼ |        4285 | spectra_subsetting                                            
⠸ |        4324 | spectra_subsetting                                            
⠹ |        4363 | spectra_subsetting                                            
⠙ |        4402 | spectra_subsetting                                            
⠧ |        4438 | spectra_subsetting                                            
⠸ |        4474 | spectra_subsetting                                            
⠏ |        4510 | spectra_subsetting                                            
⠸ |        4544 | spectra_subsetting                                            
⠇ |        4579 | spectra_subsetting                                            
⠧ |        4618 | spectra_subsetting                                            
⠋ |        4651 | spectra_subsetting                                            
⠧ |        4688 | spectra_subsetting                                            
⠴ |        4726 | spectra_subsetting                                            
⠙ |        4762 | spectra_subsetting                                            
⠧ |        4798 | spectra_subsetting                                            
⠦ |        4837 | spectra_subsetting                                            
⠏ |        4870 | spectra_subsetting                                            
⠴ |        4906 | spectra_subsetting                                            
⠙ |        4942 | spectra_subsetting                                            
⠼ |        4975 | spectra_subsetting                                            
⠦ |        4997 | spectra_subsetting                                            
⠇ |        4999 | spectra_subsetting                                            
⠋ |        5001 | spectra_subsetting                                            
⠹ |        5003 | spectra_subsetting                                            
⠼ |        5005 | spectra_subsetting                                            
⠦ |        5007 | spectra_subsetting                                            
⠇ |        5009 | spectra_subsetting                                            
⠋ |        5011 | spectra_subsetting                                            
⠹ |        5013 | spectra_subsetting                                            
⠼ |        5015 | spectra_subsetting                                            
⠴ |        5016 | spectra_subsetting                                            
⠧ |        5018 | spectra_subsetting                                            
⠏ |        5020 | spectra_subsetting                                            
⠙ |        5022 | spectra_subsetting                                            
⠸ |        5024 | spectra_subsetting                                            
⠼ |        5025 | spectra_subsetting                                            
⠦ |        5027 | spectra_subsetting                                            
⠇ |        5029 | spectra_subsetting                                            
⠋ |        5031 | spectra_subsetting                                            
⠹ |        5033 | spectra_subsetting                                            
⠼ |        5035 | spectra_subsetting                                            
⠦ |        5037 | spectra_subsetting                                            
⠇ |        5039 | spectra_subsetting                                            
⠋ |        5041 | spectra_subsetting                                            
⠹ |        5043 | spectra_subsetting                                            
⠼ |        5045 | spectra_subsetting                                            
⠦ |        5047 | spectra_subsetting                                            
⠇ |        5049 | spectra_subsetting                                            
⠋ |        5051 | spectra_subsetting                                            
⠹ |        5053 | spectra_subsetting                                            
⠼ |        5055 | spectra_subsetting                                            
⠦ |        5057 | spectra_subsetting                                            
⠇ |        5059 | spectra_subsetting                                            
⠋ |        5061 | spectra_subsetting                                            
⠹ |        5063 | spectra_subsetting                                            
⠼ |        5065 | spectra_subsetting                                            
⠦ |        5067 | spectra_subsetting                                            
⠇ |        5069 | spectra_subsetting                                            
⠋ |        5071 | spectra_subsetting                                            
⠹ |        5073 | spectra_subsetting                                            
⠼ |        5075 | spectra_subsetting                                            
⠦ |        5077 | spectra_subsetting                                            
⠇ |        5079 | spectra_subsetting                                            
⠏ |        5080 | spectra_subsetting                                            
⠙ |        5082 | spectra_subsetting                                            
⠸ |        5084 | spectra_subsetting                                            
⠴ |        5086 | spectra_subsetting                                            
⠧ |        5088 | spectra_subsetting                                            
⠏ |        5090 | spectra_subsetting                                            
⠙ |        5092 | spectra_subsetting                                            
⠸ |        5094 | spectra_subsetting                                            
⠴ |        5096 | spectra_subsetting                                            
⠧ |        5098 | spectra_subsetting                                            
⠏ |        5100 | spectra_subsetting                                            
⠙ |        5102 | spectra_subsetting                                            
⠸ |        5104 | spectra_subsetting                                            
⠴ |        5106 | spectra_subsetting                                            
⠧ |        5108 | spectra_subsetting                                            
⠏ |        5110 | spectra_subsetting                                            
⠙ |        5112 | spectra_subsetting                                            
⠸ |        5114 | spectra_subsetting                                            
⠴ |        5116 | spectra_subsetting                                            
⠧ |        5118 | spectra_subsetting                                            
⠏ |        5120 | spectra_subsetting                                            
⠙ |        5122 | spectra_subsetting                                            
⠸ |        5124 | spectra_subsetting                                            
⠴ |        5126 | spectra_subsetting                                            
⠦ |        5127 | spectra_subsetting                                            
⠇ |        5129 | spectra_subsetting                                            
⠋ |        5131 | spectra_subsetting                                            
⠹ |        5133 | spectra_subsetting                                            
⠼ |        5135 | spectra_subsetting                                            
⠦ |        5137 | spectra_subsetting                                            
⠇ |        5139 | spectra_subsetting                                            
⠋ |        5141 | spectra_subsetting                                            
⠹ |        5143 | spectra_subsetting                                            
⠼ |        5145 | spectra_subsetting                                            
⠦ |        5147 | spectra_subsetting                                            
⠇ |        5149 | spectra_subsetting                                            
⠋ |        5151 | spectra_subsetting                                            
⠹ |        5153 | spectra_subsetting                                            
⠼ |        5155 | spectra_subsetting                                            
⠦ |        5157 | spectra_subsetting                                            
⠇ |        5159 | spectra_subsetting                                            
⠋ |        5161 | spectra_subsetting                                            
⠹ |        5163 | spectra_subsetting                                            
⠼ |        5165 | spectra_subsetting                                            
⠦ |        5167 | spectra_subsetting                                            
⠇ |        5169 | spectra_subsetting                                            
⠋ |        5171 | spectra_subsetting                                            
⠹ |        5173 | spectra_subsetting                                            
⠼ |        5175 | spectra_subsetting                                            
⠦ |        5177 | spectra_subsetting                                            
⠇ |        5179 | spectra_subsetting                                            
⠋ |        5181 | spectra_subsetting                                            
⠹ |        5183 | spectra_subsetting                                            
⠼ |        5185 | spectra_subsetting                                            
⠦ |        5187 | spectra_subsetting                                            
⠇ |        5189 | spectra_subsetting                                            
⠏ |        5190 | spectra_subsetting                                            
⠙ |        5192 | spectra_subsetting                                            
⠸ |        5194 | spectra_subsetting                                            
⠴ |        5196 | spectra_subsetting                                            
⠧ |        5198 | spectra_subsetting                                            
⠏ |        5200 | spectra_subsetting                                            
⠙ |        5202 | spectra_subsetting                                            
⠸ |        5204 | spectra_subsetting                                            
⠴ |        5206 | spectra_subsetting                                            
⠧ |        5208 | spectra_subsetting                                            
⠏ |        5210 | spectra_subsetting                                            
⠙ |        5212 | spectra_subsetting                                            
⠸ |        5214 | spectra_subsetting                                            
⠴ |        5216 | spectra_subsetting                                            
⠧ |        5218 | spectra_subsetting                                            
⠏ |        5220 | spectra_subsetting                                            
⠙ |        5222 | spectra_subsetting                                            
⠸ |        5224 | spectra_subsetting                                            
⠴ |        5226 | spectra_subsetting                                            
⠧ |        5228 | spectra_subsetting                                            
⠏ |        5230 | spectra_subsetting                                            
⠙ |        5232 | spectra_subsetting                                            
⠸ |        5234 | spectra_subsetting                                            
⠴ |        5236 | spectra_subsetting                                            
⠧ |        5238 | spectra_subsetting                                            
⠏ |        5240 | spectra_subsetting                                            
⠙ |        5242 | spectra_subsetting                                            
⠸ |        5244 | spectra_subsetting                                            
⠴ |        5246 | spectra_subsetting                                            
⠧ |        5248 | spectra_subsetting                                            
⠏ |        5250 | spectra_subsetting                                            
⠋ |        5251 | spectra_subsetting                                            
⠹ |        5253 | spectra_subsetting                                            
⠼ |        5255 | spectra_subsetting                                            
⠦ |        5257 | spectra_subsetting                                            
⠇ |        5259 | spectra_subsetting                                            
⠋ |        5261 | spectra_subsetting                                            
⠹ |        5263 | spectra_subsetting                                            
⠼ |        5265 | spectra_subsetting                                            
⠦ |        5267 | spectra_subsetting                                            
⠇ |        5269 | spectra_subsetting                                            
⠋ |        5271 | spectra_subsetting                                            
⠹ |        5273 | spectra_subsetting                                            
⠼ |        5275 | spectra_subsetting                                            
⠦ |        5277 | spectra_subsetting                                            
⠧ |        5278 | spectra_subsetting                                            
⠏ |        5280 | spectra_subsetting                                            
⠙ |        5282 | spectra_subsetting                                            
⠸ |        5284 | spectra_subsetting                                            
⠴ |        5286 | spectra_subsetting                                            
⠧ |        5288 | spectra_subsetting                                            
⠏ |        5290 | spectra_subsetting                                            
⠙ |        5292 | spectra_subsetting                                            
⠸ |        5294 | spectra_subsetting                                            
⠴ |        5296 | spectra_subsetting                                            
⠧ |        5298 | spectra_subsetting                                            
⠏ |        5300 | spectra_subsetting                                            
⠋ |        5301 | spectra_subsetting                                            
⠹ |        5303 | spectra_subsetting                                            
⠼ |        5305 | spectra_subsetting                                            
⠦ |        5307 | spectra_subsetting                                            
⠇ |        5309 | spectra_subsetting                                            
⠋ |        5311 | spectra_subsetting                                            
⠹ |        5313 | spectra_subsetting                                            
⠼ |        5315 | spectra_subsetting                                            
⠦ |        5317 | spectra_subsetting                                            
⠇ |        5319 | spectra_subsetting                                            
⠋ |        5321 | spectra_subsetting                                            
⠹ |        5323 | spectra_subsetting                                            
⠼ |        5325 | spectra_subsetting                                            
⠦ |        5327 | spectra_subsetting                                            
⠇ |        5329 | spectra_subsetting                                            
⠋ |        5331 | spectra_subsetting                                            
⠹ |        5333 | spectra_subsetting                                            
⠼ |        5335 | spectra_subsetting                                            
⠦ |        5337 | spectra_subsetting                                            
⠇ |        5339 | spectra_subsetting                                            
⠋ |        5341 | spectra_subsetting                                            
⠹ |        5343 | spectra_subsetting                                            
⠼ |        5345 | spectra_subsetting                                            
⠦ |        5347 | spectra_subsetting                                            
⠇ |        5349 | spectra_subsetting                                            
⠏ |        5350 | spectra_subsetting                                            
⠙ |        5352 | spectra_subsetting                                            
⠸ |        5354 | spectra_subsetting                                            
⠴ |        5356 | spectra_subsetting                                            
⠧ |        5358 | spectra_subsetting                                            
⠏ |        5360 | spectra_subsetting                                            
⠙ |        5362 | spectra_subsetting                                            
⠸ |        5364 | spectra_subsetting                                            
⠴ |        5366 | spectra_subsetting                                            
⠧ |        5368 | spectra_subsetting                                            
⠏ |        5370 | spectra_subsetting                                            
⠙ |        5372 | spectra_subsetting                                            
⠸ |        5374 | spectra_subsetting                                            
⠴ |        5376 | spectra_subsetting                                            
⠧ |        5378 | spectra_subsetting                                            
⠏ |        5380 | spectra_subsetting                                            
⠙ |        5382 | spectra_subsetting                                            
⠸ |        5384 | spectra_subsetting                                            
⠴ |        5386 | spectra_subsetting                                            
⠧ |        5388 | spectra_subsetting                                            
⠏ |        5390 | spectra_subsetting                                            
⠙ |        5392 | spectra_subsetting                                            
⠸ |        5394 | spectra_subsetting                                            
⠴ |        5396 | spectra_subsetting                                            
⠧ |        5398 | spectra_subsetting                                            
⠏ |        5400 | spectra_subsetting                                            
⠙ |        5402 | spectra_subsetting                                            
⠸ |        5404 | spectra_subsetting                                            
⠼ |        5405 | spectra_subsetting                                            
⠦ |        5407 | spectra_subsetting                                            
⠇ |        5409 | spectra_subsetting                                            
⠋ |        5411 | spectra_subsetting                                            
⠹ |        5413 | spectra_subsetting                                            
⠼ |        5415 | spectra_subsetting                                            
⠦ |        5417 | spectra_subsetting                                            
⠇ |        5419 | spectra_subsetting                                            
⠋ |        5421 | spectra_subsetting                                            
⠹ |        5423 | spectra_subsetting                                            
⠼ |        5425 | spectra_subsetting                                            
⠦ |        5427 | spectra_subsetting                                            
⠇ |        5429 | spectra_subsetting                                            
⠋ |        5431 | spectra_subsetting                                            
⠹ |        5433 | spectra_subsetting                                            
⠼ |        5435 | spectra_subsetting                                            
⠦ |        5437 | spectra_subsetting                                            
⠇ |        5439 | spectra_subsetting                                            
⠋ |        5441 | spectra_subsetting                                            
⠹ |        5443 | spectra_subsetting                                            
⠼ |        5445 | spectra_subsetting                                            
⠦ |        5447 | spectra_subsetting                                            
⠇ |        5449 | spectra_subsetting                                            
⠋ |        5451 | spectra_subsetting                                            
⠹ |        5453 | spectra_subsetting                                            
⠼ |        5455 | spectra_subsetting                                            
⠦ |        5457 | spectra_subsetting                                            
⠇ |        5459 | spectra_subsetting                                            
⠋ |        5461 | spectra_subsetting                                            
⠹ |        5463 | spectra_subsetting                                            
⠼ |        5465 | spectra_subsetting                                            
⠦ |        5467 | spectra_subsetting                                            
⠇ |        5469 | spectra_subsetting                                            
⠋ |        5471 | spectra_subsetting                                            
⠹ |        5473 | spectra_subsetting                                            
⠼ |        5475 | spectra_subsetting                                            
⠦ |        5477 | spectra_subsetting                                            
⠇ |        5479 | spectra_subsetting                                            
⠋ |        5481 | spectra_subsetting                                            
⠹ |        5483 | spectra_subsetting                                            
⠼ |        5485 | spectra_subsetting                                            
⠦ |        5487 | spectra_subsetting                                            
⠇ |        5489 | spectra_subsetting                                            
⠋ |        5491 | spectra_subsetting                                            
⠹ |        5493 | spectra_subsetting                                            
⠼ |        5495 | spectra_subsetting                                            
⠦ |        5497 | spectra_subsetting                                            
⠇ |        5499 | spectra_subsetting                                            
⠋ |        5501 | spectra_subsetting                                            
⠹ |        5503 | spectra_subsetting                                            
⠸ |        5504 | spectra_subsetting                                            
⠴ |        5506 | spectra_subsetting                                            
⠧ |        5508 | spectra_subsetting                                            
⠏ |        5510 | spectra_subsetting                                            
⠙ |        5512 | spectra_subsetting                                            
⠸ |        5514 | spectra_subsetting                                            
⠴ |        5516 | spectra_subsetting                                            
⠧ |        5518 | spectra_subsetting                                            
⠏ |        5520 | spectra_subsetting                                            
⠙ |        5522 | spectra_subsetting                                            
⠸ |        5524 | spectra_subsetting                                            
⠴ |        5526 | spectra_subsetting                                            
⠧ |        5528 | spectra_subsetting                                            
⠏ |        5530 | spectra_subsetting                                            
⠙ |        5532 | spectra_subsetting                                            
⠸ |        5534 | spectra_subsetting                                            
⠴ |        5536 | spectra_subsetting                                            
⠧ |        5538 | spectra_subsetting                                            
⠏ |        5540 | spectra_subsetting                                            
⠙ |        5542 | spectra_subsetting                                            
⠸ |        5544 | spectra_subsetting                                            
⠴ |        5546 | spectra_subsetting                                            
⠧ |        5548 | spectra_subsetting                                            
⠏ |        5550 | spectra_subsetting                                            
⠙ |        5552 | spectra_subsetting                                            
⠸ |        5554 | spectra_subsetting                                            
⠴ |        5556 | spectra_subsetting                                            
⠧ |        5558 | spectra_subsetting                                            
⠏ |        5560 | spectra_subsetting                                            
⠙ |        5562 | spectra_subsetting                                            
⠸ |        5564 | spectra_subsetting                                            
⠴ |        5566 | spectra_subsetting                                            
⠧ |        5568 | spectra_subsetting                                            
⠏ |        5570 | spectra_subsetting                                            
⠙ |        5572 | spectra_subsetting                                            
⠸ |        5574 | spectra_subsetting                                            
⠴ |        5576 | spectra_subsetting                                            
⠧ |        5578 | spectra_subsetting                                            
⠏ |        5580 | spectra_subsetting                                            
⠙ |        5582 | spectra_subsetting                                            
⠸ |        5584 | spectra_subsetting                                            
⠴ |        5586 | spectra_subsetting                                            
⠧ |        5588 | spectra_subsetting                                            
⠏ |        5590 | spectra_subsetting                                            
⠙ |        5592 | spectra_subsetting                                            
⠸ |        5594 | spectra_subsetting                                            
⠴ |        5596 | spectra_subsetting                                            
⠧ |        5598 | spectra_subsetting                                            
⠏ |        5600 | spectra_subsetting                                            
⠙ |        5602 | spectra_subsetting                                            
⠸ |        5604 | spectra_subsetting                                            
⠴ |        5606 | spectra_subsetting                                            
⠧ |        5608 | spectra_subsetting                                            
⠏ |        5610 | spectra_subsetting                                            
⠙ |        5612 | spectra_subsetting                                            
⠹ |        5613 | spectra_subsetting                                            
⠼ |        5615 | spectra_subsetting                                            
⠦ |        5617 | spectra_subsetting                                            
⠇ |        5619 | spectra_subsetting                                            
⠋ |        5621 | spectra_subsetting                                            
⠹ |        5623 | spectra_subsetting                                            
⠼ |        5625 | spectra_subsetting                                            
⠦ |        5627 | spectra_subsetting                                            
⠇ |        5629 | spectra_subsetting                                            
⠋ |        5631 | spectra_subsetting                                            
⠹ |        5633 | spectra_subsetting                                            
⠼ |        5635 | spectra_subsetting                                            
⠦ |        5637 | spectra_subsetting                                            
⠇ |        5639 | spectra_subsetting                                            
⠋ |        5641 | spectra_subsetting                                            
⠹ |        5643 | spectra_subsetting                                            
⠼ |        5645 | spectra_subsetting                                            
⠦ |        5647 | spectra_subsetting                                            
⠇ |        5649 | spectra_subsetting                                            
⠋ |        5651 | spectra_subsetting                                            
⠹ |        5653 | spectra_subsetting                                            
⠼ |        5655 | spectra_subsetting                                            
⠦ |        5657 | spectra_subsetting                                            
⠇ |        5659 | spectra_subsetting                                            
⠋ |        5661 | spectra_subsetting                                            
⠹ |        5663 | spectra_subsetting                                            
⠼ |        5665 | spectra_subsetting                                            
⠦ |        5667 | spectra_subsetting                                            
⠧ |        5668 | spectra_subsetting                                            
⠏ |        5670 | spectra_subsetting                                            
⠙ |        5672 | spectra_subsetting                                            
⠸ |        5674 | spectra_subsetting                                            
⠴ |        5676 | spectra_subsetting                                            
⠧ |        5678 | spectra_subsetting                                            
⠏ |        5680 | spectra_subsetting                                            
⠙ |        5682 | spectra_subsetting                                            
⠸ |        5684 | spectra_subsetting                                            
⠴ |        5686 | spectra_subsetting                                            
⠧ |        5688 | spectra_subsetting                                            
⠏ |        5690 | spectra_subsetting                                            
⠙ |        5692 | spectra_subsetting                                            
⠸ |        5694 | spectra_subsetting                                            
⠴ |        5696 | spectra_subsetting                                            
⠧ |        5698 | spectra_subsetting                                            
⠏ |        5700 | spectra_subsetting                                            
⠙ |        5702 | spectra_subsetting                                            
⠸ |        5704 | spectra_subsetting                                            
⠴ |        5706 | spectra_subsetting                                            
⠧ |        5708 | spectra_subsetting                                            
⠏ |        5710 | spectra_subsetting                                            
⠙ |        5712 | spectra_subsetting                                            
⠸ |        5714 | spectra_subsetting                                            
⠴ |        5716 | spectra_subsetting                                            
⠧ |        5718 | spectra_subsetting                                            
⠏ |        5720 | spectra_subsetting                                            
⠙ |        5722 | spectra_subsetting                                            
⠸ |        5724 | spectra_subsetting                                            
⠴ |        5726 | spectra_subsetting                                            
⠧ |        5728 | spectra_subsetting                                            
⠏ |        5730 | spectra_subsetting                                            
⠙ |        5732 | spectra_subsetting                                            
⠸ |        5734 | spectra_subsetting                                            
⠴ |        5736 | spectra_subsetting                                            
⠧ |        5738 | spectra_subsetting                                            
⠏ |        5740 | spectra_subsetting                                            
⠙ |        5742 | spectra_subsetting                                            
⠸ |        5744 | spectra_subsetting                                            
⠴ |        5746 | spectra_subsetting                                            
⠧ |        5748 | spectra_subsetting                                            
⠏ |        5750 | spectra_subsetting                                            
⠙ |        5752 | spectra_subsetting                                            
⠸ |        5754 | spectra_subsetting                                            
⠴ |        5756 | spectra_subsetting                                            
⠧ |        5758 | spectra_subsetting                                            
⠏ |        5760 | spectra_subsetting                                            
⠙ |        5762 | spectra_subsetting                                            
⠸ |        5764 | spectra_subsetting                                            
⠴ |        5766 | spectra_subsetting                                            
⠧ |        5768 | spectra_subsetting                                            
⠏ |        5770 | spectra_subsetting                                            
⠙ |        5772 | spectra_subsetting                                            
⠸ |        5774 | spectra_subsetting                                            
⠴ |        5776 | spectra_subsetting                                            
⠦ |        5777 | spectra_subsetting                                            
⠇ |        5779 | spectra_subsetting                                            
⠋ |        5781 | spectra_subsetting                                            
⠹ |        5783 | spectra_subsetting                                            
⠼ |        5785 | spectra_subsetting                                            
⠦ |        5787 | spectra_subsetting                                            
⠇ |        5789 | spectra_subsetting                                            
⠋ |        5791 | spectra_subsetting                                            
⠹ |        5793 | spectra_subsetting                                            
⠼ |        5795 | spectra_subsetting                                            
⠦ |        5797 | spectra_subsetting                                            
⠇ |        5799 | spectra_subsetting                                            
⠋ |        5801 | spectra_subsetting                                            
⠹ |        5803 | spectra_subsetting                                            
⠼ |        5805 | spectra_subsetting                                            
⠦ |        5807 | spectra_subsetting                                            
⠇ |        5809 | spectra_subsetting                                            
⠋ |        5811 | spectra_subsetting                                            
⠹ |        5813 | spectra_subsetting                                            
⠼ |        5815 | spectra_subsetting                                            
⠦ |        5817 | spectra_subsetting                                            
⠇ |        5819 | spectra_subsetting                                            
⠋ |        5821 | spectra_subsetting                                            
⠹ |        5823 | spectra_subsetting                                            
⠸ |        5824 | spectra_subsetting                                            
⠴ |        5826 | spectra_subsetting                                            
⠧ |        5828 | spectra_subsetting                                            
⠏ |        5830 | spectra_subsetting                                            
⠙ |        5832 | spectra_subsetting                                            
⠸ |        5834 | spectra_subsetting                                            
⠴ |        5836 | spectra_subsetting                                            
⠧ |        5838 | spectra_subsetting                                            
⠏ |        5840 | spectra_subsetting                                            
⠙ |        5842 | spectra_subsetting                                            
⠸ |        5844 | spectra_subsetting                                            
⠴ |        5846 | spectra_subsetting                                            
⠧ |        5848 | spectra_subsetting                                            
⠏ |        5850 | spectra_subsetting                                            
⠙ |        5852 | spectra_subsetting                                            
⠸ |        5854 | spectra_subsetting                                            
⠴ |        5856 | spectra_subsetting                                            
⠧ |        5858 | spectra_subsetting                                            
⠏ |        5860 | spectra_subsetting                                            
⠙ |        5862 | spectra_subsetting                                            
⠸ |        5864 | spectra_subsetting                                            
⠴ |        5866 | spectra_subsetting                                            
⠧ |        5868 | spectra_subsetting                                            
⠏ |        5870 | spectra_subsetting                                            
⠙ |        5872 | spectra_subsetting                                            
⠸ |        5874 | spectra_subsetting                                            
⠴ |        5876 | spectra_subsetting                                            
⠧ |        5878 | spectra_subsetting                                            
⠏ |        5880 | spectra_subsetting                                            
⠙ |        5882 | spectra_subsetting                                            
⠸ |        5884 | spectra_subsetting                                            
⠴ |        5886 | spectra_subsetting                                            
⠧ |        5888 | spectra_subsetting                                            
⠏ |        5890 | spectra_subsetting                                            
⠙ |        5892 | spectra_subsetting                                            
⠸ |        5894 | spectra_subsetting                                            
⠴ |        5896 | spectra_subsetting                                            
⠧ |        5898 | spectra_subsetting                                            
⠏ |        5900 | spectra_subsetting                                            
⠙ |        5902 | spectra_subsetting                                            
⠸ |        5904 | spectra_subsetting                                            
⠴ |        5906 | spectra_subsetting                                            
⠧ |        5908 | spectra_subsetting                                            
⠏ |        5910 | spectra_subsetting                                            
⠙ |        5912 | spectra_subsetting                                            
⠸ |        5914 | spectra_subsetting                                            
⠴ |        5916 | spectra_subsetting                                            
⠧ |        5918 | spectra_subsetting                                            
⠏ |        5920 | spectra_subsetting                                            
⠙ |        5922 | spectra_subsetting                                            
⠸ |        5924 | spectra_subsetting                                            
⠴ |        5926 | spectra_subsetting                                            
⠧ |        5928 | spectra_subsetting                                            
⠏ |        5930 | spectra_subsetting                                            
⠙ |        5932 | spectra_subsetting                                            
⠸ |        5934 | spectra_subsetting                                            
⠴ |        5936 | spectra_subsetting                                            
⠧ |        5938 | spectra_subsetting                                            
⠏ |        5940 | spectra_subsetting                                            
⠙ |        5942 | spectra_subsetting                                            
⠸ |        5944 | spectra_subsetting                                            
⠴ |        5946 | spectra_subsetting                                            
⠧ |        5948 | spectra_subsetting                                            
⠏ |        5950 | spectra_subsetting                                            
⠙ |        5952 | spectra_subsetting                                            
⠸ |        5954 | spectra_subsetting                                            
⠴ |        5956 | spectra_subsetting                                            
⠧ |        5958 | spectra_subsetting                                            
⠏ |        5960 | spectra_subsetting                                            
⠙ |        5962 | spectra_subsetting                                            
⠸ |        5964 | spectra_subsetting                                            
⠴ |        5966 | spectra_subsetting                                            
⠧ |        5968 | spectra_subsetting                                            
⠏ |        5970 | spectra_subsetting                                            
⠙ |        5972 | spectra_subsetting                                            
⠸ |        5974 | spectra_subsetting                                            
⠴ |        5976 | spectra_subsetting                                            
⠧ |        5978 | spectra_subsetting                                            
⠏ |        5980 | spectra_subsetting                                            
⠙ |        5982 | spectra_subsetting                                            
⠸ |        5984 | spectra_subsetting                                            
⠴ |        5986 | spectra_subsetting                                            
⠧ |        5988 | spectra_subsetting                                            
⠏ |        5990 | spectra_subsetting                                            
⠙ |        5992 | spectra_subsetting                                            
⠸ |        5994 | spectra_subsetting                                            
⠴ |        5996 | spectra_subsetting                                            
⠧ |        5998 | spectra_subsetting                                            
⠏ |        6000 | spectra_subsetting                                            
⠙ |        6002 | spectra_subsetting                                            
⠸ |        6004 | spectra_subsetting                                            
⠴ |        6006 | spectra_subsetting                                            
⠧ |        6008 | spectra_subsetting                                            
⠏ |        6010 | spectra_subsetting                                            
⠙ |        6012 | spectra_subsetting                                            
⠸ |        6014 | spectra_subsetting                                            
⠴ |        6016 | spectra_subsetting                                            
⠧ |        6018 | spectra_subsetting                                            
⠏ |        6020 | spectra_subsetting                                            
⠙ |        6022 | spectra_subsetting                                            
⠸ |        6024 | spectra_subsetting                                            
⠴ |        6026 | spectra_subsetting                                            
⠧ |        6028 | spectra_subsetting                                            
⠏ |        6030 | spectra_subsetting                                            
⠙ |        6032 | spectra_subsetting                                            
⠸ |        6034 | spectra_subsetting                                            
⠴ |        6036 | spectra_subsetting                                            
⠧ |        6038 | spectra_subsetting                                            
⠏ |        6040 | spectra_subsetting                                            
⠙ |        6042 | spectra_subsetting                                            
⠸ |        6044 | spectra_subsetting                                            
⠴ |        6046 | spectra_subsetting                                            
⠧ |        6048 | spectra_subsetting                                            
⠏ |        6050 | spectra_subsetting                                            
⠙ |        6052 | spectra_subsetting                                            
⠸ |        6054 | spectra_subsetting                                            
⠴ |        6056 | spectra_subsetting                                            
⠧ |        6058 | spectra_subsetting                                            
⠏ |        6060 | spectra_subsetting                                            
⠙ |        6062 | spectra_subsetting                                            
⠸ |        6064 | spectra_subsetting                                            
⠴ |        6066 | spectra_subsetting                                            
⠧ |        6068 | spectra_subsetting                                            
⠏ |        6070 | spectra_subsetting                                            
⠙ |        6072 | spectra_subsetting                                            
⠹ |        6073 | spectra_subsetting                                            
⠼ |        6075 | spectra_subsetting                                            
⠦ |        6077 | spectra_subsetting                                            
⠇ |        6079 | spectra_subsetting                                            
⠋ |        6081 | spectra_subsetting                                            
⠹ |        6083 | spectra_subsetting                                            
⠼ |        6085 | spectra_subsetting                                            
⠦ |        6087 | spectra_subsetting                                            
⠇ |        6089 | spectra_subsetting                                            
⠋ |        6091 | spectra_subsetting                                            
⠹ |        6093 | spectra_subsetting                                            
⠼ |        6095 | spectra_subsetting                                            
⠦ |        6097 | spectra_subsetting                                            
⠇ |        6099 | spectra_subsetting                                            
⠋ |        6101 | spectra_subsetting                                            
⠹ |        6103 | spectra_subsetting                                            
⠼ |        6105 | spectra_subsetting                                            
⠦ |        6107 | spectra_subsetting                                            
⠇ |        6109 | spectra_subsetting                                            
⠋ |        6111 | spectra_subsetting                                            
⠹ |        6113 | spectra_subsetting                                            
⠼ |        6115 | spectra_subsetting                                            
⠦ |        6117 | spectra_subsetting                                            
⠇ |        6119 | spectra_subsetting                                            
⠋ |        6121 | spectra_subsetting                                            
⠹ |        6123 | spectra_subsetting                                            
⠼ |        6125 | spectra_subsetting                                            
⠦ |        6127 | spectra_subsetting                                            
⠇ |        6129 | spectra_subsetting                                            
⠋ |        6131 | spectra_subsetting                                            
⠹ |        6133 | spectra_subsetting                                            
⠼ |        6135 | spectra_subsetting                                            
⠦ |        6137 | spectra_subsetting                                            
⠇ |        6139 | spectra_subsetting                                            
⠋ |        6141 | spectra_subsetting                                            
⠹ |        6143 | spectra_subsetting                                            
⠸ |        6144 | spectra_subsetting                                            
⠴ |        6146 | spectra_subsetting                                            
⠧ |        6148 | spectra_subsetting                                            
⠏ |        6150 | spectra_subsetting                                            
⠙ |        6152 | spectra_subsetting                                            
⠸ |        6154 | spectra_subsetting                                            
⠴ |        6156 | spectra_subsetting                                            
⠧ |        6158 | spectra_subsetting                                            
⠏ |        6160 | spectra_subsetting                                            
⠙ |        6162 | spectra_subsetting                                            
⠸ |        6164 | spectra_subsetting                                            
⠴ |        6166 | spectra_subsetting                                            
⠧ |        6168 | spectra_subsetting                                            
⠏ |        6170 | spectra_subsetting                                            
⠙ |        6172 | spectra_subsetting                                            
⠸ |        6174 | spectra_subsetting                                            
⠴ |        6176 | spectra_subsetting                                            
⠧ |        6178 | spectra_subsetting                                            
⠏ |        6180 | spectra_subsetting                                            
⠙ |        6182 | spectra_subsetting                                            
⠸ |        6184 | spectra_subsetting                                            
⠴ |        6186 | spectra_subsetting                                            
⠧ |        6188 | spectra_subsetting                                            
⠏ |        6190 | spectra_subsetting                                            
⠙ |        6192 | spectra_subsetting                                            
⠸ |        6194 | spectra_subsetting                                            
⠴ |        6196 | spectra_subsetting                                            
⠧ |        6198 | spectra_subsetting                                            
⠏ |        6200 | spectra_subsetting                                            
⠋ |        6201 | spectra_subsetting                                            
⠹ |        6203 | spectra_subsetting                                            
⠸ |        6204 | spectra_subsetting                                            
⠴ |        6206 | spectra_subsetting                                            
⠧ |        6208 | spectra_subsetting                                            
⠏ |        6210 | spectra_subsetting                                            
⠙ |        6212 | spectra_subsetting                                            
⠸ |        6214 | spectra_subsetting                                            
⠴ |        6216 | spectra_subsetting                                            
⠧ |        6218 | spectra_subsetting                                            
⠏ |        6220 | spectra_subsetting                                            
⠙ |        6222 | spectra_subsetting                                            
⠹ |        6223 | spectra_subsetting                                            
⠼ |        6225 | spectra_subsetting                                            
⠦ |        6227 | spectra_subsetting                                            
⠇ |        6229 | spectra_subsetting                                            
⠋ |        6231 | spectra_subsetting                                            
⠙ |        6232 | spectra_subsetting                                            
⠸ |        6234 | spectra_subsetting                                            
⠴ |        6236 | spectra_subsetting                                            
⠧ |        6238 | spectra_subsetting                                            
⠏ |        6240 | spectra_subsetting                                            
⠙ |        6242 | spectra_subsetting                                            
⠸ |        6244 | spectra_subsetting                                            
⠴ |        6246 | spectra_subsetting                                            
⠧ |        6248 | spectra_subsetting                                            
⠏ |        6250 | spectra_subsetting                                            
⠙ |        6252 | spectra_subsetting                                            
⠸ |        6254 | spectra_subsetting                                            
⠴ |        6256 | spectra_subsetting                                            
⠧ |        6258 | spectra_subsetting                                            
⠏ |        6260 | spectra_subsetting                                            
⠙ |        6262 | spectra_subsetting                                            
⠸ |        6264 | spectra_subsetting                                            
⠴ |        6266 | spectra_subsetting                                            
⠧ |        6268 | spectra_subsetting                                            
⠏ |        6270 | spectra_subsetting                                            
⠙ |        6272 | spectra_subsetting                                            
⠸ |        6274 | spectra_subsetting                                            
⠴ |        6276 | spectra_subsetting                                            
⠧ |        6278 | spectra_subsetting                                            
⠏ |        6280 | spectra_subsetting                                            
⠙ |        6282 | spectra_subsetting                                            
⠸ |        6284 | spectra_subsetting                                            
⠴ |        6286 | spectra_subsetting                                            
⠧ |        6288 | spectra_subsetting                                            
⠏ |        6290 | spectra_subsetting                                            
⠙ |        6292 | spectra_subsetting                                            
⠸ |        6294 | spectra_subsetting                                            
⠴ |        6296 | spectra_subsetting                                            
⠧ |        6298 | spectra_subsetting                                            
⠏ |        6300 | spectra_subsetting                                            
⠙ |        6302 | spectra_subsetting                                            
⠸ |        6304 | spectra_subsetting                                            
⠴ |        6306 | spectra_subsetting                                            
⠧ |        6308 | spectra_subsetting                                            
⠏ |        6310 | spectra_subsetting                                            
⠙ |        6312 | spectra_subsetting                                            
⠸ |        6314 | spectra_subsetting                                            
⠴ |        6316 | spectra_subsetting                                            
⠧ |        6318 | spectra_subsetting                                            
⠏ |        6320 | spectra_subsetting                                            
⠙ |        6322 | spectra_subsetting                                            
⠸ |        6324 | spectra_subsetting                                            
⠴ |        6326 | spectra_subsetting                                            
⠧ |        6328 | spectra_subsetting                                            
⠏ |        6330 | spectra_subsetting                                            
⠋ |        6331 | spectra_subsetting                                            
⠹ |        6333 | spectra_subsetting                                            
⠼ |        6335 | spectra_subsetting                                            
⠴ |        6336 | spectra_subsetting                                            
⠧ |        6338 | spectra_subsetting                                            
⠏ |        6340 | spectra_subsetting                                            
⠙ |        6342 | spectra_subsetting                                            
⠸ |        6344 | spectra_subsetting                                            
⠴ |        6346 | spectra_subsetting                                            
⠧ |        6348 | spectra_subsetting                                            
⠏ |        6350 | spectra_subsetting                                            
⠙ |        6352 | spectra_subsetting                                            
⠹ |        6353 | spectra_subsetting                                            
⠼ |        6355 | spectra_subsetting                                            
⠦ |        6357 | spectra_subsetting                                            
⠇ |        6359 | spectra_subsetting                                            
⠋ |        6361 | spectra_subsetting                                            
⠹ |        6363 | spectra_subsetting                                            
⠼ |        6365 | spectra_subsetting                                            
⠦ |        6367 | spectra_subsetting                                            
⠇ |        6369 | spectra_subsetting                                            
⠋ |        6371 | spectra_subsetting                                            
⠹ |        6373 | spectra_subsetting                                            
⠼ |        6375 | spectra_subsetting                                            
⠦ |        6377 | spectra_subsetting                                            
⠇ |        6379 | spectra_subsetting                                            
⠋ |        6381 | spectra_subsetting                                            
⠹ |        6383 | spectra_subsetting                                            
⠼ |        6385 | spectra_subsetting                                            
⠦ |        6387 | spectra_subsetting                                            
⠇ |        6389 | spectra_subsetting                                            
⠏ |        6390 | spectra_subsetting                                            
⠙ |        6392 | spectra_subsetting                                            
⠸ |        6394 | spectra_subsetting                                            
⠴ |        6396 | spectra_subsetting                                            
⠧ |        6398 | spectra_subsetting                                            
⠏ |        6400 | spectra_subsetting                                            
⠙ |        6402 | spectra_subsetting                                            
⠸ |        6404 | spectra_subsetting                                            
⠴ |        6406 | spectra_subsetting                                            
⠧ |        6408 | spectra_subsetting                                            
⠏ |        6410 | spectra_subsetting                                            
⠙ |        6412 | spectra_subsetting                                            
⠸ |        6414 | spectra_subsetting                                            
⠴ |        6416 | spectra_subsetting                                            
⠧ |        6418 | spectra_subsetting                                            
⠏ |        6420 | spectra_subsetting                                            
⠙ |        6422 | spectra_subsetting                                            
⠸ |        6424 | spectra_subsetting                                            
⠴ |        6426 | spectra_subsetting                                            
⠧ |        6428 | spectra_subsetting                                            
⠏ |        6430 | spectra_subsetting                                            
⠙ |        6432 | spectra_subsetting                                            
⠸ |        6434 | spectra_subsetting                                            
⠼ |        6435 | spectra_subsetting                                            
⠴ |        6436 | spectra_subsetting                                            
⠧ |        6438 | spectra_subsetting                                            
⠏ |        6440 | spectra_subsetting                                            
⠙ |        6442 | spectra_subsetting                                            
⠸ |        6444 | spectra_subsetting                                            
⠴ |        6446 | spectra_subsetting                                            
⠧ |        6448 | spectra_subsetting                                            
⠏ |        6450 | spectra_subsetting                                            
⠙ |        6452 | spectra_subsetting                                            
⠸ |        6454 | spectra_subsetting                                            
⠴ |        6456 | spectra_subsetting                                            
⠧ |        6458 | spectra_subsetting                                            
⠏ |        6460 | spectra_subsetting                                            
⠙ |        6462 | spectra_subsetting                                            
⠸ |        6464 | spectra_subsetting                                            
⠴ |        6466 | spectra_subsetting                                            
⠦ |        6467 | spectra_subsetting                                            
⠇ |        6469 | spectra_subsetting                                            
⠋ |        6471 | spectra_subsetting                                            
⠹ |        6473 | spectra_subsetting                                            
⠸ |        6474 | spectra_subsetting                                            
⠴ |        6476 | spectra_subsetting                                            
⠧ |        6478 | spectra_subsetting                                            
⠏ |        6480 | spectra_subsetting                                            
⠙ |        6482 | spectra_subsetting                                            
⠸ |        6484 | spectra_subsetting                                            
⠴ |        6486 | spectra_subsetting                                            
⠧ |        6488 | spectra_subsetting                                            
⠏ |        6490 | spectra_subsetting                                            
⠙ |        6492 | spectra_subsetting                                            
⠸ |        6494 | spectra_subsetting                                            
⠴ |        6496 | spectra_subsetting                                            
⠧ |        6498 | spectra_subsetting                                            
⠏ |        6500 | spectra_subsetting                                            
⠙ |        6502 | spectra_subsetting                                            
⠸ |        6504 | spectra_subsetting                                            
⠴ |        6506 | spectra_subsetting                                            
⠧ |        6508 | spectra_subsetting                                            
⠏ |        6510 | spectra_subsetting                                            
⠙ |        6512 | spectra_subsetting                                            
⠸ |        6514 | spectra_subsetting                                            
⠴ |        6516 | spectra_subsetting                                            
⠧ |        6518 | spectra_subsetting                                            
⠏ |        6520 | spectra_subsetting                                            
⠙ |        6522 | spectra_subsetting                                            
⠸ |        6524 | spectra_subsetting                                            
⠴ |        6526 | spectra_subsetting                                            
⠧ |        6528 | spectra_subsetting                                            
⠏ |        6530 | spectra_subsetting                                            
⠋ |        6531 | spectra_subsetting                                            
⠹ |        6533 | spectra_subsetting                                            
⠼ |        6535 | spectra_subsetting                                            
⠦ |        6537 | spectra_subsetting                                            
⠇ |        6539 | spectra_subsetting                                            
⠋ |        6541 | spectra_subsetting                                            
⠹ |        6543 | spectra_subsetting                                            
⠼ |        6545 | spectra_subsetting                                            
⠦ |        6547 | spectra_subsetting                                            
⠇ |        6549 | spectra_subsetting                                            
⠏ |        6550 | spectra_subsetting                                            
⠙ |        6552 | spectra_subsetting                                            
⠸ |        6554 | spectra_subsetting                                            
⠴ |        6556 | spectra_subsetting                                            
⠧ |        6558 | spectra_subsetting                                            
⠏ |        6560 | spectra_subsetting                                            
⠙ |        6562 | spectra_subsetting                                            
⠸ |        6564 | spectra_subsetting                                            
⠴ |        6566 | spectra_subsetting                                            
⠧ |        6568 | spectra_subsetting                                            
⠏ |        6570 | spectra_subsetting                                            
⠙ |        6572 | spectra_subsetting                                            
⠸ |        6574 | spectra_subsetting                                            
⠴ |        6576 | spectra_subsetting                                            
⠧ |        6578 | spectra_subsetting                                            
⠏ |        6580 | spectra_subsetting                                            
⠙ |        6582 | spectra_subsetting                                            
⠸ |        6584 | spectra_subsetting                                            
⠴ |        6586 | spectra_subsetting                                            
⠧ |        6588 | spectra_subsetting                                            
⠏ |        6590 | spectra_subsetting                                            
⠙ |        6592 | spectra_subsetting                                            
⠸ |        6594 | spectra_subsetting                                            
⠴ |        6596 | spectra_subsetting                                            
⠧ |        6598 | spectra_subsetting                                            
⠏ |        6600 | spectra_subsetting                                            
⠙ |        6602 | spectra_subsetting                                            
⠸ |        6604 | spectra_subsetting                                            
⠴ |        6606 | spectra_subsetting                                            
⠧ |        6608 | spectra_subsetting                                            
⠏ |        6610 | spectra_subsetting                                            
⠙ |        6612 | spectra_subsetting                                            
⠸ |        6614 | spectra_subsetting                                            
⠴ |        6616 | spectra_subsetting                                            
⠧ |        6618 | spectra_subsetting                                            
⠏ |        6620 | spectra_subsetting                                            
⠙ |        6622 | spectra_subsetting                                            
⠸ |        6624 | spectra_subsetting                                            
⠴ |        6626 | spectra_subsetting                                            
⠧ |        6628 | spectra_subsetting                                            
⠏ |        6630 | spectra_subsetting                                            
⠙ |        6632 | spectra_subsetting                                            
⠸ |        6634 | spectra_subsetting                                            
⠴ |        6636 | spectra_subsetting                                            
⠧ |        6638 | spectra_subsetting                                            
⠏ |        6640 | spectra_subsetting                                            
⠙ |        6642 | spectra_subsetting                                            
⠸ |        6644 | spectra_subsetting                                            
⠴ |        6646 | spectra_subsetting                                            
⠦ |        6647 | spectra_subsetting                                            
⠇ |        6649 | spectra_subsetting                                            
⠋ |        6651 | spectra_subsetting                                            
⠹ |        6653 | spectra_subsetting                                            
⠼ |        6655 | spectra_subsetting                                            
⠦ |        6657 | spectra_subsetting                                            
⠇ |        6659 | spectra_subsetting                                            
⠹ |        6663 | spectra_subsetting                                            
⠇ |        6669 | spectra_subsetting                                            
⠹ |        6673 | spectra_subsetting                                            
⠇ |        6679 | spectra_subsetting                                            
⠸ |        6694 | spectra_subsetting                                            
✔ |        6702 | spectra_subsetting [159.2s]

⠏ |          0 | spectra_variables                                              
⠙ |         12 | spectra_variables                                              
⠸ |         14 | spectra_variables                                              
⠴ |         16 | spectra_variables                                              
⠦ |         27 | spectra_variables                                              
⠇ |         29 | spectra_variables                                              
⠋ |         31 | spectra_variables                                              
⠹ |         43 | spectra_variables                                              
⠸ |         54 | spectra_variables                                              
✔ |      1  62 | spectra_variables [2.0s]

══ Results ═════════════════════════════════════════════════════════════════════
Duration: 161.7 s

── Skipped tests (1) ───────────────────────────────────────────────────────────
• empty test (1): 'test_spectra_variables.R:262:1'

[ FAIL 0 | WARN 0 | SKIP 1 | PASS 6768 ]
> 
> proc.time()
   user  system elapsed 
154.896  11.627 355.062 

Example timings

MsBackendMetaboLights.Rcheck/MsBackendMetaboLights-Ex.timings

nameusersystemelapsed
MetaboLights-utils0.1280.0156.758
MsBackendMetaboLights2.8800.5749.716