Back to Multiple platform build/check report for BioC 3.22:   simplified   long
ABCDEFGHIJKL[M]NOPQRSTUVWXYZ

This page was generated on 2025-11-20 12:06 -0500 (Thu, 20 Nov 2025).

HostnameOSArch (*)R versionInstalled pkgs
nebbiolo2Linux (Ubuntu 24.04.3 LTS)x86_644.5.2 (2025-10-31) -- "[Not] Part in a Rumble" 4615
merida1macOS 12.7.6 Montereyx86_644.5.2 Patched (2025-11-05 r88990) -- "[Not] Part in a Rumble" 4610
kjohnson1macOS 13.7.5 Venturaarm644.5.2 Patched (2025-11-04 r88984) -- "[Not] Part in a Rumble" 4598
taishanLinux (openEuler 24.03 LTS)aarch644.5.0 (2025-04-11) -- "How About a Twenty-Six" 4668
Click on any hostname to see more info about the system (e.g. compilers)      (*) as reported by 'uname -p', except on Windows and Mac OS X

Package 1375/2361HostnameOS / ArchINSTALLBUILDCHECKBUILD BIN
MsBackendMetaboLights 1.4.2  (landing page)
Johannes Rainer
Snapshot Date: 2025-11-17 13:45 -0500 (Mon, 17 Nov 2025)
git_url: https://git.bioconductor.org/packages/MsBackendMetaboLights
git_branch: RELEASE_3_22
git_last_commit: a44eba8
git_last_commit_date: 2025-11-04 02:51:05 -0500 (Tue, 04 Nov 2025)
nebbiolo2Linux (Ubuntu 24.04.3 LTS) / x86_64  OK    OK    OK  UNNEEDED, same version is already published
merida1macOS 12.7.6 Monterey / x86_64  OK    OK    OK    OK  YES
kjohnson1macOS 13.7.5 Ventura / arm64  OK    OK    OK    OK  UNNEEDED, same version is already published
taishanLinux (openEuler 24.03 LTS) / aarch64  OK    OK    OK  


CHECK results for MsBackendMetaboLights on kjohnson1

To the developers/maintainers of the MsBackendMetaboLights package:
- Allow up to 24 hours (and sometimes 48 hours) for your latest push to git@git.bioconductor.org:packages/MsBackendMetaboLights.git to reflect on this report. See Troubleshooting Build Report for more information.
- Use the following Renviron settings to reproduce errors and warnings.
- If 'R CMD check' started to fail recently on the Linux builder(s) over a missing dependency, add the missing dependency to 'Suggests:' in your DESCRIPTION file. See Renviron.bioc for more information.

raw results


Summary

Package: MsBackendMetaboLights
Version: 1.4.2
Command: /Library/Frameworks/R.framework/Resources/bin/R CMD check --install=check:MsBackendMetaboLights.install-out.txt --library=/Library/Frameworks/R.framework/Resources/library --no-vignettes --timings MsBackendMetaboLights_1.4.2.tar.gz
StartedAt: 2025-11-18 09:39:45 -0500 (Tue, 18 Nov 2025)
EndedAt: 2025-11-18 09:49:09 -0500 (Tue, 18 Nov 2025)
EllapsedTime: 564.8 seconds
RetCode: 0
Status:   OK  
CheckDir: MsBackendMetaboLights.Rcheck
Warnings: 0

Command output

##############################################################################
##############################################################################
###
### Running command:
###
###   /Library/Frameworks/R.framework/Resources/bin/R CMD check --install=check:MsBackendMetaboLights.install-out.txt --library=/Library/Frameworks/R.framework/Resources/library --no-vignettes --timings MsBackendMetaboLights_1.4.2.tar.gz
###
##############################################################################
##############################################################################


* using log directory ‘/Users/biocbuild/bbs-3.22-bioc/meat/MsBackendMetaboLights.Rcheck’
* using R version 4.5.2 Patched (2025-11-04 r88984)
* using platform: aarch64-apple-darwin20
* R was compiled by
    Apple clang version 16.0.0 (clang-1600.0.26.6)
    GNU Fortran (GCC) 14.2.0
* running under: macOS Ventura 13.7.8
* using session charset: UTF-8
* using option ‘--no-vignettes’
* checking for file ‘MsBackendMetaboLights/DESCRIPTION’ ... OK
* this is package ‘MsBackendMetaboLights’ version ‘1.4.2’
* package encoding: UTF-8
* checking package namespace information ... OK
* checking package dependencies ... OK
* checking if this is a source package ... OK
* checking if there is a namespace ... OK
* checking for hidden files and directories ... OK
* checking for portable file names ... OK
* checking for sufficient/correct file permissions ... OK
* checking whether package ‘MsBackendMetaboLights’ can be installed ... OK
* checking installed package size ... OK
* checking package directory ... OK
* checking ‘build’ directory ... OK
* checking DESCRIPTION meta-information ... OK
* checking top-level files ... OK
* checking for left-over files ... OK
* checking index information ... OK
* checking package subdirectories ... OK
* checking code files for non-ASCII characters ... OK
* checking R files for syntax errors ... OK
* checking whether the package can be loaded ... OK
* checking whether the package can be loaded with stated dependencies ... OK
* checking whether the package can be unloaded cleanly ... OK
* checking whether the namespace can be loaded with stated dependencies ... OK
* checking whether the namespace can be unloaded cleanly ... OK
* checking dependencies in R code ... OK
* checking S3 generic/method consistency ... OK
* checking replacement functions ... OK
* checking foreign function calls ... OK
* checking R code for possible problems ... OK
* checking Rd files ... OK
* checking Rd metadata ... OK
* checking Rd cross-references ... OK
* checking for missing documentation entries ... OK
* checking for code/documentation mismatches ... OK
* checking Rd \usage sections ... OK
* checking Rd contents ... OK
* checking for unstated dependencies in examples ... OK
* checking files in ‘vignettes’ ... OK
* checking examples ... OK
Examples with CPU (user + system) or elapsed time > 5s
                       user system elapsed
MsBackendMetaboLights 4.548  0.727  35.457
MetaboLights-utils    0.140  0.014   8.499
* checking for unstated dependencies in ‘tests’ ... OK
* checking tests ...
  Running ‘testthat.R’
 OK
* checking for unstated dependencies in vignettes ... OK
* checking package vignettes ... OK
* checking running R code from vignettes ... SKIPPED
* checking re-building of vignette outputs ... SKIPPED
* checking PDF version of manual ... OK
* DONE

Status: OK


Installation output

MsBackendMetaboLights.Rcheck/00install.out

##############################################################################
##############################################################################
###
### Running command:
###
###   /Library/Frameworks/R.framework/Resources/bin/R CMD INSTALL MsBackendMetaboLights
###
##############################################################################
##############################################################################


* installing to library ‘/Library/Frameworks/R.framework/Versions/4.5-arm64/Resources/library’
* installing *source* package ‘MsBackendMetaboLights’ ...
** this is package ‘MsBackendMetaboLights’ version ‘1.4.2’
** using staged installation
** R
** byte-compile and prepare package for lazy loading
** help
*** installing help indices
*** copying figures
** building package indices
** installing vignettes
** testing if installed package can be loaded from temporary location
** testing if installed package can be loaded from final location
** testing if installed package keeps a record of temporary installation path
* DONE (MsBackendMetaboLights)

Tests output

MsBackendMetaboLights.Rcheck/tests/testthat.Rout


R version 4.5.2 Patched (2025-11-04 r88984) -- "[Not] Part in a Rumble"
Copyright (C) 2025 The R Foundation for Statistical Computing
Platform: aarch64-apple-darwin20

R is free software and comes with ABSOLUTELY NO WARRANTY.
You are welcome to redistribute it under certain conditions.
Type 'license()' or 'licence()' for distribution details.

R is a collaborative project with many contributors.
Type 'contributors()' for more information and
'citation()' on how to cite R or R packages in publications.

Type 'demo()' for some demos, 'help()' for on-line help, or
'help.start()' for an HTML browser interface to help.
Type 'q()' to quit R.

> #' MetaboLights ID: MTBLS8735
> #' ftp://ftp.ebi.ac.uk/pub/databases/metabolights/studies/public/MTBLS8735
> 
> library(testthat)
> library(MsBackendMetaboLights)
Loading required package: Spectra
Loading required package: S4Vectors
Loading required package: stats4
Loading required package: BiocGenerics
Loading required package: generics

Attaching package: 'generics'

The following objects are masked from 'package:base':

    as.difftime, as.factor, as.ordered, intersect, is.element, setdiff,
    setequal, union


Attaching package: 'BiocGenerics'

The following objects are masked from 'package:stats':

    IQR, mad, sd, var, xtabs

The following objects are masked from 'package:base':

    Filter, Find, Map, Position, Reduce, anyDuplicated, aperm, append,
    as.data.frame, basename, cbind, colnames, dirname, do.call,
    duplicated, eval, evalq, get, grep, grepl, is.unsorted, lapply,
    mapply, match, mget, order, paste, pmax, pmax.int, pmin, pmin.int,
    rank, rbind, rownames, sapply, saveRDS, table, tapply, unique,
    unsplit, which.max, which.min


Attaching package: 'S4Vectors'

The following object is masked from 'package:utils':

    findMatches

The following objects are masked from 'package:base':

    I, expand.grid, unname

Loading required package: BiocParallel
> 
> test_check("MsBackendMetaboLights")
[ FAIL 0 | WARN 0 | SKIP 0 | PASS 78 ]
> 
> ## Run tests with the unit test suite defined in the Spectra package to ensure
> ## compliance with the definitions of the MsBackend interface/class.
> be <- backendInitialize(MsBackendMetaboLights(), mtblsId = "MTBLS39",
+                         filePattern = "63A.cdf")
Used data files from the assay's column "Raw Spectral Data File" since none were available in column "Derived Spectral Data File".
> 
> library(Spectra)
> test_suite <- system.file("test_backends", "test_MsBackend",
+                           package = "Spectra")
> res <- test_dir(test_suite, stop_on_failure = TRUE)
✔ | F W  S  OK | Context

⠏ |          0 | peaks_variables                                                
⠙ |          2 | peaks_variables                                                
⠸ |          4 | peaks_variables                                                
✔ |          4 | peaks_variables

⠏ |          0 | spectra_subsetting                                             
⠋ |          1 | spectra_subsetting                                             
⠧ |         28 | spectra_subsetting                                             
⠼ |         55 | spectra_subsetting                                             
⠴ |         76 | spectra_subsetting                                             
⠹ |        103 | spectra_subsetting                                             
⠹ |        133 | spectra_subsetting                                             
⠹ |        163 | spectra_subsetting                                             
⠸ |        194 | spectra_subsetting                                             
⠏ |        220 | spectra_subsetting                                             
⠧ |        248 | spectra_subsetting                                             
⠼ |        265 | spectra_subsetting                                             
⠹ |        283 | spectra_subsetting                                             
⠹ |        313 | spectra_subsetting                                             
⠴ |        336 | spectra_subsetting                                             
⠸ |        364 | spectra_subsetting                                             
⠋ |        391 | spectra_subsetting                                             
⠸ |        424 | spectra_subsetting                                             
⠼ |        445 | spectra_subsetting                                             
⠧ |        478 | spectra_subsetting                                             
⠧ |        508 | spectra_subsetting                                             
⠼ |        535 | spectra_subsetting                                             
⠴ |        566 | spectra_subsetting                                             
⠙ |        592 | spectra_subsetting                                             
⠸ |        614 | spectra_subsetting                                             
⠋ |        631 | spectra_subsetting                                             
⠴ |        646 | spectra_subsetting                                             
⠙ |        672 | spectra_subsetting                                             
⠦ |        697 | spectra_subsetting                                             
⠋ |        721 | spectra_subsetting                                             
⠼ |        745 | spectra_subsetting                                             
⠹ |        773 | spectra_subsetting                                             
⠙ |        802 | spectra_subsetting                                             
⠴ |        826 | spectra_subsetting                                             
⠴ |        856 | spectra_subsetting                                             
⠹ |        883 | spectra_subsetting                                             
⠹ |        913 | spectra_subsetting                                             
⠏ |        940 | spectra_subsetting                                             
⠦ |        967 | spectra_subsetting                                             
⠇ |        989 | spectra_subsetting                                             
⠴ |        1016 | spectra_subsetting                                            
⠇ |        1039 | spectra_subsetting                                            
⠏ |        1060 | spectra_subsetting                                            
⠸ |        1084 | spectra_subsetting                                            
⠧ |        1108 | spectra_subsetting                                            
⠧ |        1138 | spectra_subsetting                                            
⠙ |        1162 | spectra_subsetting                                            
⠹ |        1183 | spectra_subsetting                                            
⠹ |        1213 | spectra_subsetting                                            
⠹ |        1243 | spectra_subsetting                                            
⠦ |        1267 | spectra_subsetting                                            
⠧ |        1288 | spectra_subsetting                                            
⠼ |        1315 | spectra_subsetting                                            
⠼ |        1345 | spectra_subsetting                                            
⠼ |        1375 | spectra_subsetting                                            
⠸ |        1394 | spectra_subsetting                                            
⠏ |        1420 | spectra_subsetting                                            
⠹ |        1453 | spectra_subsetting                                            
⠦ |        1477 | spectra_subsetting                                            
⠙ |        1492 | spectra_subsetting                                            
⠏ |        1520 | spectra_subsetting                                            
⠼ |        1535 | spectra_subsetting                                            
⠋ |        1561 | spectra_subsetting                                            
⠙ |        1582 | spectra_subsetting                                            
⠼ |        1615 | spectra_subsetting                                            
⠼ |        1645 | spectra_subsetting                                            
⠙ |        1672 | spectra_subsetting                                            
⠙ |        1702 | spectra_subsetting                                            
⠹ |        1733 | spectra_subsetting                                            
⠹ |        1763 | spectra_subsetting                                            
⠇ |        1789 | spectra_subsetting                                            
⠹ |        1813 | spectra_subsetting                                            
⠏ |        1840 | spectra_subsetting                                            
⠋ |        1861 | spectra_subsetting                                            
⠼ |        1885 | spectra_subsetting                                            
⠼ |        1915 | spectra_subsetting                                            
⠼ |        1945 | spectra_subsetting                                            
⠼ |        1975 | spectra_subsetting                                            
⠙ |        2002 | spectra_subsetting                                            
⠼ |        2035 | spectra_subsetting                                            
⠼ |        2065 | spectra_subsetting                                            
⠧ |        2098 | spectra_subsetting                                            
⠋ |        2131 | spectra_subsetting                                            
⠴ |        2166 | spectra_subsetting                                            
⠋ |        2191 | spectra_subsetting                                            
⠸ |        2224 | spectra_subsetting                                            
⠇ |        2249 | spectra_subsetting                                            
⠙ |        2272 | spectra_subsetting                                            
⠙ |        2302 | spectra_subsetting                                            
⠙ |        2332 | spectra_subsetting                                            
⠇ |        2359 | spectra_subsetting                                            
⠏ |        2390 | spectra_subsetting                                            
⠇ |        2419 | spectra_subsetting                                            
⠙ |        2452 | spectra_subsetting                                            
⠙ |        2472 | spectra_subsetting                                            
⠼ |        2485 | spectra_subsetting                                            
⠇ |        2509 | spectra_subsetting                                            
⠴ |        2536 | spectra_subsetting                                            
⠴ |        2566 | spectra_subsetting                                            
⠦ |        2587 | spectra_subsetting                                            
⠋ |        2611 | spectra_subsetting                                            
⠹ |        2633 | spectra_subsetting                                            
⠏ |        2650 | spectra_subsetting                                            
⠦ |        2677 | spectra_subsetting                                            
⠸ |        2704 | spectra_subsetting                                            
⠋ |        2731 | spectra_subsetting                                            
⠋ |        2761 | spectra_subsetting                                            
⠴ |        2776 | spectra_subsetting                                            
⠦ |        2807 | spectra_subsetting                                            
⠴ |        2836 | spectra_subsetting                                            
⠸ |        2864 | spectra_subsetting                                            
⠹ |        2893 | spectra_subsetting                                            
⠸ |        2914 | spectra_subsetting                                            
⠹ |        2923 | spectra_subsetting                                            
⠋ |        2941 | spectra_subsetting                                            
⠋ |        2971 | spectra_subsetting                                            
⠸ |        3004 | spectra_subsetting                                            
⠋ |        3031 | spectra_subsetting                                            
⠧ |        3058 | spectra_subsetting                                            
⠙ |        3082 | spectra_subsetting                                            
⠴ |        3106 | spectra_subsetting                                            
⠴ |        3136 | spectra_subsetting                                            
⠹ |        3163 | spectra_subsetting                                            
⠋ |        3191 | spectra_subsetting                                            
⠧ |        3218 | spectra_subsetting                                            
⠸ |        3244 | spectra_subsetting                                            
⠸ |        3274 | spectra_subsetting                                            
⠸ |        3304 | spectra_subsetting                                            
⠸ |        3334 | spectra_subsetting                                            
⠦ |        3367 | spectra_subsetting                                            
⠏ |        3400 | spectra_subsetting                                            
⠇ |        3429 | spectra_subsetting                                            
⠸ |        3454 | spectra_subsetting                                            
⠙ |        3482 | spectra_subsetting                                            
⠧ |        3508 | spectra_subsetting                                            
⠧ |        3538 | spectra_subsetting                                            
⠧ |        3568 | spectra_subsetting                                            
⠇ |        3599 | spectra_subsetting                                            
⠋ |        3631 | spectra_subsetting                                            
⠋ |        3661 | spectra_subsetting                                            
⠼ |        3685 | spectra_subsetting                                            
⠼ |        3715 | spectra_subsetting                                            
⠦ |        3737 | spectra_subsetting                                            
⠹ |        3763 | spectra_subsetting                                            
⠼ |        3795 | spectra_subsetting                                            
⠴ |        3826 | spectra_subsetting                                            
⠼ |        3855 | spectra_subsetting                                            
⠹ |        3883 | spectra_subsetting                                            
⠏ |        3910 | spectra_subsetting                                            
⠧ |        3938 | spectra_subsetting                                            
⠋ |        3971 | spectra_subsetting                                            
⠹ |        4003 | spectra_subsetting                                            
⠹ |        4033 | spectra_subsetting                                            
⠏ |        4060 | spectra_subsetting                                            
⠇ |        4089 | spectra_subsetting                                            
⠸ |        4114 | spectra_subsetting                                            
⠋ |        4141 | spectra_subsetting                                            
⠏ |        4170 | spectra_subsetting                                            
⠋ |        4201 | spectra_subsetting                                            
⠧ |        4228 | spectra_subsetting                                            
⠦ |        4247 | spectra_subsetting                                            
⠋ |        4271 | spectra_subsetting                                            
⠦ |        4297 | spectra_subsetting                                            
⠙ |        4322 | spectra_subsetting                                            
⠧ |        4348 | spectra_subsetting                                            
⠹ |        4373 | spectra_subsetting                                            
⠴ |        4396 | spectra_subsetting                                            
⠹ |        4423 | spectra_subsetting                                            
⠙ |        4452 | spectra_subsetting                                            
⠦ |        4477 | spectra_subsetting                                            
⠸ |        4504 | spectra_subsetting                                            
⠋ |        4531 | spectra_subsetting                                            
⠙ |        4562 | spectra_subsetting                                            
⠧ |        4588 | spectra_subsetting                                            
⠹ |        4613 | spectra_subsetting                                            
⠇ |        4639 | spectra_subsetting                                            
⠇ |        4669 | spectra_subsetting                                            
⠴ |        4696 | spectra_subsetting                                            
⠇ |        4729 | spectra_subsetting                                            
⠇ |        4759 | spectra_subsetting                                            
⠴ |        4786 | spectra_subsetting                                            
⠋ |        4811 | spectra_subsetting                                            
⠋ |        4841 | spectra_subsetting                                            
⠼ |        4865 | spectra_subsetting                                            
⠋ |        4891 | spectra_subsetting                                            
⠧ |        4918 | spectra_subsetting                                            
⠙ |        4942 | spectra_subsetting                                            
⠴ |        4966 | spectra_subsetting                                            
⠼ |        4995 | spectra_subsetting                                            
⠦ |        4997 | spectra_subsetting                                            
⠧ |        4998 | spectra_subsetting                                            
⠏ |        5000 | spectra_subsetting                                            
⠙ |        5002 | spectra_subsetting                                            
⠸ |        5004 | spectra_subsetting                                            
⠼ |        5005 | spectra_subsetting                                            
⠦ |        5007 | spectra_subsetting                                            
⠧ |        5008 | spectra_subsetting                                            
⠏ |        5010 | spectra_subsetting                                            
⠙ |        5012 | spectra_subsetting                                            
⠹ |        5013 | spectra_subsetting                                            
⠸ |        5014 | spectra_subsetting                                            
⠴ |        5016 | spectra_subsetting                                            
⠧ |        5018 | spectra_subsetting                                            
⠏ |        5020 | spectra_subsetting                                            
⠋ |        5021 | spectra_subsetting                                            
⠙ |        5022 | spectra_subsetting                                            
⠹ |        5023 | spectra_subsetting                                            
⠸ |        5024 | spectra_subsetting                                            
⠴ |        5026 | spectra_subsetting                                            
⠧ |        5028 | spectra_subsetting                                            
⠇ |        5029 | spectra_subsetting                                            
⠏ |        5030 | spectra_subsetting                                            
⠙ |        5032 | spectra_subsetting                                            
⠸ |        5034 | spectra_subsetting                                            
⠴ |        5036 | spectra_subsetting                                            
⠧ |        5038 | spectra_subsetting                                            
⠏ |        5040 | spectra_subsetting                                            
⠙ |        5042 | spectra_subsetting                                            
⠹ |        5043 | spectra_subsetting                                            
⠸ |        5044 | spectra_subsetting                                            
⠴ |        5046 | spectra_subsetting                                            
⠦ |        5047 | spectra_subsetting                                            
⠇ |        5049 | spectra_subsetting                                            
⠏ |        5050 | spectra_subsetting                                            
⠋ |        5051 | spectra_subsetting                                            
⠙ |        5052 | spectra_subsetting                                            
⠹ |        5053 | spectra_subsetting                                            
⠸ |        5054 | spectra_subsetting                                            
⠼ |        5055 | spectra_subsetting                                            
⠴ |        5056 | spectra_subsetting                                            
⠧ |        5058 | spectra_subsetting                                            
⠏ |        5060 | spectra_subsetting                                            
⠋ |        5061 | spectra_subsetting                                            
⠙ |        5062 | spectra_subsetting                                            
⠹ |        5063 | spectra_subsetting                                            
⠸ |        5064 | spectra_subsetting                                            
⠴ |        5066 | spectra_subsetting                                            
⠧ |        5068 | spectra_subsetting                                            
⠇ |        5069 | spectra_subsetting                                            
⠋ |        5071 | spectra_subsetting                                            
⠹ |        5073 | spectra_subsetting                                            
⠸ |        5074 | spectra_subsetting                                            
⠼ |        5075 | spectra_subsetting                                            
⠦ |        5077 | spectra_subsetting                                            
⠧ |        5078 | spectra_subsetting                                            
⠏ |        5080 | spectra_subsetting                                            
⠙ |        5082 | spectra_subsetting                                            
⠹ |        5083 | spectra_subsetting                                            
⠸ |        5084 | spectra_subsetting                                            
⠴ |        5086 | spectra_subsetting                                            
⠧ |        5088 | spectra_subsetting                                            
⠇ |        5089 | spectra_subsetting                                            
⠋ |        5091 | spectra_subsetting                                            
⠹ |        5093 | spectra_subsetting                                            
⠸ |        5094 | spectra_subsetting                                            
⠴ |        5096 | spectra_subsetting                                            
⠦ |        5097 | spectra_subsetting                                            
⠇ |        5099 | spectra_subsetting                                            
⠋ |        5101 | spectra_subsetting                                            
⠹ |        5103 | spectra_subsetting                                            
⠼ |        5105 | spectra_subsetting                                            
⠦ |        5107 | spectra_subsetting                                            
⠇ |        5109 | spectra_subsetting                                            
⠋ |        5111 | spectra_subsetting                                            
⠙ |        5112 | spectra_subsetting                                            
⠸ |        5114 | spectra_subsetting                                            
⠼ |        5115 | spectra_subsetting                                            
⠴ |        5116 | spectra_subsetting                                            
⠦ |        5117 | spectra_subsetting                                            
⠇ |        5119 | spectra_subsetting                                            
⠏ |        5120 | spectra_subsetting                                            
⠋ |        5121 | spectra_subsetting                                            
⠙ |        5122 | spectra_subsetting                                            
⠹ |        5123 | spectra_subsetting                                            
⠸ |        5124 | spectra_subsetting                                            
⠼ |        5125 | spectra_subsetting                                            
⠴ |        5126 | spectra_subsetting                                            
⠦ |        5127 | spectra_subsetting                                            
⠧ |        5128 | spectra_subsetting                                            
⠇ |        5129 | spectra_subsetting                                            
⠏ |        5130 | spectra_subsetting                                            
⠋ |        5131 | spectra_subsetting                                            
⠹ |        5133 | spectra_subsetting                                            
⠼ |        5135 | spectra_subsetting                                            
⠦ |        5137 | spectra_subsetting                                            
⠇ |        5139 | spectra_subsetting                                            
⠋ |        5141 | spectra_subsetting                                            
⠙ |        5142 | spectra_subsetting                                            
⠹ |        5143 | spectra_subsetting                                            
⠼ |        5145 | spectra_subsetting                                            
⠦ |        5147 | spectra_subsetting                                            
⠧ |        5148 | spectra_subsetting                                            
⠏ |        5150 | spectra_subsetting                                            
⠙ |        5152 | spectra_subsetting                                            
⠸ |        5154 | spectra_subsetting                                            
⠼ |        5155 | spectra_subsetting                                            
⠦ |        5157 | spectra_subsetting                                            
⠧ |        5158 | spectra_subsetting                                            
⠇ |        5159 | spectra_subsetting                                            
⠋ |        5161 | spectra_subsetting                                            
⠙ |        5162 | spectra_subsetting                                            
⠹ |        5163 | spectra_subsetting                                            
⠸ |        5164 | spectra_subsetting                                            
⠴ |        5166 | spectra_subsetting                                            
⠦ |        5167 | spectra_subsetting                                            
⠇ |        5169 | spectra_subsetting                                            
⠏ |        5170 | spectra_subsetting                                            
⠙ |        5172 | spectra_subsetting                                            
⠹ |        5173 | spectra_subsetting                                            
⠸ |        5174 | spectra_subsetting                                            
⠼ |        5175 | spectra_subsetting                                            
⠴ |        5176 | spectra_subsetting                                            
⠦ |        5177 | spectra_subsetting                                            
⠧ |        5178 | spectra_subsetting                                            
⠇ |        5179 | spectra_subsetting                                            
⠏ |        5180 | spectra_subsetting                                            
⠋ |        5181 | spectra_subsetting                                            
⠙ |        5182 | spectra_subsetting                                            
⠹ |        5183 | spectra_subsetting                                            
⠸ |        5184 | spectra_subsetting                                            
⠼ |        5185 | spectra_subsetting                                            
⠴ |        5186 | spectra_subsetting                                            
⠦ |        5187 | spectra_subsetting                                            
⠧ |        5188 | spectra_subsetting                                            
⠇ |        5189 | spectra_subsetting                                            
⠏ |        5190 | spectra_subsetting                                            
⠙ |        5192 | spectra_subsetting                                            
⠹ |        5193 | spectra_subsetting                                            
⠸ |        5194 | spectra_subsetting                                            
⠼ |        5195 | spectra_subsetting                                            
⠴ |        5196 | spectra_subsetting                                            
⠧ |        5198 | spectra_subsetting                                            
⠇ |        5199 | spectra_subsetting                                            
⠋ |        5201 | spectra_subsetting                                            
⠙ |        5202 | spectra_subsetting                                            
⠹ |        5203 | spectra_subsetting                                            
⠸ |        5204 | spectra_subsetting                                            
⠴ |        5206 | spectra_subsetting                                            
⠦ |        5207 | spectra_subsetting                                            
⠇ |        5209 | spectra_subsetting                                            
⠋ |        5211 | spectra_subsetting                                            
⠹ |        5213 | spectra_subsetting                                            
⠸ |        5214 | spectra_subsetting                                            
⠼ |        5215 | spectra_subsetting                                            
⠴ |        5216 | spectra_subsetting                                            
⠦ |        5217 | spectra_subsetting                                            
⠧ |        5218 | spectra_subsetting                                            
⠇ |        5219 | spectra_subsetting                                            
⠏ |        5220 | spectra_subsetting                                            
⠋ |        5221 | spectra_subsetting                                            
⠙ |        5222 | spectra_subsetting                                            
⠹ |        5223 | spectra_subsetting                                            
⠸ |        5224 | spectra_subsetting                                            
⠼ |        5225 | spectra_subsetting                                            
⠴ |        5226 | spectra_subsetting                                            
⠦ |        5227 | spectra_subsetting                                            
⠧ |        5228 | spectra_subsetting                                            
⠇ |        5229 | spectra_subsetting                                            
⠏ |        5230 | spectra_subsetting                                            
⠋ |        5231 | spectra_subsetting                                            
⠹ |        5233 | spectra_subsetting                                            
⠸ |        5234 | spectra_subsetting                                            
⠼ |        5235 | spectra_subsetting                                            
⠴ |        5236 | spectra_subsetting                                            
⠦ |        5237 | spectra_subsetting                                            
⠧ |        5238 | spectra_subsetting                                            
⠏ |        5240 | spectra_subsetting                                            
⠙ |        5242 | spectra_subsetting                                            
⠸ |        5244 | spectra_subsetting                                            
⠴ |        5246 | spectra_subsetting                                            
⠧ |        5248 | spectra_subsetting                                            
⠏ |        5250 | spectra_subsetting                                            
⠙ |        5252 | spectra_subsetting                                            
⠹ |        5253 | spectra_subsetting                                            
⠸ |        5254 | spectra_subsetting                                            
⠴ |        5256 | spectra_subsetting                                            
⠧ |        5258 | spectra_subsetting                                            
⠇ |        5259 | spectra_subsetting                                            
⠏ |        5260 | spectra_subsetting                                            
⠋ |        5261 | spectra_subsetting                                            
⠙ |        5262 | spectra_subsetting                                            
⠸ |        5264 | spectra_subsetting                                            
⠴ |        5266 | spectra_subsetting                                            
⠧ |        5268 | spectra_subsetting                                            
⠏ |        5270 | spectra_subsetting                                            
⠋ |        5271 | spectra_subsetting                                            
⠙ |        5272 | spectra_subsetting                                            
⠹ |        5273 | spectra_subsetting                                            
⠼ |        5275 | spectra_subsetting                                            
⠴ |        5276 | spectra_subsetting                                            
⠦ |        5277 | spectra_subsetting                                            
⠧ |        5278 | spectra_subsetting                                            
⠇ |        5279 | spectra_subsetting                                            
⠏ |        5280 | spectra_subsetting                                            
⠋ |        5281 | spectra_subsetting                                            
⠙ |        5282 | spectra_subsetting                                            
⠹ |        5283 | spectra_subsetting                                            
⠸ |        5284 | spectra_subsetting                                            
⠴ |        5286 | spectra_subsetting                                            
⠦ |        5287 | spectra_subsetting                                            
⠧ |        5288 | spectra_subsetting                                            
⠇ |        5289 | spectra_subsetting                                            
⠋ |        5291 | spectra_subsetting                                            
⠹ |        5293 | spectra_subsetting                                            
⠼ |        5295 | spectra_subsetting                                            
⠦ |        5297 | spectra_subsetting                                            
⠇ |        5299 | spectra_subsetting                                            
⠋ |        5301 | spectra_subsetting                                            
⠹ |        5303 | spectra_subsetting                                            
⠼ |        5305 | spectra_subsetting                                            
⠦ |        5307 | spectra_subsetting                                            
⠇ |        5309 | spectra_subsetting                                            
⠋ |        5311 | spectra_subsetting                                            
⠙ |        5312 | spectra_subsetting                                            
⠹ |        5313 | spectra_subsetting                                            
⠼ |        5315 | spectra_subsetting                                            
⠦ |        5317 | spectra_subsetting                                            
⠧ |        5318 | spectra_subsetting                                            
⠇ |        5319 | spectra_subsetting                                            
⠏ |        5320 | spectra_subsetting                                            
⠋ |        5321 | spectra_subsetting                                            
⠹ |        5323 | spectra_subsetting                                            
⠼ |        5325 | spectra_subsetting                                            
⠦ |        5327 | spectra_subsetting                                            
⠧ |        5328 | spectra_subsetting                                            
⠇ |        5329 | spectra_subsetting                                            
⠏ |        5330 | spectra_subsetting                                            
⠋ |        5331 | spectra_subsetting                                            
⠹ |        5333 | spectra_subsetting                                            
⠸ |        5334 | spectra_subsetting                                            
⠼ |        5335 | spectra_subsetting                                            
⠴ |        5336 | spectra_subsetting                                            
⠦ |        5337 | spectra_subsetting                                            
⠇ |        5339 | spectra_subsetting                                            
⠋ |        5341 | spectra_subsetting                                            
⠙ |        5342 | spectra_subsetting                                            
⠸ |        5344 | spectra_subsetting                                            
⠼ |        5345 | spectra_subsetting                                            
⠦ |        5347 | spectra_subsetting                                            
⠧ |        5348 | spectra_subsetting                                            
⠇ |        5349 | spectra_subsetting                                            
⠋ |        5351 | spectra_subsetting                                            
⠙ |        5352 | spectra_subsetting                                            
⠹ |        5353 | spectra_subsetting                                            
⠸ |        5354 | spectra_subsetting                                            
⠼ |        5355 | spectra_subsetting                                            
⠦ |        5357 | spectra_subsetting                                            
⠧ |        5358 | spectra_subsetting                                            
⠇ |        5359 | spectra_subsetting                                            
⠏ |        5360 | spectra_subsetting                                            
⠙ |        5362 | spectra_subsetting                                            
⠸ |        5364 | spectra_subsetting                                            
⠼ |        5365 | spectra_subsetting                                            
⠦ |        5367 | spectra_subsetting                                            
⠇ |        5369 | spectra_subsetting                                            
⠏ |        5370 | spectra_subsetting                                            
⠙ |        5372 | spectra_subsetting                                            
⠹ |        5373 | spectra_subsetting                                            
⠼ |        5375 | spectra_subsetting                                            
⠦ |        5377 | spectra_subsetting                                            
⠇ |        5379 | spectra_subsetting                                            
⠋ |        5381 | spectra_subsetting                                            
⠹ |        5383 | spectra_subsetting                                            
⠸ |        5384 | spectra_subsetting                                            
⠼ |        5385 | spectra_subsetting                                            
⠦ |        5387 | spectra_subsetting                                            
⠧ |        5388 | spectra_subsetting                                            
⠇ |        5389 | spectra_subsetting                                            
⠋ |        5391 | spectra_subsetting                                            
⠹ |        5393 | spectra_subsetting                                            
⠸ |        5394 | spectra_subsetting                                            
⠴ |        5396 | spectra_subsetting                                            
⠦ |        5397 | spectra_subsetting                                            
⠧ |        5398 | spectra_subsetting                                            
⠇ |        5399 | spectra_subsetting                                            
⠏ |        5400 | spectra_subsetting                                            
⠋ |        5401 | spectra_subsetting                                            
⠙ |        5402 | spectra_subsetting                                            
⠸ |        5404 | spectra_subsetting                                            
⠴ |        5406 | spectra_subsetting                                            
⠦ |        5407 | spectra_subsetting                                            
⠧ |        5408 | spectra_subsetting                                            
⠇ |        5409 | spectra_subsetting                                            
⠏ |        5410 | spectra_subsetting                                            
⠙ |        5412 | spectra_subsetting                                            
⠹ |        5413 | spectra_subsetting                                            
⠸ |        5414 | spectra_subsetting                                            
⠼ |        5415 | spectra_subsetting                                            
⠴ |        5416 | spectra_subsetting                                            
⠦ |        5417 | spectra_subsetting                                            
⠇ |        5419 | spectra_subsetting                                            
⠋ |        5421 | spectra_subsetting                                            
⠙ |        5422 | spectra_subsetting                                            
⠹ |        5423 | spectra_subsetting                                            
⠸ |        5424 | spectra_subsetting                                            
⠴ |        5426 | spectra_subsetting                                            
⠦ |        5427 | spectra_subsetting                                            
⠧ |        5428 | spectra_subsetting                                            
⠏ |        5430 | spectra_subsetting                                            
⠋ |        5431 | spectra_subsetting                                            
⠙ |        5432 | spectra_subsetting                                            
⠹ |        5433 | spectra_subsetting                                            
⠼ |        5435 | spectra_subsetting                                            
⠴ |        5436 | spectra_subsetting                                            
⠦ |        5437 | spectra_subsetting                                            
⠧ |        5438 | spectra_subsetting                                            
⠇ |        5439 | spectra_subsetting                                            
⠋ |        5441 | spectra_subsetting                                            
⠙ |        5442 | spectra_subsetting                                            
⠹ |        5443 | spectra_subsetting                                            
⠸ |        5444 | spectra_subsetting                                            
⠼ |        5445 | spectra_subsetting                                            
⠦ |        5447 | spectra_subsetting                                            
⠧ |        5448 | spectra_subsetting                                            
⠇ |        5449 | spectra_subsetting                                            
⠏ |        5450 | spectra_subsetting                                            
⠋ |        5451 | spectra_subsetting                                            
⠹ |        5453 | spectra_subsetting                                            
⠼ |        5455 | spectra_subsetting                                            
⠦ |        5457 | spectra_subsetting                                            
⠇ |        5459 | spectra_subsetting                                            
⠋ |        5461 | spectra_subsetting                                            
⠹ |        5463 | spectra_subsetting                                            
⠸ |        5464 | spectra_subsetting                                            
⠼ |        5465 | spectra_subsetting                                            
⠦ |        5467 | spectra_subsetting                                            
⠧ |        5468 | spectra_subsetting                                            
⠇ |        5469 | spectra_subsetting                                            
⠋ |        5471 | spectra_subsetting                                            
⠙ |        5472 | spectra_subsetting                                            
⠹ |        5473 | spectra_subsetting                                            
⠸ |        5474 | spectra_subsetting                                            
⠼ |        5475 | spectra_subsetting                                            
⠴ |        5476 | spectra_subsetting                                            
⠧ |        5478 | spectra_subsetting                                            
⠏ |        5480 | spectra_subsetting                                            
⠙ |        5482 | spectra_subsetting                                            
⠹ |        5483 | spectra_subsetting                                            
⠸ |        5484 | spectra_subsetting                                            
⠼ |        5485 | spectra_subsetting                                            
⠴ |        5486 | spectra_subsetting                                            
⠧ |        5488 | spectra_subsetting                                            
⠇ |        5489 | spectra_subsetting                                            
⠏ |        5490 | spectra_subsetting                                            
⠋ |        5491 | spectra_subsetting                                            
⠹ |        5493 | spectra_subsetting                                            
⠼ |        5495 | spectra_subsetting                                            
⠦ |        5497 | spectra_subsetting                                            
⠧ |        5498 | spectra_subsetting                                            
⠏ |        5500 | spectra_subsetting                                            
⠙ |        5502 | spectra_subsetting                                            
⠸ |        5504 | spectra_subsetting                                            
⠴ |        5506 | spectra_subsetting                                            
⠧ |        5508 | spectra_subsetting                                            
⠏ |        5510 | spectra_subsetting                                            
⠙ |        5512 | spectra_subsetting                                            
⠸ |        5514 | spectra_subsetting                                            
⠼ |        5515 | spectra_subsetting                                            
⠦ |        5517 | spectra_subsetting                                            
⠇ |        5519 | spectra_subsetting                                            
⠏ |        5520 | spectra_subsetting                                            
⠋ |        5521 | spectra_subsetting                                            
⠹ |        5523 | spectra_subsetting                                            
⠼ |        5525 | spectra_subsetting                                            
⠦ |        5527 | spectra_subsetting                                            
⠇ |        5529 | spectra_subsetting                                            
⠏ |        5530 | spectra_subsetting                                            
⠋ |        5531 | spectra_subsetting                                            
⠙ |        5532 | spectra_subsetting                                            
⠸ |        5534 | spectra_subsetting                                            
⠴ |        5536 | spectra_subsetting                                            
⠧ |        5538 | spectra_subsetting                                            
⠏ |        5540 | spectra_subsetting                                            
⠙ |        5542 | spectra_subsetting                                            
⠸ |        5544 | spectra_subsetting                                            
⠼ |        5545 | spectra_subsetting                                            
⠴ |        5546 | spectra_subsetting                                            
⠧ |        5548 | spectra_subsetting                                            
⠏ |        5550 | spectra_subsetting                                            
⠋ |        5551 | spectra_subsetting                                            
⠙ |        5552 | spectra_subsetting                                            
⠸ |        5554 | spectra_subsetting                                            
⠴ |        5556 | spectra_subsetting                                            
⠧ |        5558 | spectra_subsetting                                            
⠏ |        5560 | spectra_subsetting                                            
⠙ |        5562 | spectra_subsetting                                            
⠸ |        5564 | spectra_subsetting                                            
⠴ |        5566 | spectra_subsetting                                            
⠧ |        5568 | spectra_subsetting                                            
⠇ |        5569 | spectra_subsetting                                            
⠏ |        5570 | spectra_subsetting                                            
⠋ |        5571 | spectra_subsetting                                            
⠙ |        5572 | spectra_subsetting                                            
⠹ |        5573 | spectra_subsetting                                            
⠼ |        5575 | spectra_subsetting                                            
⠦ |        5577 | spectra_subsetting                                            
⠇ |        5579 | spectra_subsetting                                            
⠋ |        5581 | spectra_subsetting                                            
⠹ |        5583 | spectra_subsetting                                            
⠸ |        5584 | spectra_subsetting                                            
⠼ |        5585 | spectra_subsetting                                            
⠦ |        5587 | spectra_subsetting                                            
⠧ |        5588 | spectra_subsetting                                            
⠏ |        5590 | spectra_subsetting                                            
⠙ |        5592 | spectra_subsetting                                            
⠸ |        5594 | spectra_subsetting                                            
⠼ |        5595 | spectra_subsetting                                            
⠴ |        5596 | spectra_subsetting                                            
⠦ |        5597 | spectra_subsetting                                            
⠇ |        5599 | spectra_subsetting                                            
⠏ |        5600 | spectra_subsetting                                            
⠋ |        5601 | spectra_subsetting                                            
⠙ |        5602 | spectra_subsetting                                            
⠹ |        5603 | spectra_subsetting                                            
⠼ |        5605 | spectra_subsetting                                            
⠦ |        5607 | spectra_subsetting                                            
⠧ |        5608 | spectra_subsetting                                            
⠇ |        5609 | spectra_subsetting                                            
⠋ |        5611 | spectra_subsetting                                            
⠹ |        5613 | spectra_subsetting                                            
⠼ |        5615 | spectra_subsetting                                            
⠴ |        5616 | spectra_subsetting                                            
⠧ |        5618 | spectra_subsetting                                            
⠇ |        5619 | spectra_subsetting                                            
⠏ |        5620 | spectra_subsetting                                            
⠋ |        5621 | spectra_subsetting                                            
⠹ |        5623 | spectra_subsetting                                            
⠼ |        5625 | spectra_subsetting                                            
⠦ |        5627 | spectra_subsetting                                            
⠇ |        5629 | spectra_subsetting                                            
⠋ |        5631 | spectra_subsetting                                            
⠙ |        5632 | spectra_subsetting                                            
⠸ |        5634 | spectra_subsetting                                            
⠴ |        5636 | spectra_subsetting                                            
⠧ |        5638 | spectra_subsetting                                            
⠇ |        5639 | spectra_subsetting                                            
⠋ |        5641 | spectra_subsetting                                            
⠹ |        5643 | spectra_subsetting                                            
⠼ |        5645 | spectra_subsetting                                            
⠦ |        5647 | spectra_subsetting                                            
⠧ |        5648 | spectra_subsetting                                            
⠏ |        5650 | spectra_subsetting                                            
⠋ |        5651 | spectra_subsetting                                            
⠹ |        5653 | spectra_subsetting                                            
⠸ |        5654 | spectra_subsetting                                            
⠴ |        5656 | spectra_subsetting                                            
⠦ |        5657 | spectra_subsetting                                            
⠧ |        5658 | spectra_subsetting                                            
⠏ |        5660 | spectra_subsetting                                            
⠙ |        5662 | spectra_subsetting                                            
⠸ |        5664 | spectra_subsetting                                            
⠼ |        5665 | spectra_subsetting                                            
⠦ |        5667 | spectra_subsetting                                            
⠧ |        5668 | spectra_subsetting                                            
⠇ |        5669 | spectra_subsetting                                            
⠏ |        5670 | spectra_subsetting                                            
⠋ |        5671 | spectra_subsetting                                            
⠙ |        5672 | spectra_subsetting                                            
⠹ |        5673 | spectra_subsetting                                            
⠸ |        5674 | spectra_subsetting                                            
⠼ |        5675 | spectra_subsetting                                            
⠦ |        5677 | spectra_subsetting                                            
⠧ |        5678 | spectra_subsetting                                            
⠏ |        5680 | spectra_subsetting                                            
⠙ |        5682 | spectra_subsetting                                            
⠹ |        5683 | spectra_subsetting                                            
⠼ |        5685 | spectra_subsetting                                            
⠦ |        5687 | spectra_subsetting                                            
⠇ |        5689 | spectra_subsetting                                            
⠏ |        5690 | spectra_subsetting                                            
⠙ |        5692 | spectra_subsetting                                            
⠹ |        5693 | spectra_subsetting                                            
⠼ |        5695 | spectra_subsetting                                            
⠦ |        5697 | spectra_subsetting                                            
⠇ |        5699 | spectra_subsetting                                            
⠏ |        5700 | spectra_subsetting                                            
⠙ |        5702 | spectra_subsetting                                            
⠸ |        5704 | spectra_subsetting                                            
⠴ |        5706 | spectra_subsetting                                            
⠦ |        5707 | spectra_subsetting                                            
⠧ |        5708 | spectra_subsetting                                            
⠇ |        5709 | spectra_subsetting                                            
⠏ |        5710 | spectra_subsetting                                            
⠙ |        5712 | spectra_subsetting                                            
⠸ |        5714 | spectra_subsetting                                            
⠼ |        5715 | spectra_subsetting                                            
⠴ |        5716 | spectra_subsetting                                            
⠧ |        5718 | spectra_subsetting                                            
⠇ |        5719 | spectra_subsetting                                            
⠋ |        5721 | spectra_subsetting                                            
⠙ |        5722 | spectra_subsetting                                            
⠹ |        5723 | spectra_subsetting                                            
⠸ |        5724 | spectra_subsetting                                            
⠴ |        5726 | spectra_subsetting                                            
⠧ |        5728 | spectra_subsetting                                            
⠏ |        5730 | spectra_subsetting                                            
⠙ |        5732 | spectra_subsetting                                            
⠸ |        5734 | spectra_subsetting                                            
⠴ |        5736 | spectra_subsetting                                            
⠧ |        5738 | spectra_subsetting                                            
⠇ |        5739 | spectra_subsetting                                            
⠋ |        5741 | spectra_subsetting                                            
⠹ |        5743 | spectra_subsetting                                            
⠸ |        5744 | spectra_subsetting                                            
⠼ |        5745 | spectra_subsetting                                            
⠦ |        5747 | spectra_subsetting                                            
⠧ |        5748 | spectra_subsetting                                            
⠇ |        5749 | spectra_subsetting                                            
⠏ |        5750 | spectra_subsetting                                            
⠙ |        5752 | spectra_subsetting                                            
⠹ |        5753 | spectra_subsetting                                            
⠼ |        5755 | spectra_subsetting                                            
⠴ |        5756 | spectra_subsetting                                            
⠦ |        5757 | spectra_subsetting                                            
⠧ |        5758 | spectra_subsetting                                            
⠇ |        5759 | spectra_subsetting                                            
⠏ |        5760 | spectra_subsetting                                            
⠋ |        5761 | spectra_subsetting                                            
⠙ |        5762 | spectra_subsetting                                            
⠹ |        5763 | spectra_subsetting                                            
⠸ |        5764 | spectra_subsetting                                            
⠼ |        5765 | spectra_subsetting                                            
⠴ |        5766 | spectra_subsetting                                            
⠧ |        5768 | spectra_subsetting                                            
⠇ |        5769 | spectra_subsetting                                            
⠋ |        5771 | spectra_subsetting                                            
⠙ |        5772 | spectra_subsetting                                            
⠸ |        5774 | spectra_subsetting                                            
⠼ |        5775 | spectra_subsetting                                            
⠴ |        5776 | spectra_subsetting                                            
⠧ |        5778 | spectra_subsetting                                            
⠏ |        5780 | spectra_subsetting                                            
⠋ |        5781 | spectra_subsetting                                            
⠹ |        5783 | spectra_subsetting                                            
⠸ |        5784 | spectra_subsetting                                            
⠼ |        5785 | spectra_subsetting                                            
⠴ |        5786 | spectra_subsetting                                            
⠦ |        5787 | spectra_subsetting                                            
⠇ |        5789 | spectra_subsetting                                            
⠏ |        5790 | spectra_subsetting                                            
⠋ |        5791 | spectra_subsetting                                            
⠙ |        5792 | spectra_subsetting                                            
⠹ |        5793 | spectra_subsetting                                            
⠸ |        5794 | spectra_subsetting                                            
⠴ |        5796 | spectra_subsetting                                            
⠦ |        5797 | spectra_subsetting                                            
⠇ |        5799 | spectra_subsetting                                            
⠏ |        5800 | spectra_subsetting                                            
⠙ |        5802 | spectra_subsetting                                            
⠸ |        5804 | spectra_subsetting                                            
⠴ |        5806 | spectra_subsetting                                            
⠧ |        5808 | spectra_subsetting                                            
⠏ |        5810 | spectra_subsetting                                            
⠙ |        5812 | spectra_subsetting                                            
⠹ |        5813 | spectra_subsetting                                            
⠸ |        5814 | spectra_subsetting                                            
⠴ |        5816 | spectra_subsetting                                            
⠧ |        5818 | spectra_subsetting                                            
⠏ |        5820 | spectra_subsetting                                            
⠙ |        5822 | spectra_subsetting                                            
⠹ |        5823 | spectra_subsetting                                            
⠸ |        5824 | spectra_subsetting                                            
⠴ |        5826 | spectra_subsetting                                            
⠦ |        5827 | spectra_subsetting                                            
⠇ |        5829 | spectra_subsetting                                            
⠋ |        5831 | spectra_subsetting                                            
⠹ |        5833 | spectra_subsetting                                            
⠼ |        5835 | spectra_subsetting                                            
⠦ |        5837 | spectra_subsetting                                            
⠇ |        5839 | spectra_subsetting                                            
⠏ |        5840 | spectra_subsetting                                            
⠋ |        5841 | spectra_subsetting                                            
⠙ |        5842 | spectra_subsetting                                            
⠹ |        5843 | spectra_subsetting                                            
⠼ |        5845 | spectra_subsetting                                            
⠴ |        5846 | spectra_subsetting                                            
⠦ |        5847 | spectra_subsetting                                            
⠇ |        5849 | spectra_subsetting                                            
⠋ |        5851 | spectra_subsetting                                            
⠹ |        5853 | spectra_subsetting                                            
⠼ |        5855 | spectra_subsetting                                            
⠦ |        5857 | spectra_subsetting                                            
⠇ |        5859 | spectra_subsetting                                            
⠋ |        5861 | spectra_subsetting                                            
⠙ |        5862 | spectra_subsetting                                            
⠹ |        5863 | spectra_subsetting                                            
⠸ |        5864 | spectra_subsetting                                            
⠼ |        5865 | spectra_subsetting                                            
⠴ |        5866 | spectra_subsetting                                            
⠧ |        5868 | spectra_subsetting                                            
⠏ |        5870 | spectra_subsetting                                            
⠋ |        5871 | spectra_subsetting                                            
⠹ |        5873 | spectra_subsetting                                            
⠼ |        5875 | spectra_subsetting                                            
⠴ |        5876 | spectra_subsetting                                            
⠦ |        5877 | spectra_subsetting                                            
⠇ |        5879 | spectra_subsetting                                            
⠋ |        5881 | spectra_subsetting                                            
⠹ |        5883 | spectra_subsetting                                            
⠸ |        5884 | spectra_subsetting                                            
⠼ |        5885 | spectra_subsetting                                            
⠴ |        5886 | spectra_subsetting                                            
⠧ |        5888 | spectra_subsetting                                            
⠏ |        5890 | spectra_subsetting                                            
⠙ |        5892 | spectra_subsetting                                            
⠹ |        5893 | spectra_subsetting                                            
⠼ |        5895 | spectra_subsetting                                            
⠦ |        5897 | spectra_subsetting                                            
⠇ |        5899 | spectra_subsetting                                            
⠋ |        5901 | spectra_subsetting                                            
⠙ |        5902 | spectra_subsetting                                            
⠹ |        5903 | spectra_subsetting                                            
⠼ |        5905 | spectra_subsetting                                            
⠦ |        5907 | spectra_subsetting                                            
⠧ |        5908 | spectra_subsetting                                            
⠏ |        5910 | spectra_subsetting                                            
⠙ |        5912 | spectra_subsetting                                            
⠸ |        5914 | spectra_subsetting                                            
⠼ |        5915 | spectra_subsetting                                            
⠦ |        5917 | spectra_subsetting                                            
⠧ |        5918 | spectra_subsetting                                            
⠇ |        5919 | spectra_subsetting                                            
⠏ |        5920 | spectra_subsetting                                            
⠋ |        5921 | spectra_subsetting                                            
⠹ |        5923 | spectra_subsetting                                            
⠸ |        5924 | spectra_subsetting                                            
⠴ |        5926 | spectra_subsetting                                            
⠦ |        5927 | spectra_subsetting                                            
⠇ |        5929 | spectra_subsetting                                            
⠏ |        5930 | spectra_subsetting                                            
⠙ |        5932 | spectra_subsetting                                            
⠹ |        5933 | spectra_subsetting                                            
⠼ |        5935 | spectra_subsetting                                            
⠦ |        5937 | spectra_subsetting                                            
⠧ |        5938 | spectra_subsetting                                            
⠇ |        5939 | spectra_subsetting                                            
⠏ |        5940 | spectra_subsetting                                            
⠋ |        5941 | spectra_subsetting                                            
⠹ |        5943 | spectra_subsetting                                            
⠼ |        5945 | spectra_subsetting                                            
⠴ |        5946 | spectra_subsetting                                            
⠧ |        5948 | spectra_subsetting                                            
⠇ |        5949 | spectra_subsetting                                            
⠏ |        5950 | spectra_subsetting                                            
⠋ |        5951 | spectra_subsetting                                            
⠙ |        5952 | spectra_subsetting                                            
⠸ |        5954 | spectra_subsetting                                            
⠴ |        5956 | spectra_subsetting                                            
⠦ |        5957 | spectra_subsetting                                            
⠧ |        5958 | spectra_subsetting                                            
⠇ |        5959 | spectra_subsetting                                            
⠋ |        5961 | spectra_subsetting                                            
⠙ |        5962 | spectra_subsetting                                            
⠹ |        5963 | spectra_subsetting                                            
⠸ |        5964 | spectra_subsetting                                            
⠼ |        5965 | spectra_subsetting                                            
⠴ |        5966 | spectra_subsetting                                            
⠦ |        5967 | spectra_subsetting                                            
⠇ |        5969 | spectra_subsetting                                            
⠋ |        5971 | spectra_subsetting                                            
⠹ |        5973 | spectra_subsetting                                            
⠼ |        5975 | spectra_subsetting                                            
⠦ |        5977 | spectra_subsetting                                            
⠧ |        5978 | spectra_subsetting                                            
⠇ |        5979 | spectra_subsetting                                            
⠏ |        5980 | spectra_subsetting                                            
⠙ |        5982 | spectra_subsetting                                            
⠸ |        5984 | spectra_subsetting                                            
⠴ |        5986 | spectra_subsetting                                            
⠧ |        5988 | spectra_subsetting                                            
⠏ |        5990 | spectra_subsetting                                            
⠙ |        5992 | spectra_subsetting                                            
⠸ |        5994 | spectra_subsetting                                            
⠴ |        5996 | spectra_subsetting                                            
⠧ |        5998 | spectra_subsetting                                            
⠇ |        5999 | spectra_subsetting                                            
⠏ |        6000 | spectra_subsetting                                            
⠙ |        6002 | spectra_subsetting                                            
⠸ |        6004 | spectra_subsetting                                            
⠼ |        6005 | spectra_subsetting                                            
⠴ |        6006 | spectra_subsetting                                            
⠧ |        6008 | spectra_subsetting                                            
⠏ |        6010 | spectra_subsetting                                            
⠙ |        6012 | spectra_subsetting                                            
⠹ |        6013 | spectra_subsetting                                            
⠸ |        6014 | spectra_subsetting                                            
⠼ |        6015 | spectra_subsetting                                            
⠦ |        6017 | spectra_subsetting                                            
⠇ |        6019 | spectra_subsetting                                            
⠏ |        6020 | spectra_subsetting                                            
⠙ |        6022 | spectra_subsetting                                            
⠹ |        6023 | spectra_subsetting                                            
⠼ |        6025 | spectra_subsetting                                            
⠦ |        6027 | spectra_subsetting                                            
⠇ |        6029 | spectra_subsetting                                            
⠏ |        6030 | spectra_subsetting                                            
⠙ |        6032 | spectra_subsetting                                            
⠹ |        6033 | spectra_subsetting                                            
⠸ |        6034 | spectra_subsetting                                            
⠼ |        6035 | spectra_subsetting                                            
⠦ |        6037 | spectra_subsetting                                            
⠇ |        6039 | spectra_subsetting                                            
⠋ |        6041 | spectra_subsetting                                            
⠙ |        6042 | spectra_subsetting                                            
⠸ |        6044 | spectra_subsetting                                            
⠴ |        6046 | spectra_subsetting                                            
⠧ |        6048 | spectra_subsetting                                            
⠇ |        6049 | spectra_subsetting                                            
⠏ |        6050 | spectra_subsetting                                            
⠋ |        6051 | spectra_subsetting                                            
⠹ |        6053 | spectra_subsetting                                            
⠸ |        6054 | spectra_subsetting                                            
⠴ |        6056 | spectra_subsetting                                            
⠦ |        6057 | spectra_subsetting                                            
⠇ |        6059 | spectra_subsetting                                            
⠏ |        6060 | spectra_subsetting                                            
⠙ |        6062 | spectra_subsetting                                            
⠸ |        6064 | spectra_subsetting                                            
⠼ |        6065 | spectra_subsetting                                            
⠴ |        6066 | spectra_subsetting                                            
⠦ |        6067 | spectra_subsetting                                            
⠧ |        6068 | spectra_subsetting                                            
⠇ |        6069 | spectra_subsetting                                            
⠋ |        6071 | spectra_subsetting                                            
⠙ |        6072 | spectra_subsetting                                            
⠹ |        6073 | spectra_subsetting                                            
⠼ |        6075 | spectra_subsetting                                            
⠦ |        6077 | spectra_subsetting                                            
⠧ |        6078 | spectra_subsetting                                            
⠏ |        6080 | spectra_subsetting                                            
⠙ |        6082 | spectra_subsetting                                            
⠸ |        6084 | spectra_subsetting                                            
⠴ |        6086 | spectra_subsetting                                            
⠧ |        6088 | spectra_subsetting                                            
⠇ |        6089 | spectra_subsetting                                            
⠏ |        6090 | spectra_subsetting                                            
⠙ |        6092 | spectra_subsetting                                            
⠸ |        6094 | spectra_subsetting                                            
⠴ |        6096 | spectra_subsetting                                            
⠧ |        6098 | spectra_subsetting                                            
⠇ |        6099 | spectra_subsetting                                            
⠋ |        6101 | spectra_subsetting                                            
⠹ |        6103 | spectra_subsetting                                            
⠸ |        6104 | spectra_subsetting                                            
⠼ |        6105 | spectra_subsetting                                            
⠴ |        6106 | spectra_subsetting                                            
⠦ |        6107 | spectra_subsetting                                            
⠧ |        6108 | spectra_subsetting                                            
⠇ |        6109 | spectra_subsetting                                            
⠏ |        6110 | spectra_subsetting                                            
⠋ |        6111 | spectra_subsetting                                            
⠙ |        6112 | spectra_subsetting                                            
⠸ |        6114 | spectra_subsetting                                            
⠼ |        6115 | spectra_subsetting                                            
⠴ |        6116 | spectra_subsetting                                            
⠦ |        6117 | spectra_subsetting                                            
⠇ |        6119 | spectra_subsetting                                            
⠏ |        6120 | spectra_subsetting                                            
⠋ |        6121 | spectra_subsetting                                            
⠙ |        6122 | spectra_subsetting                                            
⠸ |        6124 | spectra_subsetting                                            
⠴ |        6126 | spectra_subsetting                                            
⠧ |        6128 | spectra_subsetting                                            
⠏ |        6130 | spectra_subsetting                                            
⠙ |        6132 | spectra_subsetting                                            
⠸ |        6134 | spectra_subsetting                                            
⠴ |        6136 | spectra_subsetting                                            
⠧ |        6138 | spectra_subsetting                                            
⠏ |        6140 | spectra_subsetting                                            
⠋ |        6141 | spectra_subsetting                                            
⠹ |        6143 | spectra_subsetting                                            
⠸ |        6144 | spectra_subsetting                                            
⠴ |        6146 | spectra_subsetting                                            
⠧ |        6148 | spectra_subsetting                                            
⠏ |        6150 | spectra_subsetting                                            
⠙ |        6152 | spectra_subsetting                                            
⠸ |        6154 | spectra_subsetting                                            
⠴ |        6156 | spectra_subsetting                                            
⠦ |        6157 | spectra_subsetting                                            
⠧ |        6158 | spectra_subsetting                                            
⠇ |        6159 | spectra_subsetting                                            
⠏ |        6160 | spectra_subsetting                                            
⠋ |        6161 | spectra_subsetting                                            
⠹ |        6163 | spectra_subsetting                                            
⠸ |        6164 | spectra_subsetting                                            
⠴ |        6166 | spectra_subsetting                                            
⠧ |        6168 | spectra_subsetting                                            
⠏ |        6170 | spectra_subsetting                                            
⠋ |        6171 | spectra_subsetting                                            
⠹ |        6173 | spectra_subsetting                                            
⠼ |        6175 | spectra_subsetting                                            
⠦ |        6177 | spectra_subsetting                                            
⠇ |        6179 | spectra_subsetting                                            
⠋ |        6181 | spectra_subsetting                                            
⠙ |        6182 | spectra_subsetting                                            
⠸ |        6184 | spectra_subsetting                                            
⠼ |        6185 | spectra_subsetting                                            
⠦ |        6187 | spectra_subsetting                                            
⠇ |        6189 | spectra_subsetting                                            
⠋ |        6191 | spectra_subsetting                                            
⠹ |        6193 | spectra_subsetting                                            
⠸ |        6194 | spectra_subsetting                                            
⠴ |        6196 | spectra_subsetting                                            
⠦ |        6197 | spectra_subsetting                                            
⠇ |        6199 | spectra_subsetting                                            
⠏ |        6200 | spectra_subsetting                                            
⠋ |        6201 | spectra_subsetting                                            
⠙ |        6202 | spectra_subsetting                                            
⠹ |        6203 | spectra_subsetting                                            
⠼ |        6205 | spectra_subsetting                                            
⠴ |        6206 | spectra_subsetting                                            
⠧ |        6208 | spectra_subsetting                                            
⠏ |        6210 | spectra_subsetting                                            
⠋ |        6211 | spectra_subsetting                                            
⠹ |        6213 | spectra_subsetting                                            
⠸ |        6214 | spectra_subsetting                                            
⠴ |        6216 | spectra_subsetting                                            
⠧ |        6218 | spectra_subsetting                                            
⠏ |        6220 | spectra_subsetting                                            
⠙ |        6222 | spectra_subsetting                                            
⠸ |        6224 | spectra_subsetting                                            
⠼ |        6225 | spectra_subsetting                                            
⠴ |        6226 | spectra_subsetting                                            
⠦ |        6227 | spectra_subsetting                                            
⠧ |        6228 | spectra_subsetting                                            
⠇ |        6229 | spectra_subsetting                                            
⠋ |        6231 | spectra_subsetting                                            
⠹ |        6233 | spectra_subsetting                                            
⠼ |        6235 | spectra_subsetting                                            
⠴ |        6236 | spectra_subsetting                                            
⠧ |        6238 | spectra_subsetting                                            
⠏ |        6240 | spectra_subsetting                                            
⠙ |        6242 | spectra_subsetting                                            
⠸ |        6244 | spectra_subsetting                                            
⠴ |        6246 | spectra_subsetting                                            
⠦ |        6247 | spectra_subsetting                                            
⠇ |        6249 | spectra_subsetting                                            
⠋ |        6251 | spectra_subsetting                                            
⠹ |        6253 | spectra_subsetting                                            
⠼ |        6255 | spectra_subsetting                                            
⠦ |        6257 | spectra_subsetting                                            
⠇ |        6259 | spectra_subsetting                                            
⠋ |        6261 | spectra_subsetting                                            
⠙ |        6262 | spectra_subsetting                                            
⠸ |        6264 | spectra_subsetting                                            
⠴ |        6266 | spectra_subsetting                                            
⠦ |        6267 | spectra_subsetting                                            
⠇ |        6269 | spectra_subsetting                                            
⠋ |        6271 | spectra_subsetting                                            
⠹ |        6273 | spectra_subsetting                                            
⠼ |        6275 | spectra_subsetting                                            
⠴ |        6276 | spectra_subsetting                                            
⠧ |        6278 | spectra_subsetting                                            
⠇ |        6279 | spectra_subsetting                                            
⠋ |        6281 | spectra_subsetting                                            
⠙ |        6282 | spectra_subsetting                                            
⠹ |        6283 | spectra_subsetting                                            
⠸ |        6284 | spectra_subsetting                                            
⠴ |        6286 | spectra_subsetting                                            
⠦ |        6287 | spectra_subsetting                                            
⠇ |        6289 | spectra_subsetting                                            
⠋ |        6291 | spectra_subsetting                                            
⠙ |        6292 | spectra_subsetting                                            
⠸ |        6294 | spectra_subsetting                                            
⠴ |        6296 | spectra_subsetting                                            
⠧ |        6298 | spectra_subsetting                                            
⠏ |        6300 | spectra_subsetting                                            
⠋ |        6301 | spectra_subsetting                                            
⠹ |        6303 | spectra_subsetting                                            
⠸ |        6304 | spectra_subsetting                                            
⠼ |        6305 | spectra_subsetting                                            
⠴ |        6306 | spectra_subsetting                                            
⠦ |        6307 | spectra_subsetting                                            
⠧ |        6308 | spectra_subsetting                                            
⠇ |        6309 | spectra_subsetting                                            
⠏ |        6310 | spectra_subsetting                                            
⠋ |        6311 | spectra_subsetting                                            
⠙ |        6312 | spectra_subsetting                                            
⠹ |        6313 | spectra_subsetting                                            
⠸ |        6314 | spectra_subsetting                                            
⠼ |        6315 | spectra_subsetting                                            
⠴ |        6316 | spectra_subsetting                                            
⠦ |        6317 | spectra_subsetting                                            
⠇ |        6319 | spectra_subsetting                                            
⠏ |        6320 | spectra_subsetting                                            
⠋ |        6321 | spectra_subsetting                                            
⠙ |        6322 | spectra_subsetting                                            
⠹ |        6323 | spectra_subsetting                                            
⠸ |        6324 | spectra_subsetting                                            
⠼ |        6325 | spectra_subsetting                                            
⠴ |        6326 | spectra_subsetting                                            
⠦ |        6327 | spectra_subsetting                                            
⠧ |        6328 | spectra_subsetting                                            
⠇ |        6329 | spectra_subsetting                                            
⠏ |        6330 | spectra_subsetting                                            
⠙ |        6332 | spectra_subsetting                                            
⠸ |        6334 | spectra_subsetting                                            
⠼ |        6335 | spectra_subsetting                                            
⠴ |        6336 | spectra_subsetting                                            
⠦ |        6337 | spectra_subsetting                                            
⠧ |        6338 | spectra_subsetting                                            
⠏ |        6340 | spectra_subsetting                                            
⠋ |        6341 | spectra_subsetting                                            
⠙ |        6342 | spectra_subsetting                                            
⠹ |        6343 | spectra_subsetting                                            
⠸ |        6344 | spectra_subsetting                                            
⠼ |        6345 | spectra_subsetting                                            
⠴ |        6346 | spectra_subsetting                                            
⠦ |        6347 | spectra_subsetting                                            
⠧ |        6348 | spectra_subsetting                                            
⠇ |        6349 | spectra_subsetting                                            
⠏ |        6350 | spectra_subsetting                                            
⠋ |        6351 | spectra_subsetting                                            
⠙ |        6352 | spectra_subsetting                                            
⠹ |        6353 | spectra_subsetting                                            
⠼ |        6355 | spectra_subsetting                                            
⠦ |        6357 | spectra_subsetting                                            
⠇ |        6359 | spectra_subsetting                                            
⠋ |        6361 | spectra_subsetting                                            
⠙ |        6362 | spectra_subsetting                                            
⠸ |        6364 | spectra_subsetting                                            
⠴ |        6366 | spectra_subsetting                                            
⠦ |        6367 | spectra_subsetting                                            
⠧ |        6368 | spectra_subsetting                                            
⠏ |        6370 | spectra_subsetting                                            
⠋ |        6371 | spectra_subsetting                                            
⠹ |        6373 | spectra_subsetting                                            
⠸ |        6374 | spectra_subsetting                                            
⠴ |        6376 | spectra_subsetting                                            
⠦ |        6377 | spectra_subsetting                                            
⠧ |        6378 | spectra_subsetting                                            
⠇ |        6379 | spectra_subsetting                                            
⠋ |        6381 | spectra_subsetting                                            
⠙ |        6382 | spectra_subsetting                                            
⠹ |        6383 | spectra_subsetting                                            
⠸ |        6384 | spectra_subsetting                                            
⠴ |        6386 | spectra_subsetting                                            
⠧ |        6388 | spectra_subsetting                                            
⠇ |        6389 | spectra_subsetting                                            
⠋ |        6391 | spectra_subsetting                                            
⠙ |        6392 | spectra_subsetting                                            
⠸ |        6394 | spectra_subsetting                                            
⠼ |        6395 | spectra_subsetting                                            
⠦ |        6397 | spectra_subsetting                                            
⠇ |        6399 | spectra_subsetting                                            
⠋ |        6401 | spectra_subsetting                                            
⠹ |        6403 | spectra_subsetting                                            
⠸ |        6404 | spectra_subsetting                                            
⠼ |        6405 | spectra_subsetting                                            
⠦ |        6407 | spectra_subsetting                                            
⠧ |        6408 | spectra_subsetting                                            
⠇ |        6409 | spectra_subsetting                                            
⠏ |        6410 | spectra_subsetting                                            
⠋ |        6411 | spectra_subsetting                                            
⠙ |        6412 | spectra_subsetting                                            
⠹ |        6413 | spectra_subsetting                                            
⠸ |        6414 | spectra_subsetting                                            
⠼ |        6415 | spectra_subsetting                                            
⠦ |        6417 | spectra_subsetting                                            
⠧ |        6418 | spectra_subsetting                                            
⠇ |        6419 | spectra_subsetting                                            
⠏ |        6420 | spectra_subsetting                                            
⠋ |        6421 | spectra_subsetting                                            
⠙ |        6422 | spectra_subsetting                                            
⠹ |        6423 | spectra_subsetting                                            
⠸ |        6424 | spectra_subsetting                                            
⠼ |        6425 | spectra_subsetting                                            
⠴ |        6426 | spectra_subsetting                                            
⠦ |        6427 | spectra_subsetting                                            
⠇ |        6429 | spectra_subsetting                                            
⠏ |        6430 | spectra_subsetting                                            
⠙ |        6432 | spectra_subsetting                                            
⠸ |        6434 | spectra_subsetting                                            
⠼ |        6435 | spectra_subsetting                                            
⠴ |        6436 | spectra_subsetting                                            
⠧ |        6438 | spectra_subsetting                                            
⠏ |        6440 | spectra_subsetting                                            
⠋ |        6441 | spectra_subsetting                                            
⠹ |        6443 | spectra_subsetting                                            
⠼ |        6445 | spectra_subsetting                                            
⠴ |        6446 | spectra_subsetting                                            
⠦ |        6447 | spectra_subsetting                                            
⠧ |        6448 | spectra_subsetting                                            
⠇ |        6449 | spectra_subsetting                                            
⠏ |        6450 | spectra_subsetting                                            
⠙ |        6452 | spectra_subsetting                                            
⠸ |        6454 | spectra_subsetting                                            
⠼ |        6455 | spectra_subsetting                                            
⠴ |        6456 | spectra_subsetting                                            
⠧ |        6458 | spectra_subsetting                                            
⠇ |        6459 | spectra_subsetting                                            
⠏ |        6460 | spectra_subsetting                                            
⠋ |        6461 | spectra_subsetting                                            
⠙ |        6462 | spectra_subsetting                                            
⠹ |        6463 | spectra_subsetting                                            
⠼ |        6465 | spectra_subsetting                                            
⠴ |        6466 | spectra_subsetting                                            
⠦ |        6467 | spectra_subsetting                                            
⠧ |        6468 | spectra_subsetting                                            
⠇ |        6469 | spectra_subsetting                                            
⠋ |        6471 | spectra_subsetting                                            
⠹ |        6473 | spectra_subsetting                                            
⠸ |        6474 | spectra_subsetting                                            
⠴ |        6476 | spectra_subsetting                                            
⠧ |        6478 | spectra_subsetting                                            
⠏ |        6480 | spectra_subsetting                                            
⠙ |        6482 | spectra_subsetting                                            
⠹ |        6483 | spectra_subsetting                                            
⠸ |        6484 | spectra_subsetting                                            
⠼ |        6485 | spectra_subsetting                                            
⠴ |        6486 | spectra_subsetting                                            
⠧ |        6488 | spectra_subsetting                                            
⠇ |        6489 | spectra_subsetting                                            
⠏ |        6490 | spectra_subsetting                                            
⠋ |        6491 | spectra_subsetting                                            
⠹ |        6493 | spectra_subsetting                                            
⠸ |        6494 | spectra_subsetting                                            
⠼ |        6495 | spectra_subsetting                                            
⠴ |        6496 | spectra_subsetting                                            
⠧ |        6498 | spectra_subsetting                                            
⠏ |        6500 | spectra_subsetting                                            
⠋ |        6501 | spectra_subsetting                                            
⠙ |        6502 | spectra_subsetting                                            
⠹ |        6503 | spectra_subsetting                                            
⠼ |        6505 | spectra_subsetting                                            
⠴ |        6506 | spectra_subsetting                                            
⠦ |        6507 | spectra_subsetting                                            
⠇ |        6509 | spectra_subsetting                                            
⠏ |        6510 | spectra_subsetting                                            
⠋ |        6511 | spectra_subsetting                                            
⠹ |        6513 | spectra_subsetting                                            
⠼ |        6515 | spectra_subsetting                                            
⠴ |        6516 | spectra_subsetting                                            
⠧ |        6518 | spectra_subsetting                                            
⠏ |        6520 | spectra_subsetting                                            
⠙ |        6522 | spectra_subsetting                                            
⠸ |        6524 | spectra_subsetting                                            
⠴ |        6526 | spectra_subsetting                                            
⠧ |        6528 | spectra_subsetting                                            
⠇ |        6529 | spectra_subsetting                                            
⠋ |        6531 | spectra_subsetting                                            
⠙ |        6532 | spectra_subsetting                                            
⠸ |        6534 | spectra_subsetting                                            
⠴ |        6536 | spectra_subsetting                                            
⠦ |        6537 | spectra_subsetting                                            
⠇ |        6539 | spectra_subsetting                                            
⠏ |        6540 | spectra_subsetting                                            
⠙ |        6542 | spectra_subsetting                                            
⠸ |        6544 | spectra_subsetting                                            
⠴ |        6546 | spectra_subsetting                                            
⠧ |        6548 | spectra_subsetting                                            
⠏ |        6550 | spectra_subsetting                                            
⠙ |        6552 | spectra_subsetting                                            
⠸ |        6554 | spectra_subsetting                                            
⠴ |        6556 | spectra_subsetting                                            
⠧ |        6558 | spectra_subsetting                                            
⠏ |        6560 | spectra_subsetting                                            
⠙ |        6562 | spectra_subsetting                                            
⠸ |        6564 | spectra_subsetting                                            
⠼ |        6565 | spectra_subsetting                                            
⠦ |        6567 | spectra_subsetting                                            
⠇ |        6569 | spectra_subsetting                                            
⠋ |        6571 | spectra_subsetting                                            
⠹ |        6573 | spectra_subsetting                                            
⠼ |        6575 | spectra_subsetting                                            
⠦ |        6577 | spectra_subsetting                                            
⠇ |        6579 | spectra_subsetting                                            
⠋ |        6581 | spectra_subsetting                                            
⠙ |        6582 | spectra_subsetting                                            
⠹ |        6583 | spectra_subsetting                                            
⠸ |        6584 | spectra_subsetting                                            
⠼ |        6585 | spectra_subsetting                                            
⠴ |        6586 | spectra_subsetting                                            
⠦ |        6587 | spectra_subsetting                                            
⠧ |        6588 | spectra_subsetting                                            
⠇ |        6589 | spectra_subsetting                                            
⠏ |        6590 | spectra_subsetting                                            
⠋ |        6591 | spectra_subsetting                                            
⠙ |        6592 | spectra_subsetting                                            
⠸ |        6594 | spectra_subsetting                                            
⠴ |        6596 | spectra_subsetting                                            
⠦ |        6597 | spectra_subsetting                                            
⠇ |        6599 | spectra_subsetting                                            
⠏ |        6600 | spectra_subsetting                                            
⠙ |        6602 | spectra_subsetting                                            
⠸ |        6604 | spectra_subsetting                                            
⠼ |        6605 | spectra_subsetting                                            
⠦ |        6607 | spectra_subsetting                                            
⠇ |        6609 | spectra_subsetting                                            
⠏ |        6610 | spectra_subsetting                                            
⠙ |        6612 | spectra_subsetting                                            
⠸ |        6614 | spectra_subsetting                                            
⠴ |        6616 | spectra_subsetting                                            
⠧ |        6618 | spectra_subsetting                                            
⠏ |        6620 | spectra_subsetting                                            
⠋ |        6621 | spectra_subsetting                                            
⠹ |        6623 | spectra_subsetting                                            
⠼ |        6625 | spectra_subsetting                                            
⠴ |        6626 | spectra_subsetting                                            
⠧ |        6628 | spectra_subsetting                                            
⠏ |        6630 | spectra_subsetting                                            
⠋ |        6631 | spectra_subsetting                                            
⠙ |        6632 | spectra_subsetting                                            
⠸ |        6634 | spectra_subsetting                                            
⠼ |        6635 | spectra_subsetting                                            
⠴ |        6636 | spectra_subsetting                                            
⠦ |        6637 | spectra_subsetting                                            
⠧ |        6638 | spectra_subsetting                                            
⠇ |        6639 | spectra_subsetting                                            
⠏ |        6640 | spectra_subsetting                                            
⠋ |        6641 | spectra_subsetting                                            
⠙ |        6642 | spectra_subsetting                                            
⠸ |        6644 | spectra_subsetting                                            
⠴ |        6646 | spectra_subsetting                                            
⠦ |        6647 | spectra_subsetting                                            
⠧ |        6648 | spectra_subsetting                                            
⠏ |        6650 | spectra_subsetting                                            
⠋ |        6651 | spectra_subsetting                                            
⠙ |        6652 | spectra_subsetting                                            
⠸ |        6654 | spectra_subsetting                                            
⠼ |        6655 | spectra_subsetting                                            
⠴ |        6656 | spectra_subsetting                                            
⠦ |        6657 | spectra_subsetting                                            
⠇ |        6659 | spectra_subsetting                                            
⠹ |        6663 | spectra_subsetting                                            
⠇ |        6669 | spectra_subsetting                                            
⠹ |        6673 | spectra_subsetting                                            
⠇ |        6679 | spectra_subsetting                                            
⠇ |        6689 | spectra_subsetting                                            
⠸ |        6694 | spectra_subsetting                                            
✔ |        6702 | spectra_subsetting [194.2s]

⠏ |          0 | spectra_variables                                              
⠙ |         12 | spectra_variables                                              
⠸ |         14 | spectra_variables                                              
⠴ |         16 | spectra_variables                                              
⠦ |         27 | spectra_variables                                              
⠇ |         29 | spectra_variables                                              
⠋ |         31 | spectra_variables                                              
⠹ |         43 | spectra_variables                                              
⠸ |         54 | spectra_variables                                              
✔ |      1  62 | spectra_variables [2.1s]

══ Results ═════════════════════════════════════════════════════════════════════
Duration: 196.8 s

── Skipped tests (1) ───────────────────────────────────────────────────────────
• empty test (1): 'test_spectra_variables.R:262:1'

[ FAIL 0 | WARN 0 | SKIP 1 | PASS 6768 ]
> 
> proc.time()
   user  system elapsed 
169.905  11.182 479.839 

Example timings

MsBackendMetaboLights.Rcheck/MsBackendMetaboLights-Ex.timings

nameusersystemelapsed
MetaboLights-utils0.1400.0148.499
MsBackendMetaboLights 4.548 0.72735.457