Back to Multiple platform build/check report for BioC 3.22:   simplified   long
ABCDEFGHIJKL[M]NOPQRSTUVWXYZ

This page was generated on 2025-11-20 12:07 -0500 (Thu, 20 Nov 2025).

HostnameOSArch (*)R versionInstalled pkgs
nebbiolo2Linux (Ubuntu 24.04.3 LTS)x86_644.5.2 (2025-10-31) -- "[Not] Part in a Rumble" 4615
merida1macOS 12.7.6 Montereyx86_644.5.2 Patched (2025-11-05 r88990) -- "[Not] Part in a Rumble" 4610
kjohnson1macOS 13.7.5 Venturaarm644.5.2 Patched (2025-11-04 r88984) -- "[Not] Part in a Rumble" 4598
taishanLinux (openEuler 24.03 LTS)aarch644.5.0 (2025-04-11) -- "How About a Twenty-Six" 4668
Click on any hostname to see more info about the system (e.g. compilers)      (*) as reported by 'uname -p', except on Windows and Mac OS X

Package 1231/2361HostnameOS / ArchINSTALLBUILDCHECKBUILD BIN
Mergeomics 1.38.0  (landing page)
Zeyneb Kurt
Snapshot Date: 2025-11-17 13:45 -0500 (Mon, 17 Nov 2025)
git_url: https://git.bioconductor.org/packages/Mergeomics
git_branch: RELEASE_3_22
git_last_commit: a71f54d
git_last_commit_date: 2025-10-29 10:29:54 -0500 (Wed, 29 Oct 2025)
nebbiolo2Linux (Ubuntu 24.04.3 LTS) / x86_64  OK    OK    OK  UNNEEDED, same version is already published
merida1macOS 12.7.6 Monterey / x86_64  OK    OK    OK    OK  UNNEEDED, same version is already published
kjohnson1macOS 13.7.5 Ventura / arm64  OK    OK    OK    OK  UNNEEDED, same version is already published
taishanLinux (openEuler 24.03 LTS) / aarch64  OK    OK    OK  


CHECK results for Mergeomics on taishan

To the developers/maintainers of the Mergeomics package:
- Allow up to 24 hours (and sometimes 48 hours) for your latest push to git@git.bioconductor.org:packages/Mergeomics.git to reflect on this report. See Troubleshooting Build Report for more information.
- Use the following Renviron settings to reproduce errors and warnings.
- If 'R CMD check' started to fail recently on the Linux builder(s) over a missing dependency, add the missing dependency to 'Suggests:' in your DESCRIPTION file. See Renviron.bioc for more information.
- See Martin Grigorov's blog post for how to debug Linux ARM64 related issues on a x86_64 host.

raw results


Summary

Package: Mergeomics
Version: 1.38.0
Command: /home/biocbuild/R/R/bin/R CMD check --install=check:Mergeomics.install-out.txt --library=/home/biocbuild/R/R/site-library --no-vignettes --timings Mergeomics_1.38.0.tar.gz
StartedAt: 2025-11-18 11:35:21 -0000 (Tue, 18 Nov 2025)
EndedAt: 2025-11-18 11:51:03 -0000 (Tue, 18 Nov 2025)
EllapsedTime: 941.8 seconds
RetCode: 0
Status:   OK  
CheckDir: Mergeomics.Rcheck
Warnings: 0

Command output

##############################################################################
##############################################################################
###
### Running command:
###
###   /home/biocbuild/R/R/bin/R CMD check --install=check:Mergeomics.install-out.txt --library=/home/biocbuild/R/R/site-library --no-vignettes --timings Mergeomics_1.38.0.tar.gz
###
##############################################################################
##############################################################################


* using log directory ‘/home/biocbuild/bbs-3.22-bioc/meat/Mergeomics.Rcheck’
* using R version 4.5.0 (2025-04-11)
* using platform: aarch64-unknown-linux-gnu
* R was compiled by
    aarch64-unknown-linux-gnu-gcc (GCC) 14.2.0
    GNU Fortran (GCC) 14.2.0
* running under: openEuler 24.03 (LTS)
* using session charset: UTF-8
* using option ‘--no-vignettes’
* checking for file ‘Mergeomics/DESCRIPTION’ ... OK
* checking extension type ... Package
* this is package ‘Mergeomics’ version ‘1.38.0’
* checking package namespace information ... OK
* checking package dependencies ... OK
* checking if this is a source package ... OK
* checking if there is a namespace ... OK
* checking for hidden files and directories ... OK
* checking for portable file names ... OK
* checking for sufficient/correct file permissions ... OK
* checking whether package ‘Mergeomics’ can be installed ... OK
* checking installed package size ... INFO
  installed size is  8.4Mb
  sub-directories of 1Mb or more:
    extdata   7.5Mb
* checking package directory ... OK
* checking ‘build’ directory ... OK
* checking DESCRIPTION meta-information ... OK
* checking top-level files ... OK
* checking for left-over files ... OK
* checking index information ... OK
* checking package subdirectories ... OK
* checking code files for non-ASCII characters ... OK
* checking R files for syntax errors ... OK
* checking whether the package can be loaded ... OK
* checking whether the package can be loaded with stated dependencies ... OK
* checking whether the package can be unloaded cleanly ... OK
* checking whether the namespace can be loaded with stated dependencies ... OK
* checking whether the namespace can be unloaded cleanly ... OK
* checking loading without being on the library search path ... OK
* checking dependencies in R code ... OK
* checking S3 generic/method consistency ... OK
* checking replacement functions ... OK
* checking foreign function calls ... OK
* checking R code for possible problems ... NOTE
kda.analyze: no visible global function definition for ‘p.adjust’
kda.analyze.exec: no visible global function definition for ‘pnorm’
kda.analyze.simulate: no visible global function definition for ‘rnorm’
kda.prepare: no visible global function definition for ‘quantile’
kda.prepare: no visible global function definition for ‘object.size’
kda.prepare.screen: no visible global function definition for
  ‘quantile’
kda.prepare.screen: no visible global function definition for ‘median’
kda.start: no visible global function definition for ‘object.size’
kda2cytoscape: no visible global function definition for ‘write.table’
kda2cytoscape.colormap: no visible global function definition for
  ‘rainbow’
kda2cytoscape.colormap: no visible global function definition for
  ‘col2rgb’
kda2himmeli: no visible global function definition for ‘quantile’
kda2himmeli: no visible global function definition for ‘write.table’
kda2himmeli.colormap: no visible global function definition for
  ‘rainbow’
kda2himmeli.colormap: no visible global function definition for
  ‘col2rgb’
ssea.analyze: no visible global function definition for ‘qnorm’
ssea.analyze: no visible global function definition for ‘approx’
ssea.analyze: no visible global function definition for ‘pnorm’
ssea.analyze.simulate: no visible global function definition for
  ‘quantile’
ssea.control: no visible global function definition for ‘median’
ssea.control: no visible global function definition for ‘object.size’
ssea.meta: no visible global function definition for ‘qnorm’
ssea.meta: no visible global function definition for ‘quantile’
ssea.meta: no visible global function definition for ‘pnorm’
ssea.meta: no visible global function definition for ‘median’
ssea.meta: no visible global function definition for ‘na.omit’
ssea.prepare: no visible global function definition for ‘median’
ssea.prepare: no visible global function definition for ‘object.size’
ssea.start: no visible global function definition for ‘na.omit’
ssea.start: no visible global function definition for ‘object.size’
ssea.start.configure: no visible global function definition for
  ‘write.table’
ssea2kda: no visible global function definition for ‘na.omit’
ssea2kda.import: no visible global function definition for ‘na.omit’
tool.aggregate: no visible global function definition for ‘na.omit’
tool.cluster: no visible global function definition for ‘as.dist’
tool.cluster: no visible global function definition for ‘hclust’
tool.fdr.bh: no visible global function definition for ‘qnorm’
tool.fdr.bh: no visible global function definition for ‘p.adjust’
tool.fdr.bh: no visible global function definition for ‘approx’
tool.fdr.empirical: no visible global function definition for ‘qnorm’
tool.fdr.empirical: no visible global function definition for ‘approx’
tool.metap: no visible global function definition for ‘qnorm’
tool.metap: no visible global function definition for ‘pnorm’
tool.normalize: no visible global function definition for ‘sd’
tool.normalize: no visible global function definition for ‘median’
tool.normalize: no visible global function definition for ‘optim’
tool.normalize: no visible global function definition for ‘ks.test’
tool.normalize.quality: no visible global function definition for ‘sd’
tool.normalize.quality: no visible global function definition for
  ‘ks.test’
tool.overlap: no visible global function definition for ‘phyper’
tool.read: no visible global function definition for ‘read.delim’
tool.read: no visible global function definition for ‘na.omit’
tool.save: no visible global function definition for ‘write.table’
tool.unify: no visible global function definition for ‘sd’
tool.unify: no visible global function definition for ‘quantile’
tool.unify: no visible global function definition for ‘approx’
Undefined global functions or variables:
  approx as.dist col2rgb hclust ks.test median na.omit object.size
  optim p.adjust phyper pnorm qnorm quantile rainbow read.delim rnorm
  sd write.table
Consider adding
  importFrom("grDevices", "col2rgb", "rainbow")
  importFrom("stats", "approx", "as.dist", "hclust", "ks.test", "median",
             "na.omit", "optim", "p.adjust", "phyper", "pnorm", "qnorm",
             "quantile", "rnorm", "sd")
  importFrom("utils", "object.size", "read.delim", "write.table")
to your NAMESPACE file.
* checking Rd files ... OK
* checking Rd metadata ... OK
* checking Rd cross-references ... OK
* checking for missing documentation entries ... OK
* checking for code/documentation mismatches ... OK
* checking Rd \usage sections ... OK
* checking Rd contents ... OK
* checking for unstated dependencies in examples ... OK
* checking contents of ‘data’ directory ... OK
* checking data for non-ASCII characters ... OK
* checking data for ASCII and uncompressed saves ... OK
* checking files in ‘vignettes’ ... OK
* checking examples ... OK
Examples with CPU (user + system) or elapsed time > 5s
                         user system elapsed
ssea2kda               12.685  0.020  12.744
ssea2kda.analyze       12.626  0.000  12.664
kda.analyze.simulate   11.214  0.024  11.269
kda.analyze.exec       11.081  0.032  11.147
kda.analyze.test       11.084  0.004  11.120
kda.prepare            10.928  0.004  10.963
ssea2kda.import         9.321  0.016   9.364
ssea.finish.details     9.018  0.020   9.060
ssea.finish.genes       8.964  0.008   8.995
ssea.finish             8.817  0.004   8.844
ssea.analyze            8.556  0.008   8.589
ssea.analyze.simulate   8.500  0.016   8.535
ssea.finish.fdr         8.483  0.012   8.516
ssea.meta               8.342  0.016   8.389
ssea.analyze.randgenes  5.887  0.004   5.904
ssea.prepare            5.313  0.008   5.337
ssea.analyze.observe    5.247  0.000   5.257
ssea.control            5.226  0.004   5.244
ssea.analyze.randloci   5.213  0.008   5.233
ssea.prepare.structure  5.024  0.004   5.044
* checking for unstated dependencies in ‘tests’ ... OK
* checking tests ...
  Running ‘runTests.R’
 OK
* checking for unstated dependencies in vignettes ... OK
* checking package vignettes ... OK
* checking running R code from vignettes ... SKIPPED
* checking re-building of vignette outputs ... SKIPPED
* checking PDF version of manual ... OK
* DONE

Status: 1 NOTE
See
  ‘/home/biocbuild/bbs-3.22-bioc/meat/Mergeomics.Rcheck/00check.log’
for details.


Installation output

Mergeomics.Rcheck/00install.out

##############################################################################
##############################################################################
###
### Running command:
###
###   /home/biocbuild/R/R/bin/R CMD INSTALL Mergeomics
###
##############################################################################
##############################################################################


* installing to library ‘/home/biocbuild/R/R-4.5.0/site-library’
* installing *source* package ‘Mergeomics’ ...
** this is package ‘Mergeomics’ version ‘1.38.0’
** using staged installation
** R
** data
** inst
** byte-compile and prepare package for lazy loading
** help
*** installing help indices
** building package indices
** installing vignettes
** testing if installed package can be loaded from temporary location
** testing if installed package can be loaded from final location
** testing if installed package keeps a record of temporary installation path
* DONE (Mergeomics)

Tests output

Mergeomics.Rcheck/tests/runTests.Rout


R version 4.5.0 (2025-04-11) -- "How About a Twenty-Six"
Copyright (C) 2025 The R Foundation for Statistical Computing
Platform: aarch64-unknown-linux-gnu

R is free software and comes with ABSOLUTELY NO WARRANTY.
You are welcome to redistribute it under certain conditions.
Type 'license()' or 'licence()' for distribution details.

R is a collaborative project with many contributors.
Type 'contributors()' for more information and
'citation()' on how to cite R or R packages in publications.

Type 'demo()' for some demos, 'help()' for on-line help, or
'help.start()' for an HTML browser interface to help.
Type 'q()' to quit R.

> BiocGenerics:::testPackage("Mergeomics")

KDA Version:12.7.2015

Parameters:
  Search depth: 1
  Search direction: 1
  Maximum overlap: 0.33
  Minimum module size: 20
  Minimum degree: automatic
  Maximum degree: automatic
  Edge factor: 0
  Random seed: 1

Importing edges...
     TAIL               HEAD               WEIGHT 
 Length:140663      Length:140663      Min.   :1  
 Class :character   Class :character   1st Qu.:1  
 Mode  :character   Mode  :character   Median :1  
                                       Mean   :1  
                                       3rd Qu.:1  
                                       Max.   :1  

Importing modules...
    MODULE              NODE          
 Length:1643        Length:1643       
 Class :character   Class :character  
 Mode  :character   Mode  :character  
Graph: 7.694687 Mb

Minimum degree set to 20 

Maximum degree set to 278 

Collecting hubs...
4876 hubs (25.21%)
Graph: 13.28768 Mb

Analyzing network...
6675: Dhcr7, n=114, p=2.24e-17
6648: Cit, n=20, p=7.89e-01
6643: Pbx4, n=23, p=2.32e-05
5582: Sypl, n=319, p=2.02e-02
4746: Tcf7l2, n=73, p=2.63e-02
4708: Tpte, n=86, p=5.05e-02
4511: Pzp, n=160, p=8.85e-03
4464: Tsc22d3, n=487, p=4.28e-13
4407: Dntt, n=93, p=2.40e-20
4360: Amica1, n=132, p=1.06e-06
4588,..: Lrg1, n=86, p=5.76e-12

MSEA Version:01.04.2016

Parameters:
  Permutation type: gene
  Permutations: 100
  Random seed: 1
  Minimum gene count: 10
  Maximum gene count: 500
  Maximum overlap between genes: 0.33

Importing modules...
    MODULE             DESCR          
 Length:20          Length:20         
 Class :character   Class :character  
 Mode  :character   Mode  :character  
    MODULE              GENE          
 Length:2906        Length:2906       
 Class :character   Class :character  
 Mode  :character   Mode  :character  

Importing marker values...
    MARKER              VALUE         
 Length:76866       Min.   :  0.8094  
 Class :character   1st Qu.:  0.9450  
 Mode  :character   Median :  1.1374  
                    Mean   :  1.3944  
                    3rd Qu.:  1.4688  
                    Max.   :323.0100  

Importing mapping data...
     GENE              MARKER         
 Length:132705      Length:132705     
 Class :character   Class :character  
 Mode  :character   Mode  :character  

Merging genes containing shared markers...
WARNING! Limited overlap analysis due to large number of groups.

77543/1673535 
152759/1673535 
227994/1673535 
305069/1673535 
382609/1673535 
458801/1673535 
533932/1673535 
612196/1673535 
690551/1673535 
768866/1673535 
846312/1673535 
921076/1673535 
997626/1673535 
1077026/1673535 
1155440/1673535 
1232164/1673535 
1308453/1673535 
1384676/1673535 
1462171/1673535 
1539441/1673535 
1616096/1673535 
1673535 comparisons

21115 comparisons

13861 comparisons

12880 comparisons
Job: 11.66891 Mb

Preparing data structures...
Job: 17.11776 Mb

Adding positive controls...
Job: 17.42039 Mb

Estimating enrichment...
44/100 cycles
90/100 cycles
100/100 cycles

Normalizing scores...


RUNIT TEST PROTOCOL -- Tue Nov 18 11:50:55 2025 
*********************************************** 
Number of test functions: 2 
Number of errors: 0 
Number of failures: 0 

 
1 Test Suite : 
Mergeomics RUnit Tests - 2 test functions, 0 errors, 0 failures
Number of test functions: 2 
Number of errors: 0 
Number of failures: 0 
> 
> proc.time()
   user  system elapsed 
693.944   0.318 695.914 

Example timings

Mergeomics.Rcheck/Mergeomics-Ex.timings

nameusersystemelapsed
MSEA.KDA.onestep0.0030.0000.003
job.kda0.0160.0000.016
kda.analyze0.0090.0000.011
kda.analyze.exec11.081 0.03211.147
kda.analyze.simulate11.214 0.02411.269
kda.analyze.test11.084 0.00411.120
kda.configure0.0000.0000.001
kda.finish0.1290.0000.130
kda.finish.estimate0.0660.0030.069
kda.finish.save0.0690.0000.069
kda.finish.summarize0.0690.0000.069
kda.finish.trim0.0690.0000.070
kda.prepare10.928 0.00410.963
kda.prepare.overlap0.0000.0000.001
kda.prepare.screen000
kda.start1.5640.0041.571
kda.start.edges0.0020.0000.001
kda.start.identify0.0050.0000.005
kda.start.modules0.0020.0000.001
kda2cytoscape0.3930.0040.397
kda2cytoscape.colorize000
kda2cytoscape.colormap0.0000.0000.001
kda2cytoscape.drivers0.1260.0000.127
kda2cytoscape.edges0.1330.0040.137
kda2cytoscape.exec0.1490.0000.150
kda2cytoscape.identify0.0040.0000.004
kda2himmeli0.4080.0040.415
kda2himmeli.colorize000
kda2himmeli.colormap0.0010.0000.001
kda2himmeli.drivers0.1230.0000.124
kda2himmeli.edges0.1240.0070.131
kda2himmeli.exec0.2130.0000.213
kda2himmeli.identify0.0040.0000.004
ssea.analyze8.5560.0088.589
ssea.analyze.observe5.2470.0005.257
ssea.analyze.randgenes5.8870.0045.904
ssea.analyze.randloci5.2130.0085.233
ssea.analyze.simulate8.5000.0168.535
ssea.analyze.statistic000
ssea.control5.2260.0045.244
ssea.finish8.8170.0048.844
ssea.finish.details9.0180.0209.060
ssea.finish.fdr8.4830.0128.516
ssea.finish.genes8.9640.0088.995
ssea.meta8.3420.0168.389
ssea.prepare5.3130.0085.337
ssea.prepare.counts4.7100.0004.724
ssea.prepare.structure5.0240.0045.044
ssea.start4.7980.0004.813
ssea.start.configure0.3400.0000.341
ssea.start.identify0.0040.0000.004
ssea.start.relabel4.8530.0044.872
ssea2kda12.685 0.02012.744
ssea2kda.analyze12.626 0.00012.664
ssea2kda.import9.3210.0169.364
tool.aggregate0.0010.0000.002
tool.cluster0.0220.0000.023
tool.cluster.static0.0010.0000.001
tool.coalesce0.060.000.06
tool.coalesce.exec0.1840.0000.185
tool.coalesce.find0.1650.0040.168
tool.coalesce.merge0.1690.0000.170
tool.fdr0.0000.0000.001
tool.fdr.bh0.0000.0000.001
tool.fdr.empirical0.0000.0010.001
tool.graph1.2640.0011.267
tool.graph.degree1.2960.0041.302
tool.graph.list1.2220.0001.224
tool.metap0.0040.0000.003
tool.normalize0.0160.0000.015
tool.normalize.quality0.0120.0000.011
tool.overlap0.0080.0000.008
tool.read0.2120.0040.217
tool.save0.0010.0000.001
tool.subgraph0.0710.0000.072
tool.subgraph.find0.070.000.07
tool.subgraph.search0.0710.0000.071
tool.subgraph.stats0.0770.0080.086
tool.translate0.0340.0000.033
tool.unify0.0020.0000.001