Back to Multiple platform build/check report for BioC 3.22:   simplified   long
ABCDEFGH[I]JKLMNOPQRSTUVWXYZ

This page was generated on 2025-11-20 12:03 -0500 (Thu, 20 Nov 2025).

HostnameOSArch (*)R versionInstalled pkgs
nebbiolo2Linux (Ubuntu 24.04.3 LTS)x86_644.5.2 (2025-10-31) -- "[Not] Part in a Rumble" 4615
merida1macOS 12.7.6 Montereyx86_644.5.2 Patched (2025-11-05 r88990) -- "[Not] Part in a Rumble" 4610
kjohnson1macOS 13.7.5 Venturaarm644.5.2 Patched (2025-11-04 r88984) -- "[Not] Part in a Rumble" 4598
taishanLinux (openEuler 24.03 LTS)aarch644.5.0 (2025-04-11) -- "How About a Twenty-Six" 4668
Click on any hostname to see more info about the system (e.g. compilers)      (*) as reported by 'uname -p', except on Windows and Mac OS X

Package 1081/2361HostnameOS / ArchINSTALLBUILDCHECKBUILD BIN
ISAnalytics 1.20.0  (landing page)
Francesco Gazzo
Snapshot Date: 2025-11-17 13:45 -0500 (Mon, 17 Nov 2025)
git_url: https://git.bioconductor.org/packages/ISAnalytics
git_branch: RELEASE_3_22
git_last_commit: 72d44b9
git_last_commit_date: 2025-10-29 11:01:52 -0500 (Wed, 29 Oct 2025)
nebbiolo2Linux (Ubuntu 24.04.3 LTS) / x86_64  OK    OK    OK  UNNEEDED, same version is already published
merida1macOS 12.7.6 Monterey / x86_64  OK    OK    OK    OK  UNNEEDED, same version is already published
kjohnson1macOS 13.7.5 Ventura / arm64  OK    OK    OK    OK  UNNEEDED, same version is already published
taishanLinux (openEuler 24.03 LTS) / aarch64  OK    OK    OK  


CHECK results for ISAnalytics on nebbiolo2

To the developers/maintainers of the ISAnalytics package:
- Allow up to 24 hours (and sometimes 48 hours) for your latest push to git@git.bioconductor.org:packages/ISAnalytics.git to reflect on this report. See Troubleshooting Build Report for more information.
- Use the following Renviron settings to reproduce errors and warnings.
- If 'R CMD check' started to fail recently on the Linux builder(s) over a missing dependency, add the missing dependency to 'Suggests:' in your DESCRIPTION file. See Renviron.bioc for more information.

raw results


Summary

Package: ISAnalytics
Version: 1.20.0
Command: /home/biocbuild/bbs-3.22-bioc/R/bin/R CMD check --install=check:ISAnalytics.install-out.txt --library=/home/biocbuild/bbs-3.22-bioc/R/site-library --timings ISAnalytics_1.20.0.tar.gz
StartedAt: 2025-11-18 05:15:54 -0500 (Tue, 18 Nov 2025)
EndedAt: 2025-11-18 05:26:00 -0500 (Tue, 18 Nov 2025)
EllapsedTime: 605.7 seconds
RetCode: 0
Status:   OK  
CheckDir: ISAnalytics.Rcheck
Warnings: 0

Command output

##############################################################################
##############################################################################
###
### Running command:
###
###   /home/biocbuild/bbs-3.22-bioc/R/bin/R CMD check --install=check:ISAnalytics.install-out.txt --library=/home/biocbuild/bbs-3.22-bioc/R/site-library --timings ISAnalytics_1.20.0.tar.gz
###
##############################################################################
##############################################################################


* using log directory ‘/home/biocbuild/bbs-3.22-bioc/meat/ISAnalytics.Rcheck’
* using R version 4.5.2 (2025-10-31)
* using platform: x86_64-pc-linux-gnu
* R was compiled by
    gcc (Ubuntu 13.3.0-6ubuntu2~24.04) 13.3.0
    GNU Fortran (Ubuntu 13.3.0-6ubuntu2~24.04) 13.3.0
* running under: Ubuntu 24.04.3 LTS
* using session charset: UTF-8
* checking for file ‘ISAnalytics/DESCRIPTION’ ... OK
* this is package ‘ISAnalytics’ version ‘1.20.0’
* package encoding: UTF-8
* checking package namespace information ... OK
* checking package dependencies ... INFO
Imports includes 22 non-default packages.
Importing from so many packages makes the package vulnerable to any of
them becoming unavailable.  Move as many as possible to Suggests and
use conditionally.
* checking if this is a source package ... OK
* checking if there is a namespace ... OK
* checking for hidden files and directories ... OK
* checking for portable file names ... OK
* checking for sufficient/correct file permissions ... OK
* checking whether package ‘ISAnalytics’ can be installed ... OK
* checking installed package size ... INFO
  installed size is  8.2Mb
  sub-directories of 1Mb or more:
    data   5.8Mb
* checking package directory ... OK
* checking ‘build’ directory ... OK
* checking DESCRIPTION meta-information ... OK
* checking top-level files ... OK
* checking for left-over files ... OK
* checking index information ... OK
* checking package subdirectories ... OK
* checking code files for non-ASCII characters ... OK
* checking R files for syntax errors ... OK
* checking whether the package can be loaded ... OK
* checking whether the package can be loaded with stated dependencies ... OK
* checking whether the package can be unloaded cleanly ... OK
* checking whether the namespace can be loaded with stated dependencies ... OK
* checking whether the namespace can be unloaded cleanly ... OK
* checking loading without being on the library search path ... OK
* checking whether startup messages can be suppressed ... OK
* checking dependencies in R code ... OK
* checking S3 generic/method consistency ... OK
* checking replacement functions ... OK
* checking foreign function calls ... OK
* checking R code for possible problems ... OK
* checking Rd files ... NOTE
checkRd: (-1) refGenes_hg19.Rd:21: Lost braces; missing escapes or markup?
    21 | \item Download from {http://hgdownload.soe.ucsc.edu/goldenPath/hg19/database/}
       |                     ^
* checking Rd metadata ... OK
* checking Rd cross-references ... OK
* checking for missing documentation entries ... OK
* checking for code/documentation mismatches ... OK
* checking Rd \usage sections ... OK
* checking Rd contents ... OK
* checking for unstated dependencies in examples ... OK
* checking contents of ‘data’ directory ... OK
* checking data for non-ASCII characters ... OK
* checking data for ASCII and uncompressed saves ... OK
* checking files in ‘vignettes’ ... OK
* checking examples ... OK
Examples with CPU (user + system) or elapsed time > 5s
                                user system elapsed
sharing_venn                   3.986  0.299  29.489
integration_alluvial_plot      3.834  0.281  10.614
import_parallel_Vispa2Matrices 2.977  0.239  16.198
sharing_heatmap                2.165  0.165  10.766
top_cis_overtime_heatmap       1.862  0.241   8.905
import_Vispa2_stats            1.712  0.242   7.702
CIS_grubbs_overtime            1.683  0.150   7.112
is_sharing                     1.452  0.093   8.946
iss_source                     1.451  0.084   8.339
realign_after_collisions       1.296  0.166   7.555
HSC_population_plot            1.341  0.025   6.463
remove_collisions              1.259  0.053   6.954
HSC_population_size_estimate   1.043  0.104   6.312
compute_near_integrations      0.995  0.075   8.113
* checking for unstated dependencies in ‘tests’ ... OK
* checking tests ...
  Running ‘testthat.R’
 OK
* checking for unstated dependencies in vignettes ... OK
* checking package vignettes ... OK
* checking re-building of vignette outputs ... OK
* checking PDF version of manual ... OK
* DONE

Status: 1 NOTE
See
  ‘/home/biocbuild/bbs-3.22-bioc/meat/ISAnalytics.Rcheck/00check.log’
for details.


Installation output

ISAnalytics.Rcheck/00install.out

##############################################################################
##############################################################################
###
### Running command:
###
###   /home/biocbuild/bbs-3.22-bioc/R/bin/R CMD INSTALL ISAnalytics
###
##############################################################################
##############################################################################


* installing to library ‘/home/biocbuild/bbs-3.22-bioc/R/site-library’
* installing *source* package ‘ISAnalytics’ ...
** this is package ‘ISAnalytics’ version ‘1.20.0’
** using staged installation
** R
** data
** inst
** byte-compile and prepare package for lazy loading
** help
*** installing help indices
*** copying figures
** building package indices
** installing vignettes
** testing if installed package can be loaded from temporary location
** testing if installed package can be loaded from final location
** testing if installed package keeps a record of temporary installation path
* DONE (ISAnalytics)

Tests output

ISAnalytics.Rcheck/tests/testthat.Rout


R version 4.5.2 (2025-10-31) -- "[Not] Part in a Rumble"
Copyright (C) 2025 The R Foundation for Statistical Computing
Platform: x86_64-pc-linux-gnu

R is free software and comes with ABSOLUTELY NO WARRANTY.
You are welcome to redistribute it under certain conditions.
Type 'license()' or 'licence()' for distribution details.

R is a collaborative project with many contributors.
Type 'contributors()' for more information and
'citation()' on how to cite R or R packages in publications.

Type 'demo()' for some demos, 'help()' for on-line help, or
'help.start()' for an HTML browser interface to help.
Type 'q()' to quit R.

> library(testthat)
> library(ISAnalytics)
> 
> test_check("ISAnalytics")
Loading required namespace: plotly
Loading required namespace: rmarkdown
Report correctly saved
i Report saved to: /tmp/Rtmpxu8ntl/fileb4d8f3fed61ff/2025-11-18_collision_removal_report.html
Report correctly saved
i Report saved to: /tmp/Rtmpxu8ntl/fileb4d8f3d19e794/2025-11-18_outlier_test_pool_fragments_report.html
[ FAIL 0 | WARN 0 | SKIP 0 | PASS 834 ]
> 
> proc.time()
   user  system elapsed 
101.631   6.730 283.531 

Example timings

ISAnalytics.Rcheck/ISAnalytics-Ex.timings

nameusersystemelapsed
CIS_grubbs0.7730.0470.820
CIS_grubbs_overtime1.6830.1507.112
CIS_volcano_plot1.4520.0671.518
HSC_population_plot1.3410.0256.463
HSC_population_size_estimate1.0430.1046.312
NGSdataExplorer000
aggregate_metadata0.1000.0010.101
aggregate_values_by_key0.0650.0000.065
annotation_issues0.0280.0000.028
as_sparse_matrix0.0520.0000.052
available_outlier_tests000
available_tags0.0220.0000.022
blood_lineages_default0.0280.0000.028
circos_genomic_density000
clinical_relevant_suspicious_genes0.0120.0000.012
comparison_matrix0.0270.0010.028
compute_abundance0.0350.0010.036
compute_near_integrations0.9950.0758.113
cumulative_count_union000
cumulative_is0.1510.0010.151
date_formats0.0000.0000.001
default_af_transform0.0010.0000.000
default_iss_file_prefixes000
default_meta_agg0.0160.0000.016
default_rec_agg_lambdas000
default_report_path0.0060.0000.007
default_stats1.0580.0191.078
enable_progress_bars0.0150.0000.016
export_ISA_settings0.0690.0050.075
fisher_scatterplot1.0960.0801.177
gene_frequency_fisher0.8460.0170.863
generate_Vispa2_launch_AF0.1770.0340.209
generate_blank_association_file0.0130.0020.015
generate_default_folder_structure0.3390.0850.423
import_ISA_settings0.0510.0130.064
import_Vispa2_stats1.7120.2427.702
import_association_file0.5300.1280.659
import_parallel_Vispa2Matrices 2.977 0.23916.198
import_single_Vispa2Matrix0.8440.1480.995
inspect_tags0.0130.0000.013
integration_alluvial_plot 3.834 0.28110.614
is_sharing1.4520.0938.946
iss_source1.4510.0848.339
known_clinical_oncogenes0.0090.0050.014
mandatory_IS_vars0.0890.0040.093
matching_options000
outlier_filter0.1370.0090.146
outliers_by_pool_fragments0.1470.0110.159
pcr_id_column0.0180.0010.019
purity_filter0.3120.0240.335
quantification_types000
realign_after_collisions1.2960.1667.555
reduced_AF_columns0.0400.0010.042
refGene_table_cols000
remove_collisions1.2590.0536.954
reset_mandatory_IS_vars0.0050.0000.004
sample_statistics0.2890.0080.298
separate_quant_matrices0.0160.0010.016
set_mandatory_IS_vars0.0840.0050.090
set_matrix_file_suffixes0.0190.0010.019
sharing_heatmap 2.165 0.16510.766
sharing_venn 3.986 0.29929.489
threshold_filter000
top_abund_tableGrob0.5780.0010.579
top_cis_overtime_heatmap1.8620.2418.905
top_integrations0.0290.0010.030
top_targeted_genes0.4590.0210.480
transform_columns0.0210.0010.022