| Back to Multiple platform build/check report for BioC 3.22: simplified long |
|
This page was generated on 2025-11-17 11:58 -0500 (Mon, 17 Nov 2025).
| Hostname | OS | Arch (*) | R version | Installed pkgs |
|---|---|---|---|---|
| nebbiolo2 | Linux (Ubuntu 24.04.3 LTS) | x86_64 | 4.5.1 Patched (2025-08-23 r88802) -- "Great Square Root" | 4903 |
| taishan | Linux (openEuler 24.03 LTS) | aarch64 | 4.5.0 (2025-04-11) -- "How About a Twenty-Six" | 4668 |
| Click on any hostname to see more info about the system (e.g. compilers) (*) as reported by 'uname -p', except on Windows and Mac OS X | ||||
| Package 978/2361 | Hostname | OS / Arch | INSTALL | BUILD | CHECK | BUILD BIN | ||||||||
| HiCBricks 1.28.0 (landing page) Koustav Pal
| nebbiolo2 | Linux (Ubuntu 24.04.3 LTS) / x86_64 | OK | OK | OK | |||||||||
| taishan | Linux (openEuler 24.03 LTS) / aarch64 | OK | OK | OK | ||||||||||
|
To the developers/maintainers of the HiCBricks package: - Allow up to 24 hours (and sometimes 48 hours) for your latest push to git@git.bioconductor.org:packages/HiCBricks.git to reflect on this report. See Troubleshooting Build Report for more information. - Use the following Renviron settings to reproduce errors and warnings. - If 'R CMD check' started to fail recently on the Linux builder(s) over a missing dependency, add the missing dependency to 'Suggests:' in your DESCRIPTION file. See Renviron.bioc for more information. |
| Package: HiCBricks |
| Version: 1.28.0 |
| Command: /home/biocbuild/bbs-3.22-bioc/R/bin/R CMD check --install=check:HiCBricks.install-out.txt --library=/home/biocbuild/bbs-3.22-bioc/R/site-library --timings HiCBricks_1.28.0.tar.gz |
| StartedAt: 2025-11-17 00:37:14 -0500 (Mon, 17 Nov 2025) |
| EndedAt: 2025-11-17 00:40:46 -0500 (Mon, 17 Nov 2025) |
| EllapsedTime: 212.2 seconds |
| RetCode: 0 |
| Status: OK |
| CheckDir: HiCBricks.Rcheck |
| Warnings: 0 |
##############################################################################
##############################################################################
###
### Running command:
###
### /home/biocbuild/bbs-3.22-bioc/R/bin/R CMD check --install=check:HiCBricks.install-out.txt --library=/home/biocbuild/bbs-3.22-bioc/R/site-library --timings HiCBricks_1.28.0.tar.gz
###
##############################################################################
##############################################################################
* using log directory ‘/home/biocbuild/bbs-3.22-bioc/meat/HiCBricks.Rcheck’
* using R version 4.5.1 Patched (2025-08-23 r88802)
* using platform: x86_64-pc-linux-gnu
* R was compiled by
gcc (Ubuntu 13.3.0-6ubuntu2~24.04) 13.3.0
GNU Fortran (Ubuntu 13.3.0-6ubuntu2~24.04) 13.3.0
* running under: Ubuntu 24.04.3 LTS
* using session charset: UTF-8
* checking for file ‘HiCBricks/DESCRIPTION’ ... OK
* checking extension type ... Package
* this is package ‘HiCBricks’ version ‘1.28.0’
* package encoding: UTF-8
* checking package namespace information ... OK
* checking package dependencies ... OK
* checking if this is a source package ... OK
* checking if there is a namespace ... OK
* checking for hidden files and directories ... OK
* checking for portable file names ... OK
* checking for sufficient/correct file permissions ... OK
* checking whether package ‘HiCBricks’ can be installed ... OK
* checking installed package size ... OK
* checking package directory ... OK
* checking ‘build’ directory ... OK
* checking DESCRIPTION meta-information ... OK
* checking top-level files ... OK
* checking for left-over files ... OK
* checking index information ... OK
* checking package subdirectories ... OK
* checking code files for non-ASCII characters ... OK
* checking R files for syntax errors ... OK
* checking whether the package can be loaded ... OK
* checking whether the package can be loaded with stated dependencies ... OK
* checking whether the package can be unloaded cleanly ... OK
* checking whether the namespace can be loaded with stated dependencies ... OK
* checking whether the namespace can be unloaded cleanly ... OK
* checking loading without being on the library search path ... OK
* checking dependencies in R code ... OK
* checking S3 generic/method consistency ... OK
* checking replacement functions ... OK
* checking foreign function calls ... OK
* checking R code for possible problems ... OK
* checking Rd files ... OK
* checking Rd metadata ... OK
* checking Rd cross-references ... OK
* checking for missing documentation entries ... OK
* checking for code/documentation mismatches ... OK
* checking Rd \usage sections ... OK
* checking Rd contents ... OK
* checking for unstated dependencies in examples ... OK
* checking files in ‘vignettes’ ... OK
* checking examples ... OK
* checking for unstated dependencies in vignettes ... OK
* checking package vignettes ... OK
* checking re-building of vignette outputs ... OK
* checking PDF version of manual ... OK
* DONE
Status: OK
HiCBricks.Rcheck/00install.out
############################################################################## ############################################################################## ### ### Running command: ### ### /home/biocbuild/bbs-3.22-bioc/R/bin/R CMD INSTALL HiCBricks ### ############################################################################## ############################################################################## * installing to library ‘/home/biocbuild/bbs-3.22-bioc/R/site-library’ * installing *source* package ‘HiCBricks’ ... ** this is package ‘HiCBricks’ version ‘1.28.0’ ** using staged installation ** R ** inst ** byte-compile and prepare package for lazy loading ** help *** installing help indices ** building package indices ** installing vignettes ** testing if installed package can be loaded from temporary location ** testing if installed package can be loaded from final location ** testing if installed package keeps a record of temporary installation path * DONE (HiCBricks)
HiCBricks.Rcheck/HiCBricks-Ex.timings
| name | user | system | elapsed | |
| BrickContainer_change_experiment_name | 1.200 | 0.028 | 1.234 | |
| BrickContainer_change_output_directory | 0.981 | 0.022 | 1.006 | |
| BrickContainer_get_path_to_file | 0.961 | 0.006 | 0.969 | |
| BrickContainer_list_chromosomes | 0.838 | 0.202 | 1.080 | |
| BrickContainer_list_experiment_name | 0.770 | 0.063 | 0.837 | |
| BrickContainer_list_files | 0.818 | 0.048 | 0.869 | |
| BrickContainer_list_output_directory | 0.782 | 0.010 | 0.795 | |
| BrickContainer_list_resolutions | 0.771 | 0.050 | 0.823 | |
| BrickContainer_unlink_resolution | 1.672 | 0.073 | 1.751 | |
| Brick_add_ranges | 2.065 | 0.065 | 2.139 | |
| Brick_call_compartments | 1.307 | 0.070 | 1.379 | |
| Brick_export_to_sparse | 2.314 | 0.072 | 2.390 | |
| Brick_fetch_range_index | 1.503 | 0.079 | 1.584 | |
| Brick_fetch_row_vector | 1.410 | 0.065 | 1.477 | |
| Brick_get_bintable | 0.847 | 0.011 | 0.864 | |
| Brick_get_chrominfo | 0.823 | 0.059 | 0.885 | |
| Brick_get_entire_matrix | 1.216 | 0.063 | 1.282 | |
| Brick_get_matrix | 1.150 | 0.030 | 1.183 | |
| Brick_get_matrix_mcols | 1.141 | 0.032 | 1.175 | |
| Brick_get_matrix_within_coords | 1.716 | 0.029 | 1.748 | |
| Brick_get_ranges | 0.880 | 0.018 | 0.900 | |
| Brick_get_values_by_distance | 1.416 | 0.022 | 1.447 | |
| Brick_get_vector_values | 1.139 | 0.060 | 1.202 | |
| Brick_list_matrices | 0.823 | 0.017 | 0.843 | |
| Brick_list_matrix_mcols | 0.797 | 0.010 | 0.811 | |
| Brick_list_mcool_normalisations | 0.000 | 0.000 | 0.001 | |
| Brick_list_mcool_resolutions | 0.001 | 0.000 | 0.000 | |
| Brick_list_rangekeys | 0.806 | 0.007 | 0.815 | |
| Brick_list_ranges_mcols | 0.757 | 0.009 | 0.768 | |
| Brick_load_cis_matrix_till_distance | 1.054 | 0.018 | 1.088 | |
| Brick_load_data_from_mcool | 0 | 0 | 0 | |
| Brick_load_data_from_sparse | 0 | 0 | 0 | |
| Brick_load_matrix | 1.059 | 0.020 | 1.081 | |
| Brick_local_score_differentiator | 1.731 | 0.044 | 1.779 | |
| Brick_make_ranges | 0.008 | 0.000 | 0.008 | |
| Brick_matrix_dimensions | 1.047 | 0.213 | 1.262 | |
| Brick_matrix_exists | 0.980 | 0.023 | 1.006 | |
| Brick_matrix_filename | 0.970 | 0.021 | 0.994 | |
| Brick_matrix_isdone | 1.089 | 0.024 | 1.126 | |
| Brick_matrix_issparse | 0.963 | 0.033 | 0.999 | |
| Brick_matrix_maxdist | 0.978 | 0.027 | 1.007 | |
| Brick_matrix_minmax | 0.965 | 0.021 | 0.988 | |
| Brick_mcool_normalisation_exists | 0 | 0 | 0 | |
| Brick_rangekey_exists | 0.735 | 0.022 | 0.760 | |
| Brick_return_region_position | 0.919 | 0.016 | 0.939 | |
| Brick_vizart_plot_heatmap | 2.031 | 0.033 | 2.066 | |
| Create_many_Bricks | 0.757 | 0.013 | 0.773 | |
| Create_many_Bricks_from_mcool | 0 | 0 | 0 | |
| load_BrickContainer | 0.806 | 0.016 | 0.827 | |