| Back to Multiple platform build/check report for BioC 3.22: simplified long |
|
This page was generated on 2025-11-10 12:51 -0500 (Mon, 10 Nov 2025).
| Hostname | OS | Arch (*) | R version | Installed pkgs |
|---|---|---|---|---|
| nebbiolo2 | Linux (Ubuntu 24.04.3 LTS) | x86_64 | 4.5.1 Patched (2025-08-23 r88802) -- "Great Square Root" | 4902 |
| kjohnson3 | macOS 13.7.7 Ventura | arm64 | 4.5.1 Patched (2025-09-10 r88807) -- "Great Square Root" | 4638 |
| Click on any hostname to see more info about the system (e.g. compilers) (*) as reported by 'uname -p', except on Windows and Mac OS X | ||||
| Package 838/2361 | Hostname | OS / Arch | INSTALL | BUILD | CHECK | BUILD BIN | ||||||||
| GenomAutomorphism 1.12.0 (landing page) Robersy Sanchez
| nebbiolo2 | Linux (Ubuntu 24.04.3 LTS) / x86_64 | OK | OK | OK | |||||||||
| kjohnson3 | macOS 13.7.7 Ventura / arm64 | OK | OK | OK | OK | |||||||||
|
To the developers/maintainers of the GenomAutomorphism package: - Allow up to 24 hours (and sometimes 48 hours) for your latest push to git@git.bioconductor.org:packages/GenomAutomorphism.git to reflect on this report. See Troubleshooting Build Report for more information. - Use the following Renviron settings to reproduce errors and warnings. - If 'R CMD check' started to fail recently on the Linux builder(s) over a missing dependency, add the missing dependency to 'Suggests:' in your DESCRIPTION file. See Renviron.bioc for more information. |
| Package: GenomAutomorphism |
| Version: 1.12.0 |
| Command: /Library/Frameworks/R.framework/Resources/bin/R CMD check --install=check:GenomAutomorphism.install-out.txt --library=/Library/Frameworks/R.framework/Resources/library --no-vignettes --timings GenomAutomorphism_1.12.0.tar.gz |
| StartedAt: 2025-11-09 19:58:17 -0500 (Sun, 09 Nov 2025) |
| EndedAt: 2025-11-09 20:00:33 -0500 (Sun, 09 Nov 2025) |
| EllapsedTime: 135.6 seconds |
| RetCode: 0 |
| Status: OK |
| CheckDir: GenomAutomorphism.Rcheck |
| Warnings: 0 |
##############################################################################
##############################################################################
###
### Running command:
###
### /Library/Frameworks/R.framework/Resources/bin/R CMD check --install=check:GenomAutomorphism.install-out.txt --library=/Library/Frameworks/R.framework/Resources/library --no-vignettes --timings GenomAutomorphism_1.12.0.tar.gz
###
##############################################################################
##############################################################################
* using log directory ‘/Users/biocbuild/bbs-3.22-bioc/meat/GenomAutomorphism.Rcheck’
* using R version 4.5.1 Patched (2025-09-10 r88807)
* using platform: aarch64-apple-darwin20
* R was compiled by
Apple clang version 16.0.0 (clang-1600.0.26.6)
GNU Fortran (GCC) 14.2.0
* running under: macOS Ventura 13.7.7
* using session charset: UTF-8
* using option ‘--no-vignettes’
* checking for file ‘GenomAutomorphism/DESCRIPTION’ ... OK
* this is package ‘GenomAutomorphism’ version ‘1.12.0’
* package encoding: UTF-8
* checking package namespace information ... OK
* checking package dependencies ... OK
* checking if this is a source package ... OK
* checking if there is a namespace ... OK
* checking for hidden files and directories ... OK
* checking for portable file names ... OK
* checking for sufficient/correct file permissions ... OK
* checking whether package ‘GenomAutomorphism’ can be installed ... OK
* checking installed package size ... OK
* checking package directory ... OK
* checking ‘build’ directory ... OK
* checking DESCRIPTION meta-information ... OK
* checking top-level files ... OK
* checking for left-over files ... OK
* checking index information ... OK
* checking package subdirectories ... OK
* checking code files for non-ASCII characters ... OK
* checking R files for syntax errors ... OK
* checking whether the package can be loaded ... OK
* checking whether the package can be loaded with stated dependencies ... OK
* checking whether the package can be unloaded cleanly ... OK
* checking whether the namespace can be loaded with stated dependencies ... OK
* checking whether the namespace can be unloaded cleanly ... OK
* checking dependencies in R code ... OK
* checking S3 generic/method consistency ... OK
* checking replacement functions ... OK
* checking foreign function calls ... OK
* checking R code for possible problems ... OK
* checking Rd files ... OK
* checking Rd metadata ... OK
* checking Rd cross-references ... NOTE
Non-topic package-anchored link(s) in Rd file 'reexports.Rd':
‘[S4Vectors:S4Vectors-internals]{setValidity2}’
See section 'Cross-references' in the 'Writing R Extensions' manual.
* checking for missing documentation entries ... OK
* checking for code/documentation mismatches ... OK
* checking Rd \usage sections ... OK
* checking Rd contents ... OK
* checking for unstated dependencies in examples ... OK
* checking contents of ‘data’ directory ... OK
* checking data for non-ASCII characters ... OK
* checking data for ASCII and uncompressed saves ... OK
* checking files in ‘vignettes’ ... OK
* checking examples ... OK
Examples with CPU (user + system) or elapsed time > 5s
user system elapsed
automorphisms 2.513 0.065 20.772
autZ64 0.873 0.019 6.959
autZ125 0.738 0.017 5.375
aut3D 0.701 0.045 6.618
autZ5 0.549 0.018 6.539
* checking for unstated dependencies in ‘tests’ ... OK
* checking tests ...
Running ‘spelling.R’
Running ‘testthat.R’
OK
* checking for unstated dependencies in vignettes ... OK
* checking package vignettes ... OK
* checking running R code from vignettes ... SKIPPED
* checking re-building of vignette outputs ... SKIPPED
* checking PDF version of manual ... OK
* DONE
Status: 1 NOTE
See
‘/Users/biocbuild/bbs-3.22-bioc/meat/GenomAutomorphism.Rcheck/00check.log’
for details.
GenomAutomorphism.Rcheck/00install.out
############################################################################## ############################################################################## ### ### Running command: ### ### /Library/Frameworks/R.framework/Resources/bin/R CMD INSTALL GenomAutomorphism ### ############################################################################## ############################################################################## * installing to library ‘/Library/Frameworks/R.framework/Versions/4.5-arm64/Resources/library’ * installing *source* package ‘GenomAutomorphism’ ... ** this is package ‘GenomAutomorphism’ version ‘1.12.0’ ** using staged installation ** R ** data ** inst ** byte-compile and prepare package for lazy loading ** help *** installing help indices *** copying figures ** building package indices ** installing vignettes ** testing if installed package can be loaded from temporary location ** testing if installed package can be loaded from final location ** testing if installed package keeps a record of temporary installation path * DONE (GenomAutomorphism)
GenomAutomorphism.Rcheck/tests/spelling.Rout
R version 4.5.1 Patched (2025-09-10 r88807) -- "Great Square Root"
Copyright (C) 2025 The R Foundation for Statistical Computing
Platform: aarch64-apple-darwin20
R is free software and comes with ABSOLUTELY NO WARRANTY.
You are welcome to redistribute it under certain conditions.
Type 'license()' or 'licence()' for distribution details.
R is a collaborative project with many contributors.
Type 'contributors()' for more information and
'citation()' on how to cite R or R packages in publications.
Type 'demo()' for some demos, 'help()' for on-line help, or
'help.start()' for an HTML browser interface to help.
Type 'q()' to quit R.
> if (requireNamespace("spelling", quietly = TRUE)) {
+ spelling::spell_check_test(
+ vignettes = TRUE, error = FALSE,
+ skip_on_cran = TRUE
+ )
+ }
All Done!
>
> proc.time()
user system elapsed
0.067 0.019 0.082
GenomAutomorphism.Rcheck/tests/testthat.Rout
R version 4.5.1 Patched (2025-09-10 r88807) -- "Great Square Root"
Copyright (C) 2025 The R Foundation for Statistical Computing
Platform: aarch64-apple-darwin20
R is free software and comes with ABSOLUTELY NO WARRANTY.
You are welcome to redistribute it under certain conditions.
Type 'license()' or 'licence()' for distribution details.
R is a collaborative project with many contributors.
Type 'contributors()' for more information and
'citation()' on how to cite R or R packages in publications.
Type 'demo()' for some demos, 'help()' for on-line help, or
'help.start()' for an HTML browser interface to help.
Type 'q()' to quit R.
> library(testthat)
> library(GenomAutomorphism)
>
> test_check("GenomAutomorphism")
[ FAIL 0 | WARN 0 | SKIP 0 | PASS 34 ]
>
> proc.time()
user system elapsed
9.017 0.411 24.608
GenomAutomorphism.Rcheck/GenomAutomorphism-Ex.timings
| name | user | system | elapsed | |
| AutomorphismByCoef | 0.135 | 0.003 | 0.138 | |
| AutomorphismList | 0.853 | 0.010 | 0.863 | |
| CodonMatrix | 0.052 | 0.001 | 0.053 | |
| CodonSeq | 0.119 | 0.006 | 0.126 | |
| GRangesMatrixSeq | 0.065 | 0.005 | 0.071 | |
| ListCodonMatrix | 0.066 | 0.001 | 0.067 | |
| MatrixSeq | 0.040 | 0.001 | 0.042 | |
| aa_phychem_index | 0.039 | 0.004 | 0.043 | |
| aaindex1 | 0.014 | 0.001 | 0.015 | |
| aaindex2 | 0.006 | 0.000 | 0.007 | |
| aaindex3 | 0.004 | 0.001 | 0.005 | |
| aln | 0.023 | 0.001 | 0.024 | |
| aminoacid_dist | 1.178 | 0.343 | 3.402 | |
| as.AutomorphismList | 0.188 | 0.017 | 0.204 | |
| aut3D | 0.701 | 0.045 | 6.618 | |
| autZ125 | 0.738 | 0.017 | 5.375 | |
| autZ5 | 0.549 | 0.018 | 6.539 | |
| autZ64 | 0.873 | 0.019 | 6.959 | |
| autby_coef | 0.103 | 0.003 | 0.108 | |
| autm | 0.013 | 0.000 | 0.014 | |
| autm_3d | 0.019 | 0.000 | 0.018 | |
| autm_z125 | 0.016 | 0.001 | 0.017 | |
| automorphismByRanges | 0.034 | 0.005 | 0.038 | |
| automorphism_bycoef | 0.031 | 0.003 | 0.034 | |
| automorphism_prob | 0.321 | 0.011 | 0.332 | |
| automorphisms | 2.513 | 0.065 | 20.772 | |
| base2codon | 0.022 | 0.003 | 0.026 | |
| base2int | 0.002 | 0.000 | 0.003 | |
| base_methods | 0.131 | 0.015 | 0.146 | |
| brca1_aln | 0.019 | 0.003 | 0.022 | |
| brca1_aln2 | 0.024 | 0.002 | 0.026 | |
| brca1_autm | 0.149 | 0.003 | 0.152 | |
| cdm_z64 | 0.066 | 0.130 | 0.201 | |
| codon_coord | 0.401 | 0.007 | 0.409 | |
| codon_dist | 0.086 | 0.002 | 0.088 | |
| codon_dist_matrix | 0.015 | 0.004 | 2.224 | |
| codon_matrix | 0.168 | 0.006 | 0.175 | |
| conserved_regions | 0.101 | 0.001 | 0.102 | |
| covid_aln | 0.023 | 0.001 | 0.024 | |
| covid_autm | 0.016 | 0.000 | 0.017 | |
| cyc_aln | 0.029 | 0.002 | 0.031 | |
| cyc_autm | 0.024 | 0.001 | 0.024 | |
| dna_phyche | 0.002 | 0.000 | 0.003 | |
| dna_phychem | 0.000 | 0.000 | 0.001 | |
| extract-methods | 0.171 | 0.002 | 0.173 | |
| getAutomorphisms | 0.055 | 0.004 | 0.058 | |
| get_coord | 0.229 | 0.002 | 0.231 | |
| get_mutscore | 0.060 | 0.002 | 0.062 | |
| matrices | 0.202 | 0.003 | 0.205 | |
| mod | 0.000 | 0.001 | 0.000 | |
| modeq | 0.001 | 0.000 | 0.000 | |
| modlineq | 0.000 | 0.000 | 0.001 | |
| mut_type | 0.000 | 0.000 | 0.001 | |
| peptide_phychem_index | 0.046 | 0.002 | 0.049 | |
| reexports | 0.024 | 0.001 | 0.025 | |
| seqranges | 0.216 | 0.003 | 0.219 | |
| slapply | 0.001 | 0.000 | 0.001 | |
| sortByChromAndStart | 0.018 | 0.000 | 0.017 | |
| str2chr | 0 | 0 | 0 | |
| str2dig | 0 | 0 | 0 | |
| translation | 0.338 | 0.004 | 0.341 | |