Back to Multiple platform build/check report for BioC 3.22:   simplified   long
ABCDE[F]GHIJKLMNOPQRSTUVWXYZ

This page was generated on 2025-11-20 12:03 -0500 (Thu, 20 Nov 2025).

HostnameOSArch (*)R versionInstalled pkgs
nebbiolo2Linux (Ubuntu 24.04.3 LTS)x86_644.5.2 (2025-10-31) -- "[Not] Part in a Rumble" 4615
merida1macOS 12.7.6 Montereyx86_644.5.2 Patched (2025-11-05 r88990) -- "[Not] Part in a Rumble" 4610
kjohnson1macOS 13.7.5 Venturaarm644.5.2 Patched (2025-11-04 r88984) -- "[Not] Part in a Rumble" 4598
taishanLinux (openEuler 24.03 LTS)aarch644.5.0 (2025-04-11) -- "How About a Twenty-Six" 4668
Click on any hostname to see more info about the system (e.g. compilers)      (*) as reported by 'uname -p', except on Windows and Mac OS X

Package 765/2361HostnameOS / ArchINSTALLBUILDCHECKBUILD BIN
FlowSOM 2.18.0  (landing page)
Sofie Van Gassen
Snapshot Date: 2025-11-17 13:45 -0500 (Mon, 17 Nov 2025)
git_url: https://git.bioconductor.org/packages/FlowSOM
git_branch: RELEASE_3_22
git_last_commit: b942a41
git_last_commit_date: 2025-10-29 10:23:19 -0500 (Wed, 29 Oct 2025)
nebbiolo2Linux (Ubuntu 24.04.3 LTS) / x86_64  OK    OK    OK  UNNEEDED, same version is already published
merida1macOS 12.7.6 Monterey / x86_64  OK    OK    OK    OK  UNNEEDED, same version is already published
kjohnson1macOS 13.7.5 Ventura / arm64  OK    OK    OK    OK  UNNEEDED, same version is already published
taishanLinux (openEuler 24.03 LTS) / aarch64  OK    OK    OK  


CHECK results for FlowSOM on nebbiolo2

To the developers/maintainers of the FlowSOM package:
- Allow up to 24 hours (and sometimes 48 hours) for your latest push to git@git.bioconductor.org:packages/FlowSOM.git to reflect on this report. See Troubleshooting Build Report for more information.
- Use the following Renviron settings to reproduce errors and warnings.
- If 'R CMD check' started to fail recently on the Linux builder(s) over a missing dependency, add the missing dependency to 'Suggests:' in your DESCRIPTION file. See Renviron.bioc for more information.

raw results


Summary

Package: FlowSOM
Version: 2.18.0
Command: /home/biocbuild/bbs-3.22-bioc/R/bin/R CMD check --install=check:FlowSOM.install-out.txt --library=/home/biocbuild/bbs-3.22-bioc/R/site-library --timings FlowSOM_2.18.0.tar.gz
StartedAt: 2025-11-18 04:06:19 -0500 (Tue, 18 Nov 2025)
EndedAt: 2025-11-18 04:17:04 -0500 (Tue, 18 Nov 2025)
EllapsedTime: 644.6 seconds
RetCode: 0
Status:   OK  
CheckDir: FlowSOM.Rcheck
Warnings: 0

Command output

##############################################################################
##############################################################################
###
### Running command:
###
###   /home/biocbuild/bbs-3.22-bioc/R/bin/R CMD check --install=check:FlowSOM.install-out.txt --library=/home/biocbuild/bbs-3.22-bioc/R/site-library --timings FlowSOM_2.18.0.tar.gz
###
##############################################################################
##############################################################################


* using log directory ‘/home/biocbuild/bbs-3.22-bioc/meat/FlowSOM.Rcheck’
* using R version 4.5.2 (2025-10-31)
* using platform: x86_64-pc-linux-gnu
* R was compiled by
    gcc (Ubuntu 13.3.0-6ubuntu2~24.04) 13.3.0
    GNU Fortran (Ubuntu 13.3.0-6ubuntu2~24.04) 13.3.0
* running under: Ubuntu 24.04.3 LTS
* using session charset: UTF-8
* checking for file ‘FlowSOM/DESCRIPTION’ ... OK
* this is package ‘FlowSOM’ version ‘2.18.0’
* package encoding: UTF-8
* checking package namespace information ... OK
* checking package dependencies ... OK
* checking if this is a source package ... OK
* checking if there is a namespace ... OK
* checking for hidden files and directories ... OK
* checking for portable file names ... OK
* checking for sufficient/correct file permissions ... OK
* checking whether package ‘FlowSOM’ can be installed ... OK
* used C compiler: ‘gcc (Ubuntu 13.3.0-6ubuntu2~24.04) 13.3.0’
* checking installed package size ... OK
* checking package directory ... OK
* checking ‘build’ directory ... OK
* checking DESCRIPTION meta-information ... OK
* checking top-level files ... OK
* checking for left-over files ... OK
* checking index information ... OK
* checking package subdirectories ... OK
* checking code files for non-ASCII characters ... OK
* checking R files for syntax errors ... OK
* checking whether the package can be loaded ... OK
* checking whether the package can be loaded with stated dependencies ... OK
* checking whether the package can be unloaded cleanly ... OK
* checking whether the namespace can be loaded with stated dependencies ... OK
* checking whether the namespace can be unloaded cleanly ... OK
* checking loading without being on the library search path ... OK
* checking whether startup messages can be suppressed ... OK
* checking dependencies in R code ... OK
* checking S3 generic/method consistency ... OK
* checking replacement functions ... OK
* checking foreign function calls ... OK
* checking R code for possible problems ... OK
* checking Rd files ... NOTE
checkRd: (-1) PlotDimRed.Rd:55: Lost braces
    55 | of the dimred default = function(dimred){dimred$Y}.}
       |                                         ^
* checking Rd metadata ... OK
* checking Rd cross-references ... NOTE
Non-topic package-anchored link(s) in Rd file 'pipe.Rd':
  ‘[magrittr:pipe]{%>%}’

See section 'Cross-references' in the 'Writing R Extensions' manual.
* checking for missing documentation entries ... OK
* checking for code/documentation mismatches ... OK
* checking Rd \usage sections ... OK
* checking Rd contents ... OK
* checking for unstated dependencies in examples ... OK
* checking line endings in C/C++/Fortran sources/headers ... OK
* checking compiled code ... NOTE
Note: information on .o files is not available
* checking files in ‘vignettes’ ... OK
* checking examples ... OK
Examples with CPU (user + system) or elapsed time > 5s
                     user system elapsed
FlowSOMmary        48.379  0.286  48.562
PlotDimRed         42.563  0.220  42.745
PlotOutliers       27.264  0.017  27.281
PlotMarker         16.181  0.027  16.209
UpdateMetaclusters 14.790  0.029  14.820
PlotStars          13.199  0.017  13.216
GroupStats         11.595  0.015  11.610
FlowSOM            10.384  0.100  10.485
PlotGroups         10.152  0.023  10.176
QueryMultiple       9.722  0.013   9.735
query_multiple      8.928  0.010   8.938
Plot2DScatters      8.736  0.059   8.786
AddAnnotation       8.107  0.145   8.255
PlotManualBars      7.187  0.006   7.194
QueryStarPlot       6.651  0.005   6.656
GetFlowJoLabels     6.340  0.058   6.399
PlotVariable        6.160  0.010   6.170
PlotNode            6.122  0.016   6.138
PlotPies            6.065  0.025   6.091
PlotNumbers         5.972  0.006   5.979
UpdateNodeSize      5.470  0.002   5.472
PlotFlowSOM         4.981  0.065   5.046
* checking for unstated dependencies in vignettes ... OK
* checking package vignettes ... OK
* checking re-building of vignette outputs ... OK
* checking PDF version of manual ... OK
* DONE

Status: 3 NOTEs
See
  ‘/home/biocbuild/bbs-3.22-bioc/meat/FlowSOM.Rcheck/00check.log’
for details.


Installation output

FlowSOM.Rcheck/00install.out

##############################################################################
##############################################################################
###
### Running command:
###
###   /home/biocbuild/bbs-3.22-bioc/R/bin/R CMD INSTALL FlowSOM
###
##############################################################################
##############################################################################


* installing to library ‘/home/biocbuild/bbs-3.22-bioc/R/site-library’
* installing *source* package ‘FlowSOM’ ...
** this is package ‘FlowSOM’ version ‘2.18.0’
** using staged installation
** libs
using C compiler: ‘gcc (Ubuntu 13.3.0-6ubuntu2~24.04) 13.3.0’
gcc -std=gnu2x -I"/home/biocbuild/bbs-3.22-bioc/R/include" -DNDEBUG   -I/usr/local/include    -fpic  -g -O2  -Wall -Werror=format-security -c som.c -o som.o
gcc -std=gnu2x -shared -L/home/biocbuild/bbs-3.22-bioc/R/lib -L/usr/local/lib -o FlowSOM.so som.o -L/home/biocbuild/bbs-3.22-bioc/R/lib -lR
installing to /home/biocbuild/bbs-3.22-bioc/R/site-library/00LOCK-FlowSOM/00new/FlowSOM/libs
** R
** inst
** byte-compile and prepare package for lazy loading
** help
*** installing help indices
** building package indices
** installing vignettes
** testing if installed package can be loaded from temporary location
** checking absolute paths in shared objects and dynamic libraries
** testing if installed package can be loaded from final location
** testing if installed package keeps a record of temporary installation path
* DONE (FlowSOM)

Tests output


Example timings

FlowSOM.Rcheck/FlowSOM-Ex.timings

nameusersystemelapsed
AddAnnotation8.1070.1458.255
AggregateFlowFrames0.0630.0070.070
BuildMST1.2210.0061.227
BuildSOM0.9800.0080.988
CountGroups4.8440.0834.928
FMeasure0.0010.0000.002
FlowSOM10.384 0.10010.485
FlowSOMSubset3.6540.0603.715
FlowSOMmary48.379 0.28648.562
GetChannels0.0250.0020.026
GetClusterMFIs3.5810.0723.653
GetClusterPercentagesPositive3.5440.0093.554
GetClusters3.5460.0103.556
GetCounts3.5540.0083.563
GetFeatures4.6050.0484.652
GetFlowJoLabels6.3400.0586.399
GetMFIs3.7890.0663.855
GetMarkers0.0260.0000.026
GetMetaclusterCVs3.7840.0033.788
GetMetaclusterMFIs3.7630.0453.808
GetMetaclusterPercentagesPositive3.7370.0193.757
GetMetaclusters3.8030.0213.825
GetPercentages3.9300.0073.937
GroupStats11.595 0.01511.610
Initialize_KWSP0.0040.0000.004
Initialize_PCA0.0010.0000.001
MetaClustering2.6350.0152.651
MetaclusterCVs3.8130.0123.825
MetaclusterMFIs4.5760.0144.592
NClusters4.2880.0084.298
NMetaclusters4.2260.0084.235
NewData3.4100.0063.416
Plot2DScatters8.7360.0598.786
PlotCenters1.0070.0091.017
PlotClusters2D0.9310.0020.933
PlotDimRed42.563 0.22042.745
PlotFileScatters1.0780.0261.103
PlotFlowSOM4.9810.0655.046
PlotGroups10.152 0.02310.176
PlotLabels4.5860.0094.596
PlotManualBars7.1870.0067.194
PlotMarker16.181 0.02716.209
PlotNode6.1220.0166.138
PlotNumbers5.9720.0065.979
PlotOutliers27.264 0.01727.281
PlotOverview2D4.4640.0334.498
PlotPies6.0650.0256.091
PlotSD1.8660.0141.880
PlotStars13.199 0.01713.216
PlotVariable6.160.016.17
Purity0.0000.0000.001
QueryMultiple9.7220.0139.735
QueryStarPlot6.6510.0056.656
ReadInput2.7240.0302.754
SaveClustersToFCS4.5080.0084.516
TestOutliers4.1680.0094.177
UpdateMetaclusters14.790 0.02914.820
UpdateNodeSize5.4700.0025.472
get_channels0.0260.0000.026
get_markers0.0260.0000.026
metaClustering_consensus2.2140.0082.222
plotStarLegend0.4540.0010.455
print.FlowSOM4.1000.0114.112
query_multiple8.9280.0108.938