Back to Multiple platform build/check report for BioC 3.22:   simplified   long
ABCDE[F]GHIJKLMNOPQRSTUVWXYZ

This page was generated on 2025-10-29 12:06 -0400 (Wed, 29 Oct 2025).

HostnameOSArch (*)R versionInstalled pkgs
nebbiolo2Linux (Ubuntu 24.04.3 LTS)x86_644.5.1 Patched (2025-08-23 r88802) -- "Great Square Root" 4901
lconwaymacOS 12.7.6 Montereyx86_644.5.1 Patched (2025-09-10 r88807) -- "Great Square Root" 4691
kjohnson3macOS 13.7.7 Venturaarm644.5.1 Patched (2025-09-10 r88807) -- "Great Square Root" 4637
Click on any hostname to see more info about the system (e.g. compilers)      (*) as reported by 'uname -p', except on Windows and Mac OS X

Package 738/2361HostnameOS / ArchINSTALLBUILDCHECKBUILD BIN
FindIT2 1.15.1  (landing page)
Guandong Shang
Snapshot Date: 2025-10-28 13:45 -0400 (Tue, 28 Oct 2025)
git_url: https://git.bioconductor.org/packages/FindIT2
git_branch: devel
git_last_commit: 82d0b10
git_last_commit_date: 2025-07-22 19:49:08 -0400 (Tue, 22 Jul 2025)
nebbiolo2Linux (Ubuntu 24.04.3 LTS) / x86_64  OK    OK    OK  UNNEEDED, same version is already published
lconwaymacOS 12.7.6 Monterey / x86_64  OK    OK    OK    OK  UNNEEDED, same version is already published
kjohnson3macOS 13.7.7 Ventura / arm64  OK    OK    OK    OK  UNNEEDED, same version is already published


CHECK results for FindIT2 on lconway

To the developers/maintainers of the FindIT2 package:
- Allow up to 24 hours (and sometimes 48 hours) for your latest push to git@git.bioconductor.org:packages/FindIT2.git to reflect on this report. See Troubleshooting Build Report for more information.
- Use the following Renviron settings to reproduce errors and warnings.
- If 'R CMD check' started to fail recently on the Linux builder(s) over a missing dependency, add the missing dependency to 'Suggests:' in your DESCRIPTION file. See Renviron.bioc for more information.

raw results


Summary

Package: FindIT2
Version: 1.15.1
Command: /Library/Frameworks/R.framework/Resources/bin/R CMD check --install=check:FindIT2.install-out.txt --library=/Library/Frameworks/R.framework/Resources/library --no-vignettes --timings FindIT2_1.15.1.tar.gz
StartedAt: 2025-10-28 21:10:38 -0400 (Tue, 28 Oct 2025)
EndedAt: 2025-10-28 21:17:22 -0400 (Tue, 28 Oct 2025)
EllapsedTime: 404.1 seconds
RetCode: 0
Status:   OK  
CheckDir: FindIT2.Rcheck
Warnings: 0

Command output

##############################################################################
##############################################################################
###
### Running command:
###
###   /Library/Frameworks/R.framework/Resources/bin/R CMD check --install=check:FindIT2.install-out.txt --library=/Library/Frameworks/R.framework/Resources/library --no-vignettes --timings FindIT2_1.15.1.tar.gz
###
##############################################################################
##############################################################################


* using log directory ‘/Users/biocbuild/bbs-3.22-bioc/meat/FindIT2.Rcheck’
* using R version 4.5.1 Patched (2025-09-10 r88807)
* using platform: x86_64-apple-darwin20
* R was compiled by
    Apple clang version 14.0.0 (clang-1400.0.29.202)
    GNU Fortran (GCC) 14.2.0
* running under: macOS Monterey 12.7.6
* using session charset: UTF-8
* using option ‘--no-vignettes’
* checking for file ‘FindIT2/DESCRIPTION’ ... OK
* this is package ‘FindIT2’ version ‘1.15.1’
* package encoding: UTF-8
* checking package namespace information ... OK
* checking package dependencies ... INFO
Imports includes 22 non-default packages.
Importing from so many packages makes the package vulnerable to any of
them becoming unavailable.  Move as many as possible to Suggests and
use conditionally.
* checking if this is a source package ... OK
* checking if there is a namespace ... OK
* checking for hidden files and directories ... OK
* checking for portable file names ... OK
* checking for sufficient/correct file permissions ... OK
* checking whether package ‘FindIT2’ can be installed ... OK
* checking installed package size ... OK
* checking package directory ... OK
* checking ‘build’ directory ... OK
* checking DESCRIPTION meta-information ... OK
* checking top-level files ... OK
* checking for left-over files ... OK
* checking index information ... OK
* checking package subdirectories ... OK
* checking code files for non-ASCII characters ... OK
* checking R files for syntax errors ... OK
* checking whether the package can be loaded ... OK
* checking whether the package can be loaded with stated dependencies ... OK
* checking whether the package can be unloaded cleanly ... OK
* checking whether the namespace can be loaded with stated dependencies ... OK
* checking whether the namespace can be unloaded cleanly ... OK
* checking dependencies in R code ... OK
* checking S3 generic/method consistency ... OK
* checking replacement functions ... OK
* checking foreign function calls ... OK
* checking R code for possible problems ... OK
* checking Rd files ... OK
* checking Rd metadata ... OK
* checking Rd cross-references ... OK
* checking for missing documentation entries ... OK
* checking for code/documentation mismatches ... OK
* checking Rd \usage sections ... OK
* checking Rd contents ... OK
* checking for unstated dependencies in examples ... OK
* checking contents of ‘data’ directory ... OK
* checking data for non-ASCII characters ... OK
* checking data for ASCII and uncompressed saves ... OK
* checking files in ‘vignettes’ ... OK
* checking examples ... OK
Examples with CPU (user + system) or elapsed time > 5s
                 user system elapsed
findIT_regionRP 6.778  0.147   6.976
calcRP_region   5.282  0.149   5.482
* checking for unstated dependencies in ‘tests’ ... OK
* checking tests ...
  Running ‘testthat.R’
 OK
* checking for unstated dependencies in vignettes ... OK
* checking package vignettes ... OK
* checking running R code from vignettes ... SKIPPED
* checking re-building of vignette outputs ... SKIPPED
* checking PDF version of manual ... OK
* DONE

Status: OK


Installation output

FindIT2.Rcheck/00install.out

##############################################################################
##############################################################################
###
### Running command:
###
###   /Library/Frameworks/R.framework/Resources/bin/R CMD INSTALL FindIT2
###
##############################################################################
##############################################################################


* installing to library ‘/Library/Frameworks/R.framework/Versions/4.5-x86_64/Resources/library’
* installing *source* package ‘FindIT2’ ...
** this is package ‘FindIT2’ version ‘1.15.1’
** using staged installation
** R
** data
** inst
** byte-compile and prepare package for lazy loading
** help
*** installing help indices
** building package indices
** installing vignettes
** testing if installed package can be loaded from temporary location
** testing if installed package can be loaded from final location
** testing if installed package keeps a record of temporary installation path
* DONE (FindIT2)

Tests output

FindIT2.Rcheck/tests/testthat.Rout


R version 4.5.1 Patched (2025-09-10 r88807) -- "Great Square Root"
Copyright (C) 2025 The R Foundation for Statistical Computing
Platform: x86_64-apple-darwin20

R is free software and comes with ABSOLUTELY NO WARRANTY.
You are welcome to redistribute it under certain conditions.
Type 'license()' or 'licence()' for distribution details.

R is a collaborative project with many contributors.
Type 'contributors()' for more information and
'citation()' on how to cite R or R packages in publications.

Type 'demo()' for some demos, 'help()' for on-line help, or
'help.start()' for an HTML browser interface to help.
Type 'q()' to quit R.

> library(testthat)
> library(FindIT2)
Loading required package: GenomicRanges
Loading required package: stats4
Loading required package: BiocGenerics
Loading required package: generics

Attaching package: 'generics'

The following objects are masked from 'package:base':

    as.difftime, as.factor, as.ordered, intersect, is.element, setdiff,
    setequal, union


Attaching package: 'BiocGenerics'

The following objects are masked from 'package:stats':

    IQR, mad, sd, var, xtabs

The following objects are masked from 'package:base':

    Filter, Find, Map, Position, Reduce, anyDuplicated, aperm, append,
    as.data.frame, basename, cbind, colnames, dirname, do.call,
    duplicated, eval, evalq, get, grep, grepl, is.unsorted, lapply,
    mapply, match, mget, order, paste, pmax, pmax.int, pmin, pmin.int,
    rank, rbind, rownames, sapply, saveRDS, table, tapply, unique,
    unsplit, which.max, which.min

Loading required package: S4Vectors

Attaching package: 'S4Vectors'

The following object is masked from 'package:utils':

    findMatches

The following objects are masked from 'package:base':

    I, expand.grid, unname

Loading required package: IRanges
Loading required package: Seqinfo
> if (!requireNamespace("TxDb.Athaliana.BioMart.plantsmart28")) {
+     stop("unable to load TxDb.Athaliana.BioMart.plantsmart28")
+ }
Loading required namespace: TxDb.Athaliana.BioMart.plantsmart28
> 
> test_check("FindIT2")
>> preparing gene features information...		2025-10-28 21:16:12
>> some scan range may cross Chr bound, trimming...		2025-10-28 21:16:14
>> preparing weight info...		2025-10-28 21:16:14
>> loading E50h_sampleChr5.bw info...		2025-10-28 21:16:14
------------
>> extracting and calcluating Chr5 signal...		2025-10-28 21:16:14
>> dealing with Chr5 left gene signal...		2025-10-28 21:16:18
>> norming Chr5RP accoring to the whole Chr RP...		2025-10-28 21:16:18
>> merging all Chr RP together...		2025-10-28 21:16:18
>> done		2025-10-28 21:16:18
>> checking seqlevels match...		2025-10-28 21:16:18
>> your peak_GR seqlevel:Chr5...
>> your Txdb seqlevel:Chr1 Chr2 Chr3 Chr4 Chr5 ChrM ChrC...
Good, your Chrs in peak_GR is all in Txdb
------------
annotatePeak using geneScan mode begins
>> preparing gene features information and scan region...		2025-10-28 21:16:18
>> some scan range may cross Chr bound, trimming...		2025-10-28 21:16:19
>> finding overlap peak in gene scan region...		2025-10-28 21:16:19
>> dealing with left peak not your gene scan region...		2025-10-28 21:16:19
>> merging two set peaks...		2025-10-28 21:16:19
>> calculating distance and dealing with gene strand...		2025-10-28 21:16:19
>> merging all info together ...		2025-10-28 21:16:20
>> done		2025-10-28 21:16:20
>> calculating peakCenter to TSS using peak-gene pair...		2025-10-28 21:16:20
>> pre-filling 1356 noAssoc peak gene's RP with 0...		2025-10-28 21:16:20
>> calculating RP using centerToTSS and peak score2025-10-28 21:16:20
>> merging all info together		2025-10-28 21:16:23
>> done		2025-10-28 21:16:23
>> calculating peakCenter to TSS using peak-gene pair...		2025-10-28 21:16:24
>> pre-filling 1356 noAssoc peak gene's RP with 0...		2025-10-28 21:16:25
>> calculating RP using centerToTSS and peak score2025-10-28 21:16:25
>> merging all info together		2025-10-28 21:16:27
>> done		2025-10-28 21:16:28
>> checking seqlevels match...		2025-10-28 21:16:28
>> your peak_GR seqlevel:Chr5...
>> your Txdb seqlevel:Chr1 Chr2 Chr3 Chr4 Chr5 ChrM ChrC...
Good, your Chrs in peak_GR is all in Txdb
------------
annotatePeak using geneScan mode begins
>> preparing gene features information and scan region...		2025-10-28 21:16:28
>> some scan range may cross Chr bound, trimming...		2025-10-28 21:16:29
>> finding overlap peak in gene scan region...		2025-10-28 21:16:29
>> dealing with left peak not your gene scan region...		2025-10-28 21:16:29
>> merging two set peaks...		2025-10-28 21:16:29
>> calculating distance and dealing with gene strand...		2025-10-28 21:16:29
>> merging all info together ...		2025-10-28 21:16:29
>> done		2025-10-28 21:16:29
>> calculating peakCenter to TSS using peak-gene pair...		2025-10-28 21:16:29
>> calculating RP using centerToTSS and TF hit		2025-10-28 21:16:30
>> merging all info together		2025-10-28 21:16:30
>> done		2025-10-28 21:16:30
>> calculating peakCenter to TSS using peak-gene pair...		2025-10-28 21:16:30
>> calculating RP using centerToTSS and TF hit		2025-10-28 21:16:31
>> merging all info together		2025-10-28 21:16:31
>> done		2025-10-28 21:16:31
>> checking seqlevels match...		2025-10-28 21:16:32
>> your peak_GR seqlevel:Chr5...
>> your Txdb seqlevel:Chr1 Chr2 Chr3 Chr4 Chr5 ChrM ChrC...
Good, your Chrs in peak_GR is all in Txdb
------------
annotatePeak using geneScan mode begins
>> preparing gene features information and scan region...		2025-10-28 21:16:32
>> some scan range may cross Chr bound, trimming...		2025-10-28 21:16:34
>> finding overlap peak in gene scan region...		2025-10-28 21:16:34
>> dealing with left peak not your gene scan region...		2025-10-28 21:16:34
>> merging two set peaks...		2025-10-28 21:16:34
>> calculating distance and dealing with gene strand...		2025-10-28 21:16:34
>> merging all info together ...		2025-10-28 21:16:35
>> done		2025-10-28 21:16:35
>> calculating peakCenter to TSS using peak-gene pair...		2025-10-28 21:16:35
>> pre-filling 1356 noAssoc peak gene's RP with 0...		2025-10-28 21:16:35
>> calculating RP using centerToTSS and peak score2025-10-28 21:16:35
>> merging all info together		2025-10-28 21:16:37
>> done		2025-10-28 21:16:38
>> extracting RP info from regionRP...		2025-10-28 21:16:39
>> dealing with TF_GR_databse...		2025-10-28 21:16:39
>> calculating percent and p-value...		2025-10-28 21:16:39
>> dealing withE5_0h_R1...		2025-10-28 21:16:39
>> dealing withE5_0h_R2...		2025-10-28 21:16:39
>> dealing withE5_4h_R1...		2025-10-28 21:16:39
>> dealing withE5_4h_R2...		2025-10-28 21:16:39
>> dealing withE5_8h_R1...		2025-10-28 21:16:39
>> dealing withE5_8h_R2...		2025-10-28 21:16:39
>> dealing withE5_16h_R1...		2025-10-28 21:16:39
>> dealing withE5_16h_R2...		2025-10-28 21:16:39
>> dealing withE5_24h_R1...		2025-10-28 21:16:39
>> dealing withE5_24h_R2...		2025-10-28 21:16:39
>> dealing withE5_48h_R1...		2025-10-28 21:16:39
>> dealing withE5_48h_R2...		2025-10-28 21:16:39
>> dealing withE5_48h_R3...		2025-10-28 21:16:39
>> dealing withE5_72h_R1...		2025-10-28 21:16:39
>> dealing withE5_72h_R2...		2025-10-28 21:16:39
>> dealing withE5_72h_R3...		2025-10-28 21:16:39
>> merging all info together...		2025-10-28 21:16:40
>> done		2025-10-28 21:16:40
>> preparing gene features information...		2025-10-28 21:16:40
>> some scan range may cross Chr bound, trimming...		2025-10-28 21:16:41
>> calculating p-value for each TF, which may be time consuming...		2025-10-28 21:16:41
>> merging all info together...		2025-10-28 21:16:41
>> done		2025-10-28 21:16:41
>> dealing with TF_GR_database...		2025-10-28 21:16:41
>> calculating coef and converting into z-score using INT...		2025-10-28 21:16:41
>> dealing with E5_0h_R1...		2025-10-28 21:16:41
>> dealing with E5_0h_R2...		2025-10-28 21:16:41
>> dealing with E5_4h_R1...		2025-10-28 21:16:41
>> dealing with E5_4h_R2...		2025-10-28 21:16:41
>> dealing with E5_8h_R1...		2025-10-28 21:16:41
>> dealing with E5_8h_R2...		2025-10-28 21:16:41
>> dealing with E5_16h_R1...		2025-10-28 21:16:42
>> dealing with E5_16h_R2...		2025-10-28 21:16:42
>> dealing with E5_24h_R1...		2025-10-28 21:16:42
>> dealing with E5_24h_R2...		2025-10-28 21:16:42
>> dealing with E5_48h_R1...		2025-10-28 21:16:42
>> dealing with E5_48h_R2...		2025-10-28 21:16:42
>> dealing with E5_48h_R3...		2025-10-28 21:16:42
>> dealing with E5_72h_R1...		2025-10-28 21:16:42
>> dealing with E5_72h_R2...		2025-10-28 21:16:42
>> dealing with E5_72h_R3...		2025-10-28 21:16:42
>> merging all info together...		2025-10-28 21:16:42
>> done		2025-10-28 21:16:43
>> checking seqlevels match...		2025-10-28 21:16:43
>> your peak_GR seqlevel:Chr5...
>> your Txdb seqlevel:Chr1 Chr2 Chr3 Chr4 Chr5 ChrM ChrC...
Good, your Chrs in peak_GR is all in Txdb
------------
annotatePeak using geneScan mode begins
>> preparing gene features information and scan region...		2025-10-28 21:16:43
>> some scan range may cross Chr bound, trimming...		2025-10-28 21:16:44
>> finding overlap peak in gene scan region...		2025-10-28 21:16:44
>> dealing with left peak not your gene scan region...		2025-10-28 21:16:44
>> merging two set peaks...		2025-10-28 21:16:44
>> calculating distance and dealing with gene strand...		2025-10-28 21:16:44
>> merging all info together ...		2025-10-28 21:16:44
>> done		2025-10-28 21:16:44
>> calculating peakCenter to TSS using peak-gene pair...		2025-10-28 21:16:44
>> calculating RP using centerToTSS and TF hit		2025-10-28 21:16:45
>> merging all info together		2025-10-28 21:16:45
>> done		2025-10-28 21:16:46
>> checking seqlevels match...		2025-10-28 21:16:46
>> your peak_GR seqlevel:5...
>> your Txdb seqlevel:Chr1 Chr2 Chr3 Chr4 Chr5 ChrM ChrC...
>> checking seqlevels match...		2025-10-28 21:16:46
>> your peak_GR seqlevel:Chr5 Chr6...
>> your Txdb seqlevel:Chr1 Chr2 Chr3 Chr4 Chr5 ChrM ChrC...
>> checking seqlevels match...		2025-10-28 21:16:50
>> your peak_GR seqlevel:Chr5...
>> your Txdb seqlevel:Chr1 Chr2 Chr3 Chr4 Chr5 ChrM ChrC...
Good, your Chrs in peak_GR is all in Txdb
>> checking seqlevels match...		2025-10-28 21:16:50
>> your peak_GR seqlevel:Chr5...
>> your Txdb seqlevel:Chr1 Chr2 Chr3 Chr4 Chr5 ChrM ChrC...
Good, your Chrs in peak_GR is all in Txdb
------------
annotating Peak using nearest gene mode begins
>> preparing gene features information...		2025-10-28 21:16:50
>> finding nearest gene and calculating distance...		2025-10-28 21:16:50
>> dealing with gene strand ...		2025-10-28 21:16:51
>> merging all info together ...		2025-10-28 21:16:51
>> done		2025-10-28 21:16:51
>> checking seqlevels match...		2025-10-28 21:16:51
>> your peak_GR seqlevel:Chr5...
>> your Txdb seqlevel:Chr1 Chr2 Chr3 Chr4 Chr5 ChrM ChrC...
Good, your Chrs in peak_GR is all in Txdb
>> checking seqlevels match...		2025-10-28 21:16:51
>> your peak_GR seqlevel:Chr5...
>> your Txdb seqlevel:Chr1 Chr2 Chr3 Chr4 Chr5 ChrM ChrC...
Good, your Chrs in peak_GR is all in Txdb
------------
annotating Peak using nearest gene mode begins
>> preparing gene features information...		2025-10-28 21:16:51
>> finding nearest gene and calculating distance...		2025-10-28 21:16:52
>> dealing with gene strand ...		2025-10-28 21:16:52
>> merging all info together ...		2025-10-28 21:16:52
>> done		2025-10-28 21:16:52
>> checking seqlevels match...		2025-10-28 21:16:53
>> your peak_GR seqlevel:Chr5...
>> your Txdb seqlevel:Chr1 Chr2 Chr3 Chr4 Chr5 ChrM ChrC...
Good, your Chrs in peak_GR is all in Txdb
>> checking seqlevels match...		2025-10-28 21:16:53
>> your peak_GR seqlevel:Chr5...
>> your Txdb seqlevel:Chr1 Chr2 Chr3 Chr4 Chr5 ChrM ChrC...
Good, your Chrs in peak_GR is all in Txdb
------------
annotating Peak using nearest gene mode begins
>> preparing gene features information...		2025-10-28 21:16:53
>> finding nearest gene and calculating distance...		2025-10-28 21:16:53
>> dealing with gene strand ...		2025-10-28 21:16:54
>> merging all info together ...		2025-10-28 21:16:54
>> done		2025-10-28 21:16:54
>> checking seqlevels match...		2025-10-28 21:16:54
>> your peak_GR seqlevel:Chr5...
>> your Txdb seqlevel:Chr1 Chr2 Chr3 Chr4 Chr5 ChrM ChrC...
Good, your Chrs in peak_GR is all in Txdb
>> checking seqlevels match...		2025-10-28 21:16:55
>> your peak_GR seqlevel:Chr5...
>> your Txdb seqlevel:Chr1 Chr2 Chr3 Chr4 Chr5 ChrM ChrC...
Good, your Chrs in peak_GR is all in Txdb
------------
annotating Peak using nearest gene mode begins
>> preparing gene features information...		2025-10-28 21:16:55
>> finding nearest gene and calculating distance...		2025-10-28 21:16:55
>> dealing with gene strand ...		2025-10-28 21:16:55
>> merging all info together ...		2025-10-28 21:16:56
>> done		2025-10-28 21:16:56
It seems that there 1 genes have not been annotated by nearestGene mode
>> checking seqlevels match...		2025-10-28 21:16:56
>> your peak_GR seqlevel:Chr5...
>> your Txdb seqlevel:Chr1 Chr2 Chr3 Chr4 Chr5 ChrM ChrC...
Good, your Chrs in peak_GR is all in Txdb
>> checking seqlevels match...		2025-10-28 21:16:56
>> your peak_GR seqlevel:Chr5...
>> your Txdb seqlevel:Chr1 Chr2 Chr3 Chr4 Chr5 ChrM ChrC...
Good, your Chrs in peak_GR is all in Txdb
------------
annotating Peak using nearest gene mode begins
>> preparing gene features information...		2025-10-28 21:16:56
>> finding nearest gene and calculating distance...		2025-10-28 21:16:57
>> dealing with gene strand ...		2025-10-28 21:16:57
>> merging all info together ...		2025-10-28 21:16:57
>> done		2025-10-28 21:16:57
It seems that there 1 genes have not been annotated by nearestGene mode
>> checking seqlevels match...		2025-10-28 21:16:58
>> your peak_GR seqlevel:Chr5...
>> your Txdb seqlevel:Chr1 Chr2 Chr3 Chr4 Chr5 ChrM ChrC...
Good, your Chrs in peak_GR is all in Txdb
>> checking seqlevels match...		2025-10-28 21:17:00
>> your peak_GR seqlevel:Chr5...
>> your Txdb seqlevel:Chr1 Chr2 Chr3 Chr4 Chr5 ChrM ChrC...
Good, your Chrs in peak_GR is all in Txdb
>> some scan range may cross Chr bound, trimming...		2025-10-28 21:17:00
>> checking seqlevels match...		2025-10-28 21:17:01
>> your peak_GR seqlevel:Chr5...
>> your Txdb seqlevel:Chr1 Chr2 Chr3 Chr4 Chr5 ChrM ChrC...
Good, your Chrs in peak_GR is all in Txdb
>> some scan range may cross Chr bound, trimming...		2025-10-28 21:17:02
Good, your two matrix colnames matchs
>> calculating cor and pvalue, which may be time consuming...		2025-10-28 21:17:04
>> merging all info together...		2025-10-28 21:17:04
>> done		2025-10-28 21:17:04
>> checking seqlevels match...		2025-10-28 21:17:04
>> your peak_GR seqlevel:Chr5...
>> your Txdb seqlevel:Chr1 Chr2 Chr3 Chr4 Chr5 ChrM ChrC...
Good, your Chrs in peak_GR is all in Txdb
>> using scanPromoter parameter to scan promoter for each gene...		2025-10-28 21:17:04
>> checking seqlevels match...		2025-10-28 21:17:04
>> your peak_GR seqlevel:Chr5...
>> your Txdb seqlevel:Chr1 Chr2 Chr3 Chr4 Chr5 ChrM ChrC...
Good, your Chrs in peak_GR is all in Txdb
>> some scan range may cross Chr bound, trimming...		2025-10-28 21:17:05
>> there are 85 gene have scaned promoter
>> using scanEnhancer parameter to scan Enhancer for each gene...		2025-10-28 21:17:05
>> checking seqlevels match...		2025-10-28 21:17:05
>> your peak_GR seqlevel:Chr5...
>> your Txdb seqlevel:Chr1 Chr2 Chr3 Chr4 Chr5 ChrM ChrC...
Good, your Chrs in peak_GR is all in Txdb
>> some scan range may cross Chr bound, trimming...		2025-10-28 21:17:06
>> calculating cor and pvalue, which may be time consuming...		2025-10-28 21:17:06
>> merging all info together...		2025-10-28 21:17:06
>> done		2025-10-28 21:17:06
Good, your two matrix colnames matchs
>> calculating cor and pvalue, which may be time consuming...		2025-10-28 21:17:06
>> merging all info together...		2025-10-28 21:17:06
>> done		2025-10-28 21:17:06
>> checking seqlevels match...		2025-10-28 21:17:07
>> your peak_GR seqlevel:Chr5...
>> your Txdb seqlevel:Chr1 Chr2 Chr3 Chr4 Chr5 ChrM ChrC...
Good, your Chrs in peak_GR is all in Txdb
------------
annotatePeak using geneScan mode begins
>> preparing gene features information and scan region...		2025-10-28 21:17:07
>> some scan range may cross Chr bound, trimming...		2025-10-28 21:17:07
>> finding overlap peak in gene scan region...		2025-10-28 21:17:07
>> dealing with left peak not your gene scan region...		2025-10-28 21:17:07
>> merging two set peaks...		2025-10-28 21:17:08
>> calculating distance and dealing with gene strand...		2025-10-28 21:17:08
>> merging all info together ...		2025-10-28 21:17:08
>> done		2025-10-28 21:17:08
Good, your two matrix colnames matchs
>> calculating cor and pvalue, which may be time consuming...		2025-10-28 21:17:09
>> merging all info together...		2025-10-28 21:17:09
>> done		2025-10-28 21:17:09
>> checking seqlevels match...		2025-10-28 21:17:09
>> your peak_GR seqlevel:Chr5...
>> your Txdb seqlevel:Chr1 Chr2 Chr3 Chr4 Chr5 ChrM ChrC...
Good, your Chrs in peak_GR is all in Txdb
>> using scanPromoter parameter to scan promoter for each gene...		2025-10-28 21:17:09
>> checking seqlevels match...		2025-10-28 21:17:09
>> your peak_GR seqlevel:Chr5...
>> your Txdb seqlevel:Chr1 Chr2 Chr3 Chr4 Chr5 ChrM ChrC...
Good, your Chrs in peak_GR is all in Txdb
>> some scan range may cross Chr bound, trimming...		2025-10-28 21:17:10
>> there are 85 gene have scaned promoter
>> using scanEnhancer parameter to scan Enhancer for each gene...		2025-10-28 21:17:10
>> checking seqlevels match...		2025-10-28 21:17:10
>> your peak_GR seqlevel:Chr5...
>> your Txdb seqlevel:Chr1 Chr2 Chr3 Chr4 Chr5 ChrM ChrC...
Good, your Chrs in peak_GR is all in Txdb
>> some scan range may cross Chr bound, trimming...		2025-10-28 21:17:11
>> calculating cor and pvalue, which may be time consuming...		2025-10-28 21:17:11
>> merging all info together...		2025-10-28 21:17:11
>> done		2025-10-28 21:17:11
Joining with `by = join_by(feature_id)`
Joining with `by = join_by(feature_id)`
`geom_smooth()` using formula = 'y ~ x'
Joining with `by = join_by(feature_id)`
Joining with `by = join_by(feature_id)`
`geom_smooth()` using formula = 'y ~ x'
[ FAIL 0 | WARN 0 | SKIP 0 | PASS 65 ]
> 
> proc.time()
   user  system elapsed 
 70.366   2.821  73.662 

Example timings

FindIT2.Rcheck/FindIT2-Ex.timings

nameusersystemelapsed
TF_target_database0.0000.0020.002
calcRP_TFHit3.9820.1924.289
calcRP_coverage3.9710.5704.595
calcRP_region5.2820.1495.482
enhancerPromoterCor3.0200.0813.130
findIT_MARA0.5040.0150.522
findIT_TFHit1.1660.0381.213
findIT_TTPair0.0770.0040.082
findIT_enrichFisher0.1810.0050.187
findIT_enrichWilcox0.1990.0050.208
findIT_regionRP6.7780.1476.976
getAssocPairNumber1.3590.0381.409
integrate_ChIP_RNA2.3320.0632.408
integrate_replicates0.0010.0010.002
jaccard_findIT_TTpair0.1250.0050.131
jaccard_findIT_enrichFisher0.2380.0050.244
loadPeakFile0.0660.0010.068
mm_geneBound1.3790.0371.424
mm_geneScan1.4040.0391.453
mm_nearestGene1.1890.0321.229
peakGeneCor2.4630.0582.534
plot_annoDistance2.8240.0542.895
plot_peakGeneAlias_summary1.4210.0311.459
plot_peakGeneCor3.3130.1223.453
test_geneSet0.0010.0010.001