Back to Multiple platform build/check report for BioC 3.22:   simplified   long
ABC[D]EFGHIJKLMNOPQRSTUVWXYZ

This page was generated on 2025-11-15 11:58 -0500 (Sat, 15 Nov 2025).

HostnameOSArch (*)R versionInstalled pkgs
nebbiolo2Linux (Ubuntu 24.04.3 LTS)x86_644.5.1 Patched (2025-08-23 r88802) -- "Great Square Root" 4903
taishanLinux (openEuler 24.03 LTS)aarch644.5.0 (2025-04-11) -- "How About a Twenty-Six" 4668
Click on any hostname to see more info about the system (e.g. compilers)      (*) as reported by 'uname -p', except on Windows and Mac OS X

Package 565/2361HostnameOS / ArchINSTALLBUILDCHECKBUILD BIN
DEP 1.32.0  (landing page)
Arne Smits
Snapshot Date: 2025-11-14 13:45 -0500 (Fri, 14 Nov 2025)
git_url: https://git.bioconductor.org/packages/DEP
git_branch: RELEASE_3_22
git_last_commit: 251eef4
git_last_commit_date: 2025-10-29 10:40:06 -0500 (Wed, 29 Oct 2025)
nebbiolo2Linux (Ubuntu 24.04.3 LTS) / x86_64  OK    OK    OK  UNNEEDED, same version is already published
taishanLinux (openEuler 24.03 LTS) / aarch64  OK    OK    OK  


CHECK results for DEP on nebbiolo2

To the developers/maintainers of the DEP package:
- Allow up to 24 hours (and sometimes 48 hours) for your latest push to git@git.bioconductor.org:packages/DEP.git to reflect on this report. See Troubleshooting Build Report for more information.
- Use the following Renviron settings to reproduce errors and warnings.
- If 'R CMD check' started to fail recently on the Linux builder(s) over a missing dependency, add the missing dependency to 'Suggests:' in your DESCRIPTION file. See Renviron.bioc for more information.

raw results


Summary

Package: DEP
Version: 1.32.0
Command: /home/biocbuild/bbs-3.22-bioc/R/bin/R CMD check --install=check:DEP.install-out.txt --library=/home/biocbuild/bbs-3.22-bioc/R/site-library --timings DEP_1.32.0.tar.gz
StartedAt: 2025-11-14 23:03:35 -0500 (Fri, 14 Nov 2025)
EndedAt: 2025-11-14 23:12:15 -0500 (Fri, 14 Nov 2025)
EllapsedTime: 520.4 seconds
RetCode: 0
Status:   OK  
CheckDir: DEP.Rcheck
Warnings: 0

Command output

##############################################################################
##############################################################################
###
### Running command:
###
###   /home/biocbuild/bbs-3.22-bioc/R/bin/R CMD check --install=check:DEP.install-out.txt --library=/home/biocbuild/bbs-3.22-bioc/R/site-library --timings DEP_1.32.0.tar.gz
###
##############################################################################
##############################################################################


* using log directory ‘/home/biocbuild/bbs-3.22-bioc/meat/DEP.Rcheck’
* using R version 4.5.1 Patched (2025-08-23 r88802)
* using platform: x86_64-pc-linux-gnu
* R was compiled by
    gcc (Ubuntu 13.3.0-6ubuntu2~24.04) 13.3.0
    GNU Fortran (Ubuntu 13.3.0-6ubuntu2~24.04) 13.3.0
* running under: Ubuntu 24.04.3 LTS
* using session charset: UTF-8
* checking for file ‘DEP/DESCRIPTION’ ... OK
* this is package ‘DEP’ version ‘1.32.0’
* package encoding: UTF-8
* checking package namespace information ... OK
* checking package dependencies ... INFO
Imports includes 23 non-default packages.
Importing from so many packages makes the package vulnerable to any of
them becoming unavailable.  Move as many as possible to Suggests and
use conditionally.
* checking if this is a source package ... OK
* checking if there is a namespace ... OK
* checking for hidden files and directories ... OK
* checking for portable file names ... OK
* checking for sufficient/correct file permissions ... OK
* checking whether package ‘DEP’ can be installed ... OK
* checking installed package size ... OK
* checking package directory ... OK
* checking ‘build’ directory ... OK
* checking DESCRIPTION meta-information ... OK
* checking top-level files ... OK
* checking for left-over files ... OK
* checking index information ... OK
* checking package subdirectories ... OK
* checking code files for non-ASCII characters ... OK
* checking R files for syntax errors ... OK
* checking whether the package can be loaded ... OK
* checking whether the package can be loaded with stated dependencies ... OK
* checking whether the package can be unloaded cleanly ... OK
* checking whether the namespace can be loaded with stated dependencies ... OK
* checking whether the namespace can be unloaded cleanly ... OK
* checking loading without being on the library search path ... OK
* checking whether startup messages can be suppressed ... OK
* checking dependencies in R code ... OK
* checking S3 generic/method consistency ... OK
* checking replacement functions ... OK
* checking foreign function calls ... OK
* checking R code for possible problems ... OK
* checking Rd files ... OK
* checking Rd metadata ... OK
* checking Rd cross-references ... NOTE
Non-topic package-anchored link(s) in Rd file 'LFQ.Rd':
  ‘[MSnbase:impute]{impute}’

Non-topic package-anchored link(s) in Rd file 'TMT.Rd':
  ‘[MSnbase:impute]{impute}’

Non-topic package-anchored link(s) in Rd file 'impute.Rd':
  ‘[MSnbase:impute]{impute}’

Non-topic package-anchored link(s) in Rd file 'process.Rd':
  ‘[MSnbase:impute]{impute}’

See section 'Cross-references' in the 'Writing R Extensions' manual.
* checking for missing documentation entries ... OK
* checking for code/documentation mismatches ... OK
* checking Rd \usage sections ... OK
* checking Rd contents ... OK
* checking for unstated dependencies in examples ... OK
* checking contents of ‘data’ directory ... OK
* checking data for non-ASCII characters ... OK
* checking LazyData ... OK
* checking data for ASCII and uncompressed saves ... OK
* checking R/sysdata.rda ... OK
* checking files in ‘vignettes’ ... OK
* checking examples ... OK
Examples with CPU (user + system) or elapsed time > 5s
         user system elapsed
impute 53.641  0.456  54.128
* checking for unstated dependencies in ‘tests’ ... OK
* checking tests ...
  Running ‘testthat.R’
 OK
* checking for unstated dependencies in vignettes ... OK
* checking package vignettes ... OK
* checking re-building of vignette outputs ... OK
* checking PDF version of manual ... OK
* DONE

Status: 1 NOTE
See
  ‘/home/biocbuild/bbs-3.22-bioc/meat/DEP.Rcheck/00check.log’
for details.


Installation output

DEP.Rcheck/00install.out

##############################################################################
##############################################################################
###
### Running command:
###
###   /home/biocbuild/bbs-3.22-bioc/R/bin/R CMD INSTALL DEP
###
##############################################################################
##############################################################################


* installing to library ‘/home/biocbuild/bbs-3.22-bioc/R/site-library’
* installing *source* package ‘DEP’ ...
** this is package ‘DEP’ version ‘1.32.0’
** using staged installation
** R
** data
*** moving datasets to lazyload DB
** inst
** byte-compile and prepare package for lazy loading
** help
*** installing help indices
** building package indices
** installing vignettes
** testing if installed package can be loaded from temporary location
Warning in fun(libname, pkgname) :
  Package 'DEP' is deprecated and will be removed from Bioconductor
  version 3.23
** testing if installed package can be loaded from final location
Warning in fun(libname, pkgname) :
  Package 'DEP' is deprecated and will be removed from Bioconductor
  version 3.23
** testing if installed package keeps a record of temporary installation path
* DONE (DEP)

Tests output

DEP.Rcheck/tests/testthat.Rout


R version 4.5.1 Patched (2025-08-23 r88802) -- "Great Square Root"
Copyright (C) 2025 The R Foundation for Statistical Computing
Platform: x86_64-pc-linux-gnu

R is free software and comes with ABSOLUTELY NO WARRANTY.
You are welcome to redistribute it under certain conditions.
Type 'license()' or 'licence()' for distribution details.

R is a collaborative project with many contributors.
Type 'contributors()' for more information and
'citation()' on how to cite R or R packages in publications.

Type 'demo()' for some demos, 'help()' for on-line help, or
'help.start()' for an HTML browser interface to help.
Type 'q()' to quit R.

> library(testthat)
> library(DEP)
Warning message:
In fun(libname, pkgname) :
  Package 'DEP' is deprecated and will be removed from Bioconductor
  version 3.23
> 
> test_check("DEP")
[ FAIL 0 | WARN 16 | SKIP 0 | PASS 333 ]

[ FAIL 0 | WARN 16 | SKIP 0 | PASS 333 ]
> 
> proc.time()
   user  system elapsed 
 56.025   1.993  58.035 

Example timings

DEP.Rcheck/DEP-Ex.timings

nameusersystemelapsed
LFQ1.2610.0361.297
TMT0.0000.0000.001
add_rejections1.5280.0981.627
analyze_dep2.0730.1102.184
filter_missval0.4160.0050.421
filter_proteins0.2730.0000.274
get_df_long0.7120.0420.754
get_df_wide0.6620.0020.664
get_prefix0.0020.0000.002
get_results0.9150.0060.921
get_suffix0.0010.0000.001
import_IsobarQuant000
import_MaxQuant0.0430.0020.045
impute53.641 0.45654.128
make_se0.0410.0010.043
make_se_parse0.0590.0030.063
make_unique0.0180.0000.018
manual_impute0.6070.0090.617
meanSdPlot0.6970.0570.754
normalize_vsn0.3180.0000.318
plot_all1.8660.0161.882
plot_cond1.1420.0111.153
plot_cond_freq0.9910.0020.993
plot_cond_overlap0.8990.0010.900
plot_cor1.1200.0011.120
plot_coverage0.5590.0000.559
plot_detect0.9400.0000.939
plot_dist3.3640.0193.382
plot_frequency0.4480.0000.448
plot_gsea0.6340.0020.636
plot_heatmap2.3550.0192.375
plot_imputation1.0870.0091.097
plot_missval2.4760.0892.565
plot_normalization1.5080.0511.558
plot_numbers0.5420.0010.542
plot_p_hist1.3450.0021.347
plot_pca1.3420.0431.385
plot_single1.8760.0121.889
plot_volcano4.3640.0494.414
process1.4180.0111.429
report000
run_app0.0010.0000.000
se2msn0.1090.0000.109
test_diff0.7800.0060.786
test_gsea0.6040.0090.613
theme_DEP10.4920.0030.495
theme_DEP20.4900.0000.489