Back to Multiple platform build/check report for BioC 3.22:   simplified   long
ABC[D]EFGHIJKLMNOPQRSTUVWXYZ

This page was generated on 2025-10-25 12:03 -0400 (Sat, 25 Oct 2025).

HostnameOSArch (*)R versionInstalled pkgs
nebbiolo2Linux (Ubuntu 24.04.3 LTS)x86_644.5.1 Patched (2025-08-23 r88802) -- "Great Square Root" 4901
lconwaymacOS 12.7.6 Montereyx86_644.5.1 Patched (2025-09-10 r88807) -- "Great Square Root" 4691
kjohnson3macOS 13.7.7 Venturaarm644.5.1 Patched (2025-09-10 r88807) -- "Great Square Root" 4637
taishanLinux (openEuler 24.03 LTS)aarch644.5.0 (2025-04-11) -- "How About a Twenty-Six" 4658
Click on any hostname to see more info about the system (e.g. compilers)      (*) as reported by 'uname -p', except on Windows and Mac OS X

Package 523/2361HostnameOS / ArchINSTALLBUILDCHECKBUILD BIN
DAPAR 1.41.0  (landing page)
Samuel Wieczorek
Snapshot Date: 2025-10-24 13:45 -0400 (Fri, 24 Oct 2025)
git_url: https://git.bioconductor.org/packages/DAPAR
git_branch: devel
git_last_commit: c47beab
git_last_commit_date: 2025-04-15 10:53:48 -0400 (Tue, 15 Apr 2025)
nebbiolo2Linux (Ubuntu 24.04.3 LTS) / x86_64  OK    OK    OK  UNNEEDED, same version is already published
lconwaymacOS 12.7.6 Monterey / x86_64  OK    OK    OK    OK  UNNEEDED, same version is already published
kjohnson3macOS 13.7.7 Ventura / arm64  OK    OK    OK    OK  UNNEEDED, same version is already published
taishanLinux (openEuler 24.03 LTS) / aarch64  OK    NA    NA  


CHECK results for DAPAR on nebbiolo2

To the developers/maintainers of the DAPAR package:
- Allow up to 24 hours (and sometimes 48 hours) for your latest push to git@git.bioconductor.org:packages/DAPAR.git to reflect on this report. See Troubleshooting Build Report for more information.
- Use the following Renviron settings to reproduce errors and warnings.
- If 'R CMD check' started to fail recently on the Linux builder(s) over a missing dependency, add the missing dependency to 'Suggests:' in your DESCRIPTION file. See Renviron.bioc for more information.

raw results


Summary

Package: DAPAR
Version: 1.41.0
Command: /home/biocbuild/bbs-3.22-bioc/R/bin/R CMD check --install=check:DAPAR.install-out.txt --library=/home/biocbuild/bbs-3.22-bioc/R/site-library --timings DAPAR_1.41.0.tar.gz
StartedAt: 2025-10-24 22:48:43 -0400 (Fri, 24 Oct 2025)
EndedAt: 2025-10-24 22:57:05 -0400 (Fri, 24 Oct 2025)
EllapsedTime: 501.5 seconds
RetCode: 0
Status:   OK  
CheckDir: DAPAR.Rcheck
Warnings: 0

Command output

##############################################################################
##############################################################################
###
### Running command:
###
###   /home/biocbuild/bbs-3.22-bioc/R/bin/R CMD check --install=check:DAPAR.install-out.txt --library=/home/biocbuild/bbs-3.22-bioc/R/site-library --timings DAPAR_1.41.0.tar.gz
###
##############################################################################
##############################################################################


* using log directory ‘/home/biocbuild/bbs-3.22-bioc/meat/DAPAR.Rcheck’
* using R version 4.5.1 Patched (2025-08-23 r88802)
* using platform: x86_64-pc-linux-gnu
* R was compiled by
    gcc (Ubuntu 13.3.0-6ubuntu2~24.04) 13.3.0
    GNU Fortran (Ubuntu 13.3.0-6ubuntu2~24.04) 13.3.0
* running under: Ubuntu 24.04.3 LTS
* using session charset: UTF-8
* checking for file ‘DAPAR/DESCRIPTION’ ... OK
* checking extension type ... Package
* this is package ‘DAPAR’ version ‘1.41.0’
* package encoding: UTF-8
* checking package namespace information ... OK
* checking package dependencies ... INFO
Vignette dependency required without any vignettes: ‘knitr’
* checking if this is a source package ... OK
* checking if there is a namespace ... OK
* checking for hidden files and directories ... OK
* checking for portable file names ... OK
* checking for sufficient/correct file permissions ... OK
* checking whether package ‘DAPAR’ can be installed ... OK
* checking installed package size ... OK
* checking package directory ... OK
* checking DESCRIPTION meta-information ... OK
* checking top-level files ... OK
* checking for left-over files ... OK
* checking index information ... OK
* checking package subdirectories ... OK
* checking code files for non-ASCII characters ... OK
* checking R files for syntax errors ... OK
* checking whether the package can be loaded ... OK
* checking whether the package can be loaded with stated dependencies ... OK
* checking whether the package can be unloaded cleanly ... OK
* checking whether the namespace can be loaded with stated dependencies ... OK
* checking whether the namespace can be unloaded cleanly ... OK
* checking loading without being on the library search path ... OK
* checking whether startup messages can be suppressed ... OK
* checking dependencies in R code ... OK
* checking S3 generic/method consistency ... OK
* checking replacement functions ... OK
* checking foreign function calls ... OK
* checking R code for possible problems ... NOTE
Check_Dataset_Validity: no visible global function definition for
  ‘exprs’
OWAnova: no visible global function definition for ‘aov’
aggregateIterParallel: no visible binding for global variable ‘cond’
averageIntensities: no visible binding for global variable ‘condition’
averageIntensities: no visible binding for global variable ‘feature’
averageIntensities: no visible binding for global variable ‘intensity’
createMSnset: no visible global function definition for
  ‘installed.packages’
createMSnset: no visible binding for global variable ‘Prostar.loc’
createMSnset2: no visible global function definition for
  ‘installed.packages’
createMSnset2: no visible binding for global variable ‘Prostar.loc’
diffAnaVolcanoplot_rCharts: no visible binding for global variable ‘x’
diffAnaVolcanoplot_rCharts: no visible binding for global variable ‘y’
diffAnaVolcanoplot_rCharts: no visible binding for global variable ‘g’
display.CC.visNet: no visible binding for global variable
  ‘layout_nicely’
getTextForGOAnalysis: no visible binding for global variable
  ‘textGOParams’
getTextForGOAnalysis: no visible binding for global variable ‘input’
globalAdjPval: no visible global function definition for ‘stack’
heatmapForMissingValues: no visible binding for global variable ‘par’
limmaCompleteTest: no visible binding for global variable ‘A’
limmaCompleteTest: no visible binding for global variable ‘B’
limmaCompleteTest: no visible binding for global variable ‘P.Value’
pepa.test: no visible global function definition for ‘nodes<-’
testAnovaModels : <anonymous>: no visible global function definition
  for ‘TukeyHSD’
visualizeClusters: no visible binding for global variable
  ‘adjusted_pvalues’
visualizeClusters: no visible binding for global variable ‘Condition’
visualizeClusters: no visible binding for global variable ‘Intensity’
visualizeClusters: no visible binding for global variable
  ‘FDR_threshold’
visualizeClusters: no visible binding for global variable ‘feature’
wrapperClassic1wayAnova: no visible binding for global variable
  ‘Pr(>F)1’
wrapperRunClustering: no visible global function definition for ‘str_c’
Undefined global functions or variables:
  A B Condition FDR_threshold Intensity P.Value Pr(>F)1 Prostar.loc
  TukeyHSD adjusted_pvalues aov cond condition exprs feature g input
  installed.packages intensity layout_nicely nodes<- par stack str_c
  textGOParams x y
Consider adding
  importFrom("graphics", "par")
  importFrom("stats", "TukeyHSD", "aov")
  importFrom("utils", "installed.packages", "stack")
to your NAMESPACE file.
* checking Rd files ... OK
* checking Rd metadata ... OK
* checking Rd cross-references ... OK
* checking for missing documentation entries ... OK
* checking for code/documentation mismatches ... OK
* checking Rd \usage sections ... OK
* checking Rd contents ... OK
* checking for unstated dependencies in examples ... OK
* checking examples ... OK
Examples with CPU (user + system) or elapsed time > 5s
                                   user system elapsed
wrapper.compareNormalizationD_HC 37.191 11.266  48.863
wrapper.dapar.impute.mi          13.195  0.382  13.586
barplotEnrichGO_HC                7.045  0.657   7.744
* checking for unstated dependencies in ‘tests’ ... OK
* checking tests ...
  Running ‘testthat.R’
 OK
* checking PDF version of manual ... OK
* DONE

Status: 1 NOTE
See
  ‘/home/biocbuild/bbs-3.22-bioc/meat/DAPAR.Rcheck/00check.log’
for details.


Installation output

DAPAR.Rcheck/00install.out

##############################################################################
##############################################################################
###
### Running command:
###
###   /home/biocbuild/bbs-3.22-bioc/R/bin/R CMD INSTALL DAPAR
###
##############################################################################
##############################################################################


* installing to library ‘/home/biocbuild/bbs-3.22-bioc/R/site-library’
* installing *source* package ‘DAPAR’ ...
** this is package ‘DAPAR’ version ‘1.41.0’
** using staged installation
** R
** inst
** byte-compile and prepare package for lazy loading
** help
*** installing help indices
** building package indices
** testing if installed package can be loaded from temporary location
** testing if installed package can be loaded from final location
** testing if installed package keeps a record of temporary installation path
* DONE (DAPAR)

Tests output

DAPAR.Rcheck/tests/testthat.Rout


R version 4.5.1 Patched (2025-08-23 r88802) -- "Great Square Root"
Copyright (C) 2025 The R Foundation for Statistical Computing
Platform: x86_64-pc-linux-gnu

R is free software and comes with ABSOLUTELY NO WARRANTY.
You are welcome to redistribute it under certain conditions.
Type 'license()' or 'licence()' for distribution details.

R is a collaborative project with many contributors.
Type 'contributors()' for more information and
'citation()' on how to cite R or R packages in publications.

Type 'demo()' for some demos, 'help()' for on-line help, or
'help.start()' for an HTML browser interface to help.
Type 'q()' to quit R.

> library(testthat)
> library(DAPAR)

This is the 'DAPAR' version 1.41.0.

  To get started, visit
    http://www.prostar-proteomics.org/


> 
> test_check("DAPAR")

 Iterations: 

 1 / 1  - Imputation MNAR OK - 
Imputation MCAR in progress - 
3 % - 6 % - 9 % - 12 % - 15 % - 18 % - 21 % - 24 % - 27 % - 30 % - 33 % - 36 % - 39 % - 42 % - 45 % - 48 % - 51 % - 54 % - 57 % - 60 % - 63 % - 66 % - 69 % - 72 % - 75 % - 78 % - 81 % - 84 % - 87 % - 90 % - 93 % - 96 % - 99 % - 
 Iterations: 

 1 / 1  - Imputation MNAR OK - 
Imputation MCAR in progress - 
3 % - 6 % - 9 % - 12 % - 15 % - 18 % - 21 % - 24 % - 27 % - 30 % - 33 % - 36 % - 39 % - 42 % - 45 % - 48 % - 51 % - 54 % - 57 % - 60 % - 63 % - 66 % - 69 % - 72 % - 75 % - 78 % - 81 % - 84 % - 87 % - 90 % - 93 % - 96 % - 99 % - 
 Imputation in condition  1 ...
 In progress: 10 % - 20 % - 30 % - 40 % - 50 % - 60 % - 70 % - 80 % - 90 % - 100 % - 
 Imputation in condition  2 ...
 In progress: 10 % - 20 % - 30 % - 40 % - 50 % - 60 % - 70 % - 80 % - 90 % - 100 % - [ FAIL 0 | WARN 19 | SKIP 0 | PASS 66 ]

[ FAIL 0 | WARN 19 | SKIP 0 | PASS 66 ]
> 
> proc.time()
   user  system elapsed 
 31.405   1.043  32.452 

Example timings

DAPAR.Rcheck/DAPAR-Ex.timings

nameusersystemelapsed
AggregateMetacell0.5770.0200.597
BuildAdjacencyMatrix0.4650.0070.471
BuildColumnToProteinDataset0.5300.0140.544
BuildMetaCell0.6520.0230.681
CVDistD_HC2.8610.0692.975
Children0.0040.0000.004
CountPep0.4770.0300.508
ExtendPalette0.0230.0010.025
GOAnalysisSave000
GetCC2.6110.0522.663
GetColorsForConditions0.4470.0070.455
GetDetailedNbPeptides0.4640.0240.488
GetDetailedNbPeptidesUsed000
GetIndices_BasedOnConditions0.4510.0100.462
GetIndices_MetacellFiltering0.4550.0130.469
GetIndices_WholeLine0.4420.0150.458
GetIndices_WholeMatrix0.4540.0080.463
GetKeyId0.4380.0090.447
GetMatAdj0.4890.0100.499
GetMetacell000
GetMetacellTags0.4410.0230.464
GetNbPeptidesUsed0.4440.0250.470
GetNbTags000
GetSoftAvailables0.0000.0000.001
GetTypeofData0.4550.0100.464
Get_AllComparisons0.2680.0250.293
GlobalQuantileAlignment0.4700.0110.482
GraphPepProt0.4700.0120.482
LH0000
LH0.lm000
LH1000
LH1.lm000
LOESS1.1550.0221.176
MeanCentering0.4780.0110.488
MetaCellFiltering0.5930.0150.608
MetacellFilteringScope000
Metacell_DIA_NN0.4540.0050.460
Metacell_generic0.3830.0010.384
Metacell_maxquant0.4360.0040.440
Metacell_proline0.3860.0040.390
NumericalFiltering0.4730.0100.483
NumericalgetIndicesOfLinesToRemove0.4360.0220.459
OWAnova0.0060.0010.007
QuantileCentering0.4640.0140.478
SetCC2.5180.1042.621
SetMatAdj0.4820.0090.491
Set_POV_MEC_tags0.4480.0070.454
StringBasedFiltering0.4840.0080.491
StringBasedFiltering20.4720.0090.481
SumByColumns1.2340.1181.352
SymFilteringOperators0.0010.0000.000
UpdateMetacellAfterImputation0.4500.0110.462
aggregateIter0.580.010.59
aggregateIterParallel000
aggregateMean0.5220.0070.529
aggregateSum0.5450.0110.555
aggregateTopn0.5090.0130.523
applyAnovasOnProteins0.1330.0030.137
averageIntensities0.4530.0550.510
barplotEnrichGO_HC7.0450.6577.744
barplotGroupGO_HC4.1580.2174.385
boxPlotD_HC0.3010.0220.323
buildGraph1.7130.0201.734
check.conditions0.4130.0190.432
check.design0.4200.0080.428
checkClusterability2.5091.0133.566
classic1wayAnova000
compareNormalizationD_HC0.1590.0190.178
compute.selection.table0.6520.0440.700
compute_t_tests1.0280.0721.105
corrMatrixD_HC0.5010.0230.524
createMSnset1.4610.0551.517
createMSnset21.4470.0381.485
dapar_hc_ExportMenu0.1180.0240.143
dapar_hc_chart0.0520.0100.061
deleteLinesFromIndices0.4810.0140.495
densityPlotD_HC2.4140.5833.018
diffAnaComputeAdjustedPValues0.2100.0200.231
diffAnaComputeFDR0.0000.0000.001
diffAnaGetSignificant0.2670.0230.291
diffAnaSave0.2500.0210.272
diffAnaVolcanoplot0.1840.0100.193
diffAnaVolcanoplot_rCharts0.3380.0370.376
display.CC.visNet1.8390.1702.011
enrich_GO3.8730.2694.150
finalizeAggregation000
findMECBlock0.5600.0090.569
formatHSDResults000
formatLimmaResult0.1720.0120.183
formatPHResults000
formatPHTResults000
fudge2LRT000
get.pep.prot.cc1.6410.0251.667
getDesignLevel0.4280.0100.438
getIndicesConditions0.4210.0090.430
getIndicesOfLinesToRemove0.4430.0080.451
getListNbValuesInLines0.4290.0050.434
getNumberOf0.4400.0180.459
getNumberOfEmptyLines0.4500.0100.461
getPourcentageOfMV0.4390.0190.459
getProcessingInfo0.4250.0130.439
getProteinsStats0.4640.0090.473
getQuantile4Imp0.1190.0070.126
getTextForAggregation000
getTextForAnaDiff000
getTextForFiltering000
getTextForGOAnalysis000
getTextForHypothesisTest000
getTextForNewDataset0.0020.0000.002
getTextForNormalization000
getTextForpeptideImputation0.0010.0000.000
getTextForproteinImputation000
globalAdjPval0.4570.0370.494
group_GO4.0420.2634.313
hc_logFC_DensityPlot0.6190.1650.786
hc_mvTypePlot20.8510.1330.986
heatmapD0.7070.0290.736
heatmapForMissingValues0.1920.0190.211
histPValue_HC0.2290.0260.256
impute.pa20.5260.0090.535
inner.aggregate.iter0.5140.0200.535
inner.aggregate.topn0.4910.0130.505
inner.mean0.5260.0080.536
inner.sum0.5240.0080.531
is.subset0.0010.0000.000
limmaCompleteTest1.3570.0271.383
listSheets000
make.contrast0.4480.0140.461
make.design.10.4530.0090.462
make.design.20.4570.0080.464
make.design.30.4610.0110.471
make.design0.4930.0120.504
match.metacell0.4770.0130.491
metacell.def0.0040.0000.005
metacellHisto_HC0.5100.0150.526
metacellPerLinesHistoPerCondition_HC0.6330.0390.673
metacellPerLinesHisto_HC0.7130.0710.785
metacombine0.1500.0050.156
mvImage2.1360.0832.223
my_hc_ExportMenu0.1160.0200.137
my_hc_chart0.1130.0240.138
nonzero0.0190.0000.019
normalizeMethods.dapar0.0010.0000.000
pepa.test0.4700.0130.483
pkgs.require000
plotJitter1.8850.0631.950
plotJitter_rCharts1.7530.0351.790
plotPCA_Eigen0.5010.0230.524
plotPCA_Eigen_hc0.4310.0050.435
plotPCA_Ind0.4340.0100.444
plotPCA_Var0.4260.0080.434
postHocTest000
proportionConRev_HC0.0370.0120.049
rbindMSnset0.5070.0210.528
reIntroduceMEC0.4670.0240.490
readExcel000
removeLines0.4700.0160.487
samLRT000
saveParameters0.4310.0060.437
scatterplotEnrichGO_HC4.0110.2114.229
search.metacell.tags0.0050.0010.006
separateAdjPval0.1980.0090.207
splitAdjacencyMat0.4710.0150.486
test.design0.4620.0080.469
testAnovaModels0.1400.0120.152
thresholdpval4fdr000
translatedRandomBeta0.0010.0010.002
univ_AnnotDbPkg0.1550.0140.169
violinPlotD0.3280.0150.343
visualizeClusters1.2610.1051.370
vsn0.6690.0110.680
wrapper.CVDistD_HC1.6160.3782.006
wrapper.compareNormalizationD_HC37.19111.26648.863
wrapper.corrMatrixD_HC0.5260.0130.540
wrapper.dapar.impute.mi13.195 0.38213.586
wrapper.heatmapD0.6520.0170.668
wrapper.impute.KNN0.4680.0180.487
wrapper.impute.detQuant0.4920.0190.512
wrapper.impute.fixedValue0.4940.0120.507
wrapper.impute.mle0.4590.0120.470
wrapper.impute.pa0.1490.0130.161
wrapper.impute.pa20.4600.0220.482
wrapper.impute.slsa0.5770.0180.596
wrapper.mvImage0.1730.0100.183
wrapper.normalizeD0.4790.0070.485
wrapper.pca0.1740.0080.182
wrapperCalibrationPlot0.1980.0140.212
wrapperClassic1wayAnova000
wrapperRunClustering1.9610.1842.151
write.excel0.8180.0760.896
writeMSnsetToCSV0.4470.0150.462
writeMSnsetToExcel0.9570.0771.036