Back to Multiple platform build/check report for BioC 3.22:   simplified   long
AB[C]DEFGHIJKLMNOPQRSTUVWXYZ

This page was generated on 2025-11-20 12:03 -0500 (Thu, 20 Nov 2025).

HostnameOSArch (*)R versionInstalled pkgs
nebbiolo2Linux (Ubuntu 24.04.3 LTS)x86_644.5.2 (2025-10-31) -- "[Not] Part in a Rumble" 4615
merida1macOS 12.7.6 Montereyx86_644.5.2 Patched (2025-11-05 r88990) -- "[Not] Part in a Rumble" 4610
kjohnson1macOS 13.7.5 Venturaarm644.5.2 Patched (2025-11-04 r88984) -- "[Not] Part in a Rumble" 4598
taishanLinux (openEuler 24.03 LTS)aarch644.5.0 (2025-04-11) -- "How About a Twenty-Six" 4668
Click on any hostname to see more info about the system (e.g. compilers)      (*) as reported by 'uname -p', except on Windows and Mac OS X

Package 320/2361HostnameOS / ArchINSTALLBUILDCHECKBUILD BIN
CEMiTool 1.34.0  (landing page)
Helder Nakaya
Snapshot Date: 2025-11-17 13:45 -0500 (Mon, 17 Nov 2025)
git_url: https://git.bioconductor.org/packages/CEMiTool
git_branch: RELEASE_3_22
git_last_commit: a56e804
git_last_commit_date: 2025-10-29 10:40:00 -0500 (Wed, 29 Oct 2025)
nebbiolo2Linux (Ubuntu 24.04.3 LTS) / x86_64  OK    OK    OK  UNNEEDED, same version is already published
merida1macOS 12.7.6 Monterey / x86_64  OK    OK    OK    OK  UNNEEDED, same version is already published
kjohnson1macOS 13.7.5 Ventura / arm64  OK    OK    OK    OK  UNNEEDED, same version is already published
taishanLinux (openEuler 24.03 LTS) / aarch64  OK    OK    OK  


CHECK results for CEMiTool on nebbiolo2

To the developers/maintainers of the CEMiTool package:
- Allow up to 24 hours (and sometimes 48 hours) for your latest push to git@git.bioconductor.org:packages/CEMiTool.git to reflect on this report. See Troubleshooting Build Report for more information.
- Use the following Renviron settings to reproduce errors and warnings.
- If 'R CMD check' started to fail recently on the Linux builder(s) over a missing dependency, add the missing dependency to 'Suggests:' in your DESCRIPTION file. See Renviron.bioc for more information.

raw results


Summary

Package: CEMiTool
Version: 1.34.0
Command: /home/biocbuild/bbs-3.22-bioc/R/bin/R CMD check --install=check:CEMiTool.install-out.txt --library=/home/biocbuild/bbs-3.22-bioc/R/site-library --timings CEMiTool_1.34.0.tar.gz
StartedAt: 2025-11-18 01:38:41 -0500 (Tue, 18 Nov 2025)
EndedAt: 2025-11-18 01:45:20 -0500 (Tue, 18 Nov 2025)
EllapsedTime: 399.3 seconds
RetCode: 0
Status:   OK  
CheckDir: CEMiTool.Rcheck
Warnings: 0

Command output

##############################################################################
##############################################################################
###
### Running command:
###
###   /home/biocbuild/bbs-3.22-bioc/R/bin/R CMD check --install=check:CEMiTool.install-out.txt --library=/home/biocbuild/bbs-3.22-bioc/R/site-library --timings CEMiTool_1.34.0.tar.gz
###
##############################################################################
##############################################################################


* using log directory ‘/home/biocbuild/bbs-3.22-bioc/meat/CEMiTool.Rcheck’
* using R version 4.5.2 (2025-10-31)
* using platform: x86_64-pc-linux-gnu
* R was compiled by
    gcc (Ubuntu 13.3.0-6ubuntu2~24.04) 13.3.0
    GNU Fortran (Ubuntu 13.3.0-6ubuntu2~24.04) 13.3.0
* running under: Ubuntu 24.04.3 LTS
* using session charset: UTF-8
* checking for file ‘CEMiTool/DESCRIPTION’ ... OK
* this is package ‘CEMiTool’ version ‘1.34.0’
* package encoding: UTF-8
* checking package namespace information ... OK
* checking package dependencies ... INFO
Imports includes 25 non-default packages.
Importing from so many packages makes the package vulnerable to any of
them becoming unavailable.  Move as many as possible to Suggests and
use conditionally.
* checking if this is a source package ... OK
* checking if there is a namespace ... OK
* checking for hidden files and directories ... OK
* checking for portable file names ... OK
* checking for sufficient/correct file permissions ... OK
* checking whether package ‘CEMiTool’ can be installed ... OK
* checking installed package size ... INFO
  installed size is  6.6Mb
  sub-directories of 1Mb or more:
    data      3.1Mb
    extdata   2.8Mb
* checking package directory ... OK
* checking ‘build’ directory ... OK
* checking DESCRIPTION meta-information ... OK
* checking top-level files ... OK
* checking for left-over files ... OK
* checking index information ... OK
* checking package subdirectories ... OK
* checking code files for non-ASCII characters ... OK
* checking R files for syntax errors ... OK
* checking whether the package can be loaded ... OK
* checking whether the package can be loaded with stated dependencies ... OK
* checking whether the package can be unloaded cleanly ... OK
* checking whether the namespace can be loaded with stated dependencies ... OK
* checking whether the namespace can be unloaded cleanly ... OK
* checking loading without being on the library search path ... OK
* checking dependencies in R code ... OK
* checking S3 generic/method consistency ... OK
* checking replacement functions ... OK
* checking foreign function calls ... OK
* checking R code for possible problems ... NOTE
flip_vector: no visible global function definition for ‘setNames’
get_args: no visible global function definition for ‘is’
select_genes: no visible global function definition for ‘var’
get_hubs,CEMiTool : <anonymous>: no visible global function definition
  for ‘head’
get_merged_mods,CEMiTool: no visible global function definition for
  ‘as.dist’
get_mods,CEMiTool: no visible global function definition for ‘as.dist’
get_phi,CEMiTool: no visible global function definition for ‘tail’
get_phi,CEMiTool: no visible global function definition for ‘head’
mod_gene_num,CEMiTool: no visible binding for global variable ‘modules’
mod_gene_num,CEMiTool: no visible binding for global variable
  ‘num_genes’
mod_summary,CEMiTool: no visible global function definition for ‘:=’
plot_gsea,CEMiTool: no visible global function definition for ‘dist’
plot_mean_var,CEMiTool: no visible binding for global variable ‘var’
plot_mean_var,CEMiTool: no visible binding for global variable ‘Mean’
plot_mean_var,CEMiTool: no visible binding for global variable
  ‘Variance’
plot_mean_var,CEMiTool: no visible binding for global variable
  ‘..eq.label..’
plot_mean_var,CEMiTool: no visible binding for global variable
  ‘..rr.label..’
plot_ora,CEMiTool : <anonymous>: no visible global function definition
  for ‘head’
plot_qq,CEMiTool: no visible binding for global variable ‘data’
plot_sample_tree,CEMiTool: no visible global function definition for
  ‘dist’
plot_sample_tree,CEMiTool: no visible global function definition for
  ‘dev.off’
save_plots,CEMiTool : <anonymous>: no visible global function
  definition for ‘dev.off’
save_plots,CEMiTool: no visible global function definition for
  ‘dev.off’
Undefined global functions or variables:
  ..eq.label.. ..rr.label.. := Mean Variance as.dist data dev.off dist
  head is modules num_genes setNames tail var
Consider adding
  importFrom("grDevices", "dev.off")
  importFrom("methods", "is")
  importFrom("stats", "as.dist", "dist", "setNames", "var")
  importFrom("utils", "data", "head", "tail")
to your NAMESPACE file (and ensure that your DESCRIPTION Imports field
contains 'methods').
* checking Rd files ... OK
* checking Rd metadata ... OK
* checking Rd cross-references ... OK
* checking for missing documentation entries ... OK
* checking for code/documentation mismatches ... OK
* checking Rd \usage sections ... OK
* checking Rd contents ... OK
* checking for unstated dependencies in examples ... OK
* checking contents of ‘data’ directory ... OK
* checking data for non-ASCII characters ... OK
* checking LazyData ... OK
* checking data for ASCII and uncompressed saves ... OK
* checking files in ‘vignettes’ ... OK
* checking examples ... OK
Examples with CPU (user + system) or elapsed time > 5s
                   user system elapsed
cemitool          9.925  0.304  10.229
plot_interactions 9.046  0.095   9.141
* checking for unstated dependencies in ‘tests’ ... OK
* checking tests ...
  Running ‘testthat.R’
 OK
* checking for unstated dependencies in vignettes ... OK
* checking package vignettes ... OK
* checking re-building of vignette outputs ... OK
* checking PDF version of manual ... OK
* DONE

Status: 1 NOTE
See
  ‘/home/biocbuild/bbs-3.22-bioc/meat/CEMiTool.Rcheck/00check.log’
for details.


Installation output

CEMiTool.Rcheck/00install.out

##############################################################################
##############################################################################
###
### Running command:
###
###   /home/biocbuild/bbs-3.22-bioc/R/bin/R CMD INSTALL CEMiTool
###
##############################################################################
##############################################################################


* installing to library ‘/home/biocbuild/bbs-3.22-bioc/R/site-library’
* installing *source* package ‘CEMiTool’ ...
** this is package ‘CEMiTool’ version ‘1.34.0’
** using staged installation
** R
** data
*** moving datasets to lazyload DB
** exec
** inst
** byte-compile and prepare package for lazy loading
** help
*** installing help indices
** building package indices
** installing vignettes
** testing if installed package can be loaded from temporary location
** testing if installed package can be loaded from final location
** testing if installed package keeps a record of temporary installation path
* DONE (CEMiTool)

Tests output

CEMiTool.Rcheck/tests/testthat.Rout


R version 4.5.2 (2025-10-31) -- "[Not] Part in a Rumble"
Copyright (C) 2025 The R Foundation for Statistical Computing
Platform: x86_64-pc-linux-gnu

R is free software and comes with ABSOLUTELY NO WARRANTY.
You are welcome to redistribute it under certain conditions.
Type 'license()' or 'licence()' for distribution details.

R is a collaborative project with many contributors.
Type 'contributors()' for more information and
'citation()' on how to cite R or R packages in publications.

Type 'demo()' for some demos, 'help()' for on-line help, or
'help.start()' for an HTML browser interface to help.
Type 'q()' to quit R.

> library(testthat)
> library(CEMiTool)

> test_check('CEMiTool')
[ FAIL 0 | WARN 13 | SKIP 0 | PASS 105 ]

[ FAIL 0 | WARN 13 | SKIP 0 | PASS 105 ]
> 
> proc.time()
   user  system elapsed 
 25.311   0.887  26.142 

Example timings

CEMiTool.Rcheck/CEMiTool-Ex.timings

nameusersystemelapsed
CEMiTool-class0.0110.0010.012
adj_data0.7140.0140.730
cem0.0210.0050.025
cemitool 9.925 0.30410.229
expr00.0010.0000.001
expr_data0.1040.0000.105
filter_expr0.1240.0010.124
find_modules1.6440.0431.687
fit_data1.6590.0041.665
generate_report000
get_adj0.0860.0010.086
get_beta_data0.6980.0000.699
get_cemitool_r2_beta1.6030.0011.605
get_connectivity1.6940.0001.694
get_hubs0.0120.0010.014
get_merged_mods0.8950.0540.951
get_mods0.7280.0020.731
get_phi1.6160.0001.617
gsea_data3.6560.0563.712
interactions_data0.2190.0100.228
mod_colors0.0120.0010.012
mod_gene_num0.0590.0020.060
mod_gsea1.5650.0211.585
mod_names0.0140.0010.015
mod_ora2.4430.0302.473
mod_summary0.1200.0010.114
module_genes0.0140.0020.015
new_cem0.0090.0020.011
nmodules0.0110.0030.014
ora_data2.9510.0052.958
plot_beta_r20.1870.0000.189
plot_gsea1.7480.0051.753
plot_hist0.3630.0000.364
plot_interactions9.0460.0959.141
plot_mean_k0.2040.0090.213
plot_mean_var0.4320.0140.447
plot_ora3.6680.0443.713
plot_profile1.8290.0361.866
plot_qq0.4990.0200.519
plot_sample_tree0.6930.0020.694
read_gmt0.4390.0000.439
sample_annot0.0010.0000.002
sample_annotation0.0110.0000.012
save_plots0.5850.0630.647
select_genes0.1260.0010.126
show_plot0.1770.0010.178
write_files0.3370.0050.325