| Back to Build/check report for BioC 3.22: simplified long |
|
This page was generated on 2025-10-27 12:45 -0400 (Mon, 27 Oct 2025).
| Hostname | OS | Arch (*) | R version | Installed pkgs |
|---|---|---|---|---|
| kjohnson3 | macOS 13.7.7 Ventura | arm64 | 4.5.1 Patched (2025-09-10 r88807) -- "Great Square Root" | 4637 |
| Click on any hostname to see more info about the system (e.g. compilers) (*) as reported by 'uname -p', except on Windows and Mac OS X | ||||
| Package 270/2361 | Hostname | OS / Arch | INSTALL | BUILD | CHECK | BUILD BIN | ||||||||
| CAFE 1.45.0 (landing page) Sander Bollen
| kjohnson3 | macOS 13.7.7 Ventura / arm64 | OK | OK | WARNINGS | OK | ||||||||
|
To the developers/maintainers of the CAFE package: - Allow up to 24 hours (and sometimes 48 hours) for your latest push to git@git.bioconductor.org:packages/CAFE.git to reflect on this report. See Troubleshooting Build Report for more information. - Use the following Renviron settings to reproduce errors and warnings. - If 'R CMD check' started to fail recently on the Linux builder(s) over a missing dependency, add the missing dependency to 'Suggests:' in your DESCRIPTION file. See Renviron.bioc for more information. |
| Package: CAFE |
| Version: 1.45.0 |
| Command: rm -rf CAFE.buildbin-libdir && mkdir CAFE.buildbin-libdir && /Users/biocbuild/BBS/utils/build-universal.sh CAFE_1.45.0.tar.gz /Library/Frameworks/R.framework/Resources/bin/R CAFE.buildbin-libdir |
| StartedAt: 2025-10-26 22:30:56 -0400 (Sun, 26 Oct 2025) |
| EndedAt: 2025-10-26 22:31:19 -0400 (Sun, 26 Oct 2025) |
| EllapsedTime: 23.4 seconds |
| RetCode: 0 |
| Status: OK |
| PackageFile: CAFE_1.45.0.tgz |
| PackageFileSize: 4.688 MiB |
############################################################################## ############################################################################## ### ### Running command: ### ### rm -rf CAFE.buildbin-libdir && mkdir CAFE.buildbin-libdir && /Users/biocbuild/BBS/utils/build-universal.sh CAFE_1.45.0.tar.gz /Library/Frameworks/R.framework/Resources/bin/R CAFE.buildbin-libdir ### ############################################################################## ############################################################################## >>>>>>> >>>>>>> INSTALLATION WITH 'R CMD INSTALL --preclean --no-multiarch --library=CAFE.buildbin-libdir CAFE_1.45.0.tar.gz' >>>>>>> * installing *source* package ‘CAFE’ ... ** this is package ‘CAFE’ version ‘1.45.0’ ** using staged installation ** R ** data ** inst ** byte-compile and prepare package for lazy loading ** help *** installing help indices ** building package indices ** installing vignettes ** testing if installed package can be loaded from temporary location ** testing if installed package can be loaded from final location ** testing if installed package keeps a record of temporary installation path * DONE (CAFE)