Back to Workflows build report for BioC 3.21

This page was generated on 2025-04-29 16:30 -0400 (Tue, 29 Apr 2025).

HostnameOSArch (*)R versionInstalled pkgs
nebbiolo1Linux (Ubuntu 24.04.1 LTS)x86_644.5.0 RC (2025-04-04 r88126) -- "How About a Twenty-Six" 4832
palomino7Windows Server 2022 Datacenterx644.5.0 RC (2025-04-04 r88126 ucrt) -- "How About a Twenty-Six" 4574
merida1macOS 12.7.5 Montereyx86_644.5.0 RC (2025-04-04 r88126) -- "How About a Twenty-Six" 4599
Click on any hostname to see more info about the system (e.g. compilers)      (*) as reported by 'uname -p', except on Windows and Mac OS X

Package 6/30HostnameOS / ArchINSTALLBUILD
chipseqDB 1.32.0  (landing page)
Aaron Lun
Snapshot Date: 2025-04-29 12:45 -0400 (Tue, 29 Apr 2025)
git_url: https://git.bioconductor.org/packages/chipseqDB
git_branch: RELEASE_3_21
git_last_commit: 882fa98
git_last_commit_date: 2025-04-15 10:28:29 -0400 (Tue, 15 Apr 2025)
nebbiolo1Linux (Ubuntu 24.04.1 LTS) / x86_64  OK    OK  UNNEEDED, same version is already published
palomino7Windows Server 2022 Datacenter / x64... NOT SUPPORTED ...
merida1macOS 12.7.5 Monterey / x86_64  OK    OK  


BUILD results for chipseqDB on nebbiolo1

To the developers/maintainers of the chipseqDB package:
- Use the following Renviron settings to reproduce errors and warnings.
- If 'R CMD check' started to fail recently on the Linux builder(s) over a missing dependency, add the missing dependency to 'Suggests:' in your DESCRIPTION file. See Renviron.bioc for more information.

raw results


Summary

Package: chipseqDB
Version: 1.32.0
Command: /home/biocbuild/bbs-3.21-bioc/R/bin/R CMD build --keep-empty-dirs --no-resave-data chipseqDB
StartedAt: 2025-04-29 13:04:12 -0400 (Tue, 29 Apr 2025)
EndedAt: 2025-04-29 13:04:18 -0400 (Tue, 29 Apr 2025)
EllapsedTime: 6.0 seconds
RetCode: 0
Status:   OK  
PackageFile: chipseqDB_1.32.0.tar.gz
PackageFileSize: 1.119 MiB

Command output

##############################################################################
##############################################################################
###
### Running command:
###
###   /home/biocbuild/bbs-3.21-bioc/R/bin/R CMD build --keep-empty-dirs --no-resave-data chipseqDB
###
##############################################################################
##############################################################################


* checking for file ‘chipseqDB/DESCRIPTION’ ... OK
* preparing ‘chipseqDB’:
* checking DESCRIPTION meta-information ... OK
* installing the package to build vignettes
* creating vignettes ... OK
* checking for LF line-endings in source and make files and shell scripts
* checking for empty or unneeded directories
Omitted ‘LazyData’ from DESCRIPTION
* creating default NAMESPACE file
* building ‘chipseqDB_1.32.0.tar.gz’