Back to Build/check report for BioC 3.21 experimental data
ABCDEFGHIJKLMNOPQR[S]TUVWXYZ

This page was generated on 2025-07-15 15:01 -0400 (Tue, 15 Jul 2025).

HostnameOSArch (*)R versionInstalled pkgs
nebbiolo1Linux (Ubuntu 24.04.1 LTS)x86_644.5.1 (2025-06-13) -- "Great Square Root" 4820
Click on any hostname to see more info about the system (e.g. compilers)      (*) as reported by 'uname -p', except on Windows and Mac OS X

Package 379/432HostnameOS / ArchINSTALLBUILDCHECK
spatialLIBD 1.20.1  (landing page)
Leonardo Collado-Torres
Snapshot Date: 2025-07-15 07:30 -0400 (Tue, 15 Jul 2025)
git_url: https://git.bioconductor.org/packages/spatialLIBD
git_branch: RELEASE_3_21
git_last_commit: 0537f4e
git_last_commit_date: 2025-04-30 13:13:41 -0400 (Wed, 30 Apr 2025)
nebbiolo1Linux (Ubuntu 24.04.1 LTS) / x86_64  OK    OK    OK  UNNEEDED, same version is already published


CHECK results for spatialLIBD on nebbiolo1

To the developers/maintainers of the spatialLIBD package:
- Use the following Renviron settings to reproduce errors and warnings.
- If 'R CMD check' started to fail recently on the Linux builder(s) over a missing dependency, add the missing dependency to 'Suggests:' in your DESCRIPTION file. See Renviron.bioc for more information.

raw results


Summary

Package: spatialLIBD
Version: 1.20.1
Command: /home/biocbuild/bbs-3.21-bioc/R/bin/R CMD check --install=check:spatialLIBD.install-out.txt --library=/home/biocbuild/bbs-3.21-bioc/R/site-library --timings spatialLIBD_1.20.1.tar.gz
StartedAt: 2025-07-15 12:56:19 -0400 (Tue, 15 Jul 2025)
EndedAt: 2025-07-15 13:15:59 -0400 (Tue, 15 Jul 2025)
EllapsedTime: 1180.2 seconds
RetCode: 0
Status:   OK  
CheckDir: spatialLIBD.Rcheck
Warnings: 0

Command output

##############################################################################
##############################################################################
###
### Running command:
###
###   /home/biocbuild/bbs-3.21-bioc/R/bin/R CMD check --install=check:spatialLIBD.install-out.txt --library=/home/biocbuild/bbs-3.21-bioc/R/site-library --timings spatialLIBD_1.20.1.tar.gz
###
##############################################################################
##############################################################################


* using log directory ‘/home/biocbuild/bbs-3.21-data-experiment/meat/spatialLIBD.Rcheck’
* using R version 4.5.1 (2025-06-13)
* using platform: x86_64-pc-linux-gnu
* R was compiled by
    gcc (Ubuntu 13.3.0-6ubuntu2~24.04) 13.3.0
    GNU Fortran (Ubuntu 13.3.0-6ubuntu2~24.04) 13.3.0
* running under: Ubuntu 24.04.2 LTS
* using session charset: UTF-8
* checking for file ‘spatialLIBD/DESCRIPTION’ ... OK
* this is package ‘spatialLIBD’ version ‘1.20.1’
* package encoding: UTF-8
* checking package namespace information ... OK
* checking package dependencies ... INFO
Imports includes 36 non-default packages.
Importing from so many packages makes the package vulnerable to any of
them becoming unavailable.  Move as many as possible to Suggests and
use conditionally.
* checking if this is a source package ... OK
* checking if there is a namespace ... OK
* checking for hidden files and directories ... OK
* checking for portable file names ... OK
* checking for sufficient/correct file permissions ... OK
* checking whether package ‘spatialLIBD’ can be installed ... OK
* checking installed package size ... OK
* checking package directory ... OK
* checking ‘build’ directory ... OK
* checking DESCRIPTION meta-information ... OK
* checking top-level files ... OK
* checking for left-over files ... OK
* checking index information ... OK
* checking package subdirectories ... OK
* checking code files for non-ASCII characters ... OK
* checking R files for syntax errors ... OK
* checking whether the package can be loaded ... OK
* checking whether the package can be loaded with stated dependencies ... OK
* checking whether the package can be unloaded cleanly ... OK
* checking whether the namespace can be loaded with stated dependencies ... OK
* checking whether the namespace can be unloaded cleanly ... OK
* checking loading without being on the library search path ... OK
* checking dependencies in R code ... OK
* checking S3 generic/method consistency ... OK
* checking replacement functions ... OK
* checking foreign function calls ... OK
* checking R code for possible problems ... OK
* checking Rd files ... OK
* checking Rd metadata ... OK
* checking Rd cross-references ... NOTE
Found the following Rd file(s) with Rd \link{} targets missing package
anchors:
  check_sce.Rd: SingleCellExperiment-class
  check_sce_layer.Rd: SingleCellExperiment-class
  fetch_data.Rd: SingleCellExperiment-class
  layer_boxplot.Rd: SingleCellExperiment-class
  read10xVisiumWrapper.Rd: SpatialExperiment-class
  run_app.Rd: SingleCellExperiment-class
  sce_to_spe.Rd: SingleCellExperiment-class
  sig_genes_extract.Rd: SingleCellExperiment-class
  sig_genes_extract_all.Rd: SingleCellExperiment-class
Please provide package anchors for all Rd \link{} targets not in the
package itself and the base packages.
* checking for missing documentation entries ... OK
* checking for code/documentation mismatches ... OK
* checking Rd \usage sections ... OK
* checking Rd contents ... OK
* checking for unstated dependencies in examples ... OK
* checking contents of ‘data’ directory ... OK
* checking data for non-ASCII characters ... OK
* checking LazyData ... OK
* checking data for ASCII and uncompressed saves ... OK
* checking files in ‘vignettes’ ... OK
* checking examples ... OK
Examples with CPU (user + system) or elapsed time > 5s
                           user system elapsed
vis_gene                 31.358  3.662  36.284
vis_clus                 21.873  2.869  25.605
add_images               21.180  2.049  25.582
vis_clus_p               18.943  3.086  23.728
vis_grid_gene            17.253  2.505  20.302
img_update_all           17.956  1.527  19.647
vis_grid_clus            16.692  2.520  19.879
add_key                  16.769  1.533  18.931
add_qc_metrics           16.245  1.589  17.996
cluster_import           15.832  1.420  17.814
cluster_export           15.566  1.421  17.527
vis_gene_p               15.412  1.514  17.557
sce_to_spe               14.072  1.518  16.212
check_spe                14.079  1.422  16.040
frame_limits             14.089  1.403  16.069
img_update               13.281  1.354  15.227
geom_spatial             13.232  1.222  14.995
img_edit                 13.230  1.100  14.821
gene_set_enrichment_plot  6.958  0.347  12.626
layer_stat_cor_plot       4.635  0.398   5.343
* checking for unstated dependencies in ‘tests’ ... OK
* checking tests ...
  Running ‘testthat.R’
 OK
* checking for unstated dependencies in vignettes ... OK
* checking package vignettes ... OK
* checking re-building of vignette outputs ... OK
* checking PDF version of manual ... OK
* DONE

Status: 1 NOTE
See
  ‘/home/biocbuild/bbs-3.21-data-experiment/meat/spatialLIBD.Rcheck/00check.log’
for details.


Installation output

spatialLIBD.Rcheck/00install.out

##############################################################################
##############################################################################
###
### Running command:
###
###   /home/biocbuild/bbs-3.21-bioc/R/bin/R CMD INSTALL spatialLIBD
###
##############################################################################
##############################################################################


* installing to library ‘/home/biocbuild/bbs-3.21-bioc/R/site-library’
* installing *source* package ‘spatialLIBD’ ...
** this is package ‘spatialLIBD’ version ‘1.20.1’
** using staged installation
** R
** data
*** moving datasets to lazyload DB
** inst
** byte-compile and prepare package for lazy loading
** help
*** installing help indices
*** copying figures
** building package indices
** installing vignettes
** testing if installed package can be loaded from temporary location
** testing if installed package can be loaded from final location
** testing if installed package keeps a record of temporary installation path
* DONE (spatialLIBD)

Tests output

spatialLIBD.Rcheck/tests/testthat.Rout


R version 4.5.1 (2025-06-13) -- "Great Square Root"
Copyright (C) 2025 The R Foundation for Statistical Computing
Platform: x86_64-pc-linux-gnu

R is free software and comes with ABSOLUTELY NO WARRANTY.
You are welcome to redistribute it under certain conditions.
Type 'license()' or 'licence()' for distribution details.

R is a collaborative project with many contributors.
Type 'contributors()' for more information and
'citation()' on how to cite R or R packages in publications.

Type 'demo()' for some demos, 'help()' for on-line help, or
'help.start()' for an HTML browser interface to help.
Type 'q()' to quit R.

> library(testthat)
> library(spatialLIBD)
Loading required package: SpatialExperiment
Loading required package: SingleCellExperiment
Loading required package: SummarizedExperiment
Loading required package: MatrixGenerics
Loading required package: matrixStats

Attaching package: 'MatrixGenerics'

The following objects are masked from 'package:matrixStats':

    colAlls, colAnyNAs, colAnys, colAvgsPerRowSet, colCollapse,
    colCounts, colCummaxs, colCummins, colCumprods, colCumsums,
    colDiffs, colIQRDiffs, colIQRs, colLogSumExps, colMadDiffs,
    colMads, colMaxs, colMeans2, colMedians, colMins, colOrderStats,
    colProds, colQuantiles, colRanges, colRanks, colSdDiffs, colSds,
    colSums2, colTabulates, colVarDiffs, colVars, colWeightedMads,
    colWeightedMeans, colWeightedMedians, colWeightedSds,
    colWeightedVars, rowAlls, rowAnyNAs, rowAnys, rowAvgsPerColSet,
    rowCollapse, rowCounts, rowCummaxs, rowCummins, rowCumprods,
    rowCumsums, rowDiffs, rowIQRDiffs, rowIQRs, rowLogSumExps,
    rowMadDiffs, rowMads, rowMaxs, rowMeans2, rowMedians, rowMins,
    rowOrderStats, rowProds, rowQuantiles, rowRanges, rowRanks,
    rowSdDiffs, rowSds, rowSums2, rowTabulates, rowVarDiffs, rowVars,
    rowWeightedMads, rowWeightedMeans, rowWeightedMedians,
    rowWeightedSds, rowWeightedVars

Loading required package: GenomicRanges
Loading required package: stats4
Loading required package: BiocGenerics
Loading required package: generics

Attaching package: 'generics'

The following objects are masked from 'package:base':

    as.difftime, as.factor, as.ordered, intersect, is.element, setdiff,
    setequal, union


Attaching package: 'BiocGenerics'

The following objects are masked from 'package:stats':

    IQR, mad, sd, var, xtabs

The following objects are masked from 'package:base':

    Filter, Find, Map, Position, Reduce, anyDuplicated, aperm, append,
    as.data.frame, basename, cbind, colnames, dirname, do.call,
    duplicated, eval, evalq, get, grep, grepl, is.unsorted, lapply,
    mapply, match, mget, order, paste, pmax, pmax.int, pmin, pmin.int,
    rank, rbind, rownames, sapply, saveRDS, table, tapply, unique,
    unsplit, which.max, which.min

Loading required package: S4Vectors

Attaching package: 'S4Vectors'

The following object is masked from 'package:utils':

    findMatches

The following objects are masked from 'package:base':

    I, expand.grid, unname

Loading required package: IRanges
Loading required package: GenomeInfoDb
Loading required package: Biobase
Welcome to Bioconductor

    Vignettes contain introductory material; view with
    'browseVignettes()'. To cite Bioconductor, see
    'citation("Biobase")', and for packages 'citation("pkgname")'.


Attaching package: 'Biobase'

The following object is masked from 'package:MatrixGenerics':

    rowMedians

The following objects are masked from 'package:matrixStats':

    anyMissing, rowMedians

> 
> test_check("spatialLIBD")

rgstr_> ## Ensure reproducibility of example data
rgstr_> set.seed(20220907)

rgstr_> ## Generate example data
rgstr_> sce <- scuttle::mockSCE()

rgstr_> ## Add some sample IDs
rgstr_> sce$sample_id <- sample(LETTERS[1:5], ncol(sce), replace = TRUE)

rgstr_> ## Add a sample-level covariate: age
rgstr_> ages <- rnorm(5, mean = 20, sd = 4)

rgstr_> names(ages) <- LETTERS[1:5]

rgstr_> sce$age <- ages[sce$sample_id]

rgstr_> ## Add gene-level information
rgstr_> rowData(sce)$ensembl <- paste0("ENSG", seq_len(nrow(sce)))

rgstr_> rowData(sce)$gene_name <- paste0("gene", seq_len(nrow(sce)))

rgstr_> ## Pseudo-bulk
rgstr_> sce_pseudo <- registration_pseudobulk(sce, "Cell_Cycle", "sample_id", c("age"), min_ncells = NULL)

rgstr_> colData(sce_pseudo)
DataFrame with 20 rows and 8 columns
     Mutation_Status  Cell_Cycle   Treatment   sample_id       age
         <character> <character> <character> <character> <numeric>
A_G0              NA          G0          NA           A   19.1872
B_G0              NA          G0          NA           B   25.3496
C_G0              NA          G0          NA           C   24.1802
D_G0              NA          G0          NA           D   15.5211
E_G0              NA          G0          NA           E   20.9701
...              ...         ...         ...         ...       ...
A_S               NA           S          NA           A   19.1872
B_S               NA           S          NA           B   25.3496
C_S               NA           S          NA           C   24.1802
D_S               NA           S          NA           D   15.5211
E_S               NA           S          NA           E   20.9701
     registration_variable registration_sample_id    ncells
               <character>            <character> <integer>
A_G0                    G0                      A         8
B_G0                    G0                      B        13
C_G0                    G0                      C         9
D_G0                    G0                      D         7
E_G0                    G0                      E        10
...                    ...                    ...       ...
A_S                      S                      A        12
B_S                      S                      B         8
C_S                      S                      C         7
D_S                      S                      D        14
E_S                      S                      E        11

rgstr_> ## Ensure reproducibility of example data
rgstr_> set.seed(20220907)

rgstr_> ## Generate example data
rgstr_> sce <- scuttle::mockSCE()

rgstr_> ## Add some sample IDs
rgstr_> sce$sample_id <- sample(LETTERS[1:5], ncol(sce), replace = TRUE)

rgstr_> ## Add a sample-level covariate: age
rgstr_> ages <- rnorm(5, mean = 20, sd = 4)

rgstr_> names(ages) <- LETTERS[1:5]

rgstr_> sce$age <- ages[sce$sample_id]

rgstr_> ## Add gene-level information
rgstr_> rowData(sce)$ensembl <- paste0("ENSG", seq_len(nrow(sce)))

rgstr_> rowData(sce)$gene_name <- paste0("gene", seq_len(nrow(sce)))

rgstr_> ## Pseudo-bulk
rgstr_> sce_pseudo <- registration_pseudobulk(sce, "Cell_Cycle", "sample_id", c("age"), min_ncells = NULL)

rgstr_> colData(sce_pseudo)
DataFrame with 20 rows and 8 columns
     Mutation_Status  Cell_Cycle   Treatment   sample_id       age
         <character> <character> <character> <character> <numeric>
A_G0              NA          G0          NA           A   19.1872
B_G0              NA          G0          NA           B   25.3496
C_G0              NA          G0          NA           C   24.1802
D_G0              NA          G0          NA           D   15.5211
E_G0              NA          G0          NA           E   20.9701
...              ...         ...         ...         ...       ...
A_S               NA           S          NA           A   19.1872
B_S               NA           S          NA           B   25.3496
C_S               NA           S          NA           C   24.1802
D_S               NA           S          NA           D   15.5211
E_S               NA           S          NA           E   20.9701
     registration_variable registration_sample_id    ncells
               <character>            <character> <integer>
A_G0                    G0                      A         8
B_G0                    G0                      B        13
C_G0                    G0                      C         9
D_G0                    G0                      D         7
E_G0                    G0                      E        10
...                    ...                    ...       ...
A_S                      S                      A        12
B_S                      S                      B         8
C_S                      S                      C         7
D_S                      S                      D        14
E_S                      S                      E        11

rgst__> example("registration_model", package = "spatialLIBD")

rgstr_> example("registration_pseudobulk", package = "spatialLIBD")

rgstr_> ## Ensure reproducibility of example data
rgstr_> set.seed(20220907)

rgstr_> ## Generate example data
rgstr_> sce <- scuttle::mockSCE()

rgstr_> ## Add some sample IDs
rgstr_> sce$sample_id <- sample(LETTERS[1:5], ncol(sce), replace = TRUE)

rgstr_> ## Add a sample-level covariate: age
rgstr_> ages <- rnorm(5, mean = 20, sd = 4)

rgstr_> names(ages) <- LETTERS[1:5]

rgstr_> sce$age <- ages[sce$sample_id]

rgstr_> ## Add gene-level information
rgstr_> rowData(sce)$ensembl <- paste0("ENSG", seq_len(nrow(sce)))

rgstr_> rowData(sce)$gene_name <- paste0("gene", seq_len(nrow(sce)))

rgstr_> ## Pseudo-bulk
rgstr_> sce_pseudo <- registration_pseudobulk(sce, "Cell_Cycle", "sample_id", c("age"), min_ncells = NULL)

rgstr_> colData(sce_pseudo)
DataFrame with 20 rows and 8 columns
     Mutation_Status  Cell_Cycle   Treatment   sample_id       age
         <character> <character> <character> <character> <numeric>
A_G0              NA          G0          NA           A   19.1872
B_G0              NA          G0          NA           B   25.3496
C_G0              NA          G0          NA           C   24.1802
D_G0              NA          G0          NA           D   15.5211
E_G0              NA          G0          NA           E   20.9701
...              ...         ...         ...         ...       ...
A_S               NA           S          NA           A   19.1872
B_S               NA           S          NA           B   25.3496
C_S               NA           S          NA           C   24.1802
D_S               NA           S          NA           D   15.5211
E_S               NA           S          NA           E   20.9701
     registration_variable registration_sample_id    ncells
               <character>            <character> <integer>
A_G0                    G0                      A         8
B_G0                    G0                      B        13
C_G0                    G0                      C         9
D_G0                    G0                      D         7
E_G0                    G0                      E        10
...                    ...                    ...       ...
A_S                      S                      A        12
B_S                      S                      B         8
C_S                      S                      C         7
D_S                      S                      D        14
E_S                      S                      E        11

rgstr_> registration_mod <- registration_model(sce_pseudo, "age")

rgstr_> head(registration_mod)
     registration_variableG0 registration_variableG1 registration_variableG2M
A_G0                       1                       0                        0
B_G0                       1                       0                        0
C_G0                       1                       0                        0
D_G0                       1                       0                        0
E_G0                       1                       0                        0
A_G1                       0                       1                        0
     registration_variableS      age
A_G0                      0 19.18719
B_G0                      0 25.34965
C_G0                      0 24.18019
D_G0                      0 15.52107
E_G0                      0 20.97006
A_G1                      0 19.18719

rgst__> block_cor <- registration_block_cor(sce_pseudo, registration_mod)
[ FAIL 0 | WARN 0 | SKIP 0 | PASS 45 ]
> 
> proc.time()
   user  system elapsed 
112.668   8.670 124.771 

Example timings

spatialLIBD.Rcheck/spatialLIBD-Ex.timings

nameusersystemelapsed
add10xVisiumAnalysis000
add_images21.180 2.04925.582
add_key16.769 1.53318.931
add_qc_metrics16.245 1.58917.996
annotate_registered_clusters1.1230.0871.369
check_modeling_results1.1000.1041.359
check_sce3.3330.1723.661
check_sce_layer1.1770.0691.403
check_spe14.079 1.42216.040
cluster_export15.566 1.42117.527
cluster_import15.832 1.42017.814
enough_ram0.0040.0060.010
fetch_data1.2170.1041.479
frame_limits14.089 1.40316.069
gene_set_enrichment1.2180.1091.490
gene_set_enrichment_plot 6.958 0.34712.626
geom_spatial13.232 1.22214.995
get_colors1.2370.1951.589
img_edit13.230 1.10014.821
img_update13.281 1.35415.227
img_update_all17.956 1.52719.647
layer_boxplot3.1960.1673.673
layer_stat_cor1.2690.0571.481
layer_stat_cor_plot4.6350.3985.343
locate_images000
read10xVisiumAnalysis0.0010.0000.000
read10xVisiumWrapper000
registration_block_cor2.7750.0052.781
registration_model0.7410.0210.762
registration_pseudobulk0.5930.0010.594
registration_stats_anova2.8810.0072.888
registration_stats_enrichment3.0040.0063.010
registration_stats_pairwise2.8220.0072.829
registration_wrapper4.4070.0054.411
run_app0.0010.0010.002
sce_to_spe14.072 1.51816.212
sig_genes_extract2.6320.7373.716
sig_genes_extract_all3.2170.1473.672
sort_clusters0.0080.0010.009
vis_clus21.873 2.86925.605
vis_clus_p18.943 3.08623.728
vis_gene31.358 3.66236.284
vis_gene_p15.412 1.51417.557
vis_grid_clus16.692 2.52019.879
vis_grid_gene17.253 2.50520.302