Back to Build/check report for BioC 3.21 experimental data
ABCDEF[G]HIJKLMNOPQRSTUVWXYZ

This page was generated on 2025-05-01 15:01 -0400 (Thu, 01 May 2025).

HostnameOSArch (*)R versionInstalled pkgs
nebbiolo1Linux (Ubuntu 24.04.1 LTS)x86_644.5.0 RC (2025-04-04 r88126) -- "How About a Twenty-Six" 4832
Click on any hostname to see more info about the system (e.g. compilers)      (*) as reported by 'uname -p', except on Windows and Mac OS X

Package 147/432HostnameOS / ArchINSTALLBUILDCHECK
geneLenDataBase 1.44.0  (landing page)
Federico Marini
Snapshot Date: 2025-05-01 07:30 -0400 (Thu, 01 May 2025)
git_url: https://git.bioconductor.org/packages/geneLenDataBase
git_branch: RELEASE_3_21
git_last_commit: ad5f383
git_last_commit_date: 2025-04-15 09:16:59 -0400 (Tue, 15 Apr 2025)
nebbiolo1Linux (Ubuntu 24.04.1 LTS) / x86_64  OK    OK    OK  UNNEEDED, same version is already published


CHECK results for geneLenDataBase on nebbiolo1

To the developers/maintainers of the geneLenDataBase package:
- Use the following Renviron settings to reproduce errors and warnings.
- If 'R CMD check' started to fail recently on the Linux builder(s) over a missing dependency, add the missing dependency to 'Suggests:' in your DESCRIPTION file. See Renviron.bioc for more information.

raw results


Summary

Package: geneLenDataBase
Version: 1.44.0
Command: /home/biocbuild/bbs-3.21-bioc/R/bin/R CMD check --install=check:geneLenDataBase.install-out.txt --library=/home/biocbuild/bbs-3.21-bioc/R/site-library --timings geneLenDataBase_1.44.0.tar.gz
StartedAt: 2025-05-01 12:09:18 -0400 (Thu, 01 May 2025)
EndedAt: 2025-05-01 12:18:16 -0400 (Thu, 01 May 2025)
EllapsedTime: 538.7 seconds
RetCode: 0
Status:   OK  
CheckDir: geneLenDataBase.Rcheck
Warnings: 0

Command output

##############################################################################
##############################################################################
###
### Running command:
###
###   /home/biocbuild/bbs-3.21-bioc/R/bin/R CMD check --install=check:geneLenDataBase.install-out.txt --library=/home/biocbuild/bbs-3.21-bioc/R/site-library --timings geneLenDataBase_1.44.0.tar.gz
###
##############################################################################
##############################################################################


* using log directory ‘/home/biocbuild/bbs-3.21-data-experiment/meat/geneLenDataBase.Rcheck’
* using R version 4.5.0 RC (2025-04-04 r88126)
* using platform: x86_64-pc-linux-gnu
* R was compiled by
    gcc (Ubuntu 13.3.0-6ubuntu2~24.04) 13.3.0
    GNU Fortran (Ubuntu 13.3.0-6ubuntu2~24.04) 13.3.0
* running under: Ubuntu 24.04.2 LTS
* using session charset: UTF-8
* checking for file ‘geneLenDataBase/DESCRIPTION’ ... OK
* this is package ‘geneLenDataBase’ version ‘1.44.0’
* package encoding: UTF-8
* checking package namespace information ... OK
* checking package dependencies ... OK
* checking if this is a source package ... OK
* checking if there is a namespace ... OK
* checking for hidden files and directories ... OK
* checking for portable file names ... OK
* checking for sufficient/correct file permissions ... OK
* checking whether package ‘geneLenDataBase’ can be installed ... OK
* checking installed package size ... INFO
  installed size is 100.0Mb
  sub-directories of 1Mb or more:
    data  99.5Mb
* checking package directory ... OK
* checking DESCRIPTION meta-information ... OK
* checking top-level files ... OK
* checking for left-over files ... OK
* checking index information ... OK
* checking package subdirectories ... OK
* checking code files for non-ASCII characters ... OK
* checking R files for syntax errors ... OK
* checking whether the package can be loaded ... OK
* checking whether the package can be loaded with stated dependencies ... OK
* checking whether the package can be unloaded cleanly ... OK
* checking whether the namespace can be loaded with stated dependencies ... OK
* checking whether the namespace can be unloaded cleanly ... OK
* checking loading without being on the library search path ... OK
* checking dependencies in R code ... NOTE
Unexported object imported by a ':::' call: ‘txdbmaker:::.UCSC_TXNAME2GENEID_MAPDEFS’
  See the note in ?`:::` about the use of this operator.
* checking S3 generic/method consistency ... OK
* checking replacement functions ... OK
* checking foreign function calls ... OK
* checking R code for possible problems ... OK
* checking Rd files ... OK
* checking Rd metadata ... OK
* checking Rd cross-references ... OK
* checking for missing documentation entries ... OK
* checking for code/documentation mismatches ... OK
* checking Rd \usage sections ... OK
* checking Rd contents ... OK
* checking for unstated dependencies in examples ... OK
* checking contents of ‘data’ directory ... OK
* checking data for non-ASCII characters ... OK
* checking data for ASCII and uncompressed saves ... OK
* checking examples ... OK
* checking PDF version of manual ... OK
* DONE

Status: 1 NOTE
See
  ‘/home/biocbuild/bbs-3.21-data-experiment/meat/geneLenDataBase.Rcheck/00check.log’
for details.


Installation output

geneLenDataBase.Rcheck/00install.out

##############################################################################
##############################################################################
###
### Running command:
###
###   /home/biocbuild/bbs-3.21-bioc/R/bin/R CMD INSTALL geneLenDataBase
###
##############################################################################
##############################################################################


* installing to library ‘/home/biocbuild/bbs-3.21-bioc/R/site-library’
* installing *source* package ‘geneLenDataBase’ ...
** this is package ‘geneLenDataBase’ version ‘1.44.0’
** using staged installation
** R
** data
** byte-compile and prepare package for lazy loading
** help
*** installing help indices
** building package indices
** testing if installed package can be loaded from temporary location
** testing if installed package can be loaded from final location
** testing if installed package keeps a record of temporary installation path
* DONE (geneLenDataBase)

Tests output


Example timings

geneLenDataBase.Rcheck/geneLenDataBase-Ex.timings

nameusersystemelapsed
anoCar1.ensGene.LENGTH0.0750.0080.083
anoCar1.genscan.LENGTH0.0430.0080.052
anoCar1.xenoRefGene.LENGTH0.8940.0160.911
anoGam1.ensGene.LENGTH0.0550.0030.059
anoGam1.geneid.LENGTH0.0440.0000.045
anoGam1.genscan.LENGTH0.0400.0020.043
apiMel1.genscan.LENGTH0.0330.0020.035
apiMel2.ensGene.LENGTH0.0850.0020.087
apiMel2.geneid.LENGTH0.1200.0050.125
apiMel2.genscan.LENGTH0.0310.0020.032
aplCal1.xenoRefGene.LENGTH1.1690.0861.255
bosTau2.geneSymbol.LENGTH0.0360.0020.039
bosTau2.geneid.LENGTH0.2200.0000.221
bosTau2.genscan.LENGTH0.080.000.08
bosTau2.refGene.LENGTH0.0380.0000.038
bosTau2.sgpGene.LENGTH0.1000.0010.100
bosTau3.ensGene.LENGTH0.1010.0020.103
bosTau3.geneSymbol.LENGTH0.0340.0010.035
bosTau3.geneid.LENGTH0.1160.0010.116
bosTau3.genscan.LENGTH0.0670.0030.071
bosTau3.refGene.LENGTH0.0320.0010.033
bosTau3.sgpGene.LENGTH0.0880.0020.090
bosTau4.ensGene.LENGTH0.0990.0080.108
bosTau4.geneSymbol.LENGTH0.0320.0060.037
bosTau4.genscan.LENGTH0.0670.0010.068
bosTau4.nscanGene.LENGTH0.0280.0030.031
bosTau4.refGene.LENGTH0.0330.0000.033
braFlo1.xenoRefGene.LENGTH0.4080.0020.411
caeJap1.xenoRefGene.LENGTH0.3410.0020.344
caePb1.xenoRefGene.LENGTH0.4550.0060.461
caePb2.xenoRefGene.LENGTH0.4420.0050.446
caeRem2.xenoRefGene.LENGTH0.4040.0110.414
caeRem3.xenoRefGene.LENGTH0.3710.0030.373
calJac1.genscan.LENGTH0.0900.0040.093
calJac1.nscanGene.LENGTH0.1140.0030.117
calJac1.xenoRefGene.LENGTH0.8020.0070.809
canFam1.ensGene.LENGTH0.2040.0190.223
canFam1.geneSymbol.LENGTH0.0050.0000.005
canFam1.genscan.LENGTH0.0600.0010.060
canFam1.nscanGene.LENGTH0.0590.0000.059
canFam1.refGene.LENGTH0.0050.0000.005
canFam1.xenoRefGene.LENGTH0.5530.0010.553
canFam2.ensGene.LENGTH0.0890.0000.089
canFam2.geneSymbol.LENGTH0.0030.0020.006
canFam2.genscan.LENGTH0.0540.0000.055
canFam2.nscanGene.LENGTH0.0600.0010.061
canFam2.refGene.LENGTH0.0050.0000.005
canFam2.xenoRefGene.LENGTH0.5440.0030.546
cavPor3.ensGene.LENGTH0.0820.0010.084
cavPor3.genscan.LENGTH0.0970.0000.098
cavPor3.nscanGene.LENGTH0.0660.0010.068
cavPor3.xenoRefGene.LENGTH0.6740.0140.688
cb1.xenoRefGene.LENGTH0.3910.0040.396
cb3.xenoRefGene.LENGTH0.3090.0030.312
ce2.geneSymbol.LENGTH0.0660.0000.066
ce2.geneid.LENGTH0.0550.0010.057
ce2.refGene.LENGTH0.0580.0030.061
ce4.geneSymbol.LENGTH0.0650.0010.067
ce4.refGene.LENGTH0.0590.0010.060
ce4.xenoRefGene.LENGTH0.0790.0030.082
ce6.ensGene.LENGTH0.0930.0020.095
ce6.geneSymbol.LENGTH0.0650.0020.067
ce6.refGene.LENGTH0.0620.0010.063
ce6.xenoRefGene.LENGTH0.0810.0020.083
ci1.geneSymbol.LENGTH0.0030.0010.005
ci1.refGene.LENGTH0.0040.0000.005
ci1.xenoRefGene.LENGTH0.1720.0020.174
ci2.ensGene.LENGTH0.0620.0020.064
ci2.geneSymbol.LENGTH0.0050.0000.005
ci2.refGene.LENGTH0.0050.0000.004
ci2.xenoRefGene.LENGTH0.2750.0020.278
danRer3.ensGene.LENGTH0.0970.0010.098
danRer3.geneSymbol.LENGTH0.0520.0000.053
danRer3.refGene.LENGTH0.0470.0020.049
danRer4.ensGene.LENGTH0.1140.0050.119
danRer4.geneSymbol.LENGTH0.0540.0030.057
danRer4.genscan.LENGTH0.0560.0030.060
danRer4.nscanGene.LENGTH0.0800.0030.084
danRer4.refGene.LENGTH0.0460.0020.048
danRer5.ensGene.LENGTH0.1140.0020.115
danRer5.geneSymbol.LENGTH0.0500.0010.051
danRer5.refGene.LENGTH0.0440.0010.045
danRer5.vegaGene.LENGTH0.0480.0010.048
danRer5.vegaPseudoGene.LENGTH0.0030.0000.003
danRer6.ensGene.LENGTH0.1100.0020.112
danRer6.geneSymbol.LENGTH0.0500.0010.052
danRer6.refGene.LENGTH0.0450.0000.045
danRer6.xenoRefGene.LENGTH0.5230.0020.525
dm1.geneSymbol.LENGTH0.0720.0010.073
dm1.genscan.LENGTH0.0250.0000.025
dm1.refGene.LENGTH0.0580.0020.060
dm2.geneSymbol.LENGTH0.0620.0030.065
dm2.geneid.LENGTH0.0340.0010.035
dm2.genscan.LENGTH0.0230.0000.023
dm2.nscanGene.LENGTH0.1740.0040.178
dm2.refGene.LENGTH0.0580.0000.058
dm3.geneSymbol.LENGTH0.0670.0010.068
dm3.nscanPasaGene.LENGTH0.0510.0010.052
dm3.refGene.LENGTH0.0650.0000.065
downloadLengthFromUCSC000
dp2.genscan.LENGTH0.0320.0000.032
dp2.xenoRefGene.LENGTH0.2150.0040.219
dp3.geneid.LENGTH0.0390.0090.048
dp3.genscan.LENGTH0.0260.0010.027
dp3.xenoRefGene.LENGTH0.1040.0020.106
droAna1.geneid.LENGTH0.0670.0000.067
droAna1.genscan.LENGTH0.0210.0010.022
droAna1.xenoRefGene.LENGTH0.2030.0020.205
droAna2.genscan.LENGTH0.0470.0010.048
droAna2.xenoRefGene.LENGTH0.2630.0040.267
droEre1.genscan.LENGTH0.0260.0020.028
droEre1.xenoRefGene.LENGTH0.2500.0020.252
droGri1.genscan.LENGTH0.0360.0020.039
droGri1.xenoRefGene.LENGTH0.2610.0040.265
droMoj1.geneid.LENGTH0.1230.0020.125
droMoj1.genscan.LENGTH0.0560.0020.058
droMoj1.xenoRefGene.LENGTH0.2090.0030.212
droMoj2.genscan.LENGTH0.0340.0010.035
droMoj2.xenoRefGene.LENGTH0.4410.0010.442
droPer1.genscan.LENGTH0.0370.0010.038
droPer1.xenoRefGene.LENGTH0.2410.0010.241
droSec1.genscan.LENGTH0.0280.0010.029
droSec1.xenoRefGene.LENGTH0.2490.0020.251
droSim1.geneid.LENGTH0.0340.0020.036
droSim1.genscan.LENGTH0.0230.0010.024
droSim1.xenoRefGene.LENGTH0.2080.0000.208
droVir1.geneid.LENGTH0.0950.0010.095
droVir1.genscan.LENGTH0.0360.0030.040
droVir1.xenoRefGene.LENGTH0.2310.0010.232
droVir2.genscan.LENGTH0.0340.0000.034
droVir2.xenoRefGene.LENGTH0.2620.0020.264
droYak1.geneid.LENGTH0.0410.0010.042
droYak1.genscan.LENGTH0.0280.0010.029
droYak1.xenoRefGene.LENGTH0.2140.0010.215
droYak2.genscan.LENGTH0.0270.0000.027
droYak2.xenoRefGene.LENGTH0.2790.0020.281
equCab1.geneSymbol.LENGTH0.0050.0000.006
equCab1.geneid.LENGTH0.0840.0000.084
equCab1.nscanGene.LENGTH0.0390.0000.040
equCab1.refGene.LENGTH0.0050.0000.005
equCab1.sgpGene.LENGTH0.0640.0010.064
equCab2.ensGene.LENGTH0.0970.0020.099
equCab2.geneSymbol.LENGTH0.0060.0010.007
equCab2.nscanGene.LENGTH0.0490.0000.048
equCab2.refGene.LENGTH0.0060.0000.006
equCab2.xenoRefGene.LENGTH0.5900.0010.591
felCat3.ensGene.LENGTH0.1030.0000.103
felCat3.geneSymbol.LENGTH0.0030.0010.004
felCat3.geneid.LENGTH0.6100.0040.614
felCat3.genscan.LENGTH0.1100.0030.113
felCat3.nscanGene.LENGTH0.0870.0030.089
felCat3.refGene.LENGTH0.0040.0000.003
felCat3.sgpGene.LENGTH0.1410.0010.142
felCat3.xenoRefGene.LENGTH1.0910.0041.094
fr1.ensGene.LENGTH0.0740.0020.076
fr1.genscan.LENGTH0.0560.0010.057
fr2.ensGene.LENGTH1.1100.1211.231
galGal2.ensGene.LENGTH0.0500.0010.051
galGal2.geneSymbol.LENGTH0.0130.0010.015
galGal2.geneid.LENGTH0.0330.0010.034
galGal2.genscan.LENGTH0.0420.0020.044
galGal2.refGene.LENGTH0.0130.0010.014
galGal2.sgpGene.LENGTH0.0390.0000.040
galGal3.ensGene.LENGTH0.0650.0010.066
galGal3.geneSymbol.LENGTH0.0140.0000.013
galGal3.genscan.LENGTH0.0440.0000.044
galGal3.nscanGene.LENGTH0.0650.0000.065
galGal3.refGene.LENGTH0.0130.0000.013
galGal3.xenoRefGene.LENGTH0.4460.0020.448
gasAcu1.ensGene.LENGTH0.0830.0010.084
gasAcu1.nscanGene.LENGTH0.0850.0000.085
hg16.acembly.LENGTH0.3390.0020.342
hg16.ensGene.LENGTH0.0650.0020.068
hg16.exoniphy.LENGTH0.2290.0060.235
hg16.geneSymbol.LENGTH0.0990.0010.099
hg16.geneid.LENGTH0.0470.0020.048
hg16.genscan.LENGTH0.0590.0030.061
hg16.knownGene.LENGTH0.1140.0030.117
hg16.refGene.LENGTH0.0920.0010.092
hg16.sgpGene.LENGTH0.0530.0020.056
hg17.acembly.LENGTH0.4230.0080.431
hg17.acescan.LENGTH0.010.000.01
hg17.ccdsGene.LENGTH0.0200.0040.024
hg17.ensGene.LENGTH0.1080.0010.109
hg17.exoniphy.LENGTH0.3750.0040.379
hg17.geneSymbol.LENGTH0.0970.0020.100
hg17.geneid.LENGTH0.0740.0000.075
hg17.genscan.LENGTH0.0540.0020.057
hg17.knownGene.LENGTH0.1050.0030.108
hg17.refGene.LENGTH0.0990.0010.100
hg17.sgpGene.LENGTH0.0690.0030.072
hg17.vegaGene.LENGTH0.0430.0000.042
hg17.vegaPseudoGene.LENGTH0.0160.0020.018
hg17.xenoRefGene.LENGTH0.2130.0020.215
hg18.acembly.LENGTH0.4750.0130.489
hg18.acescan.LENGTH0.0080.0010.010
hg18.ccdsGene.LENGTH0.0340.0000.034
hg18.ensGene.LENGTH0.1940.0010.195
hg18.exoniphy.LENGTH0.8720.0080.879
hg18.geneSymbol.LENGTH0.0960.0010.097
hg18.geneid.LENGTH0.1100.0010.111
hg18.genscan.LENGTH0.0630.0000.063
hg18.knownGene.LENGTH0.1410.0010.141
hg18.knownGeneOld3.LENGTH0.0640.0010.065
hg18.refGene.LENGTH0.090.000.09
hg18.sgpGene.LENGTH0.0720.0000.072
hg18.sibGene.LENGTH0.3360.0000.335
hg18.xenoRefGene.LENGTH0.3490.0030.352
hg19.ccdsGene.LENGTH0.0370.0020.040
hg19.ensGene.LENGTH0.2980.0010.299
hg19.exoniphy.LENGTH0.4080.0030.411
hg19.geneSymbol.LENGTH0.0980.0000.098
hg19.knownGene.LENGTH0.1690.0020.171
hg19.nscanGene.LENGTH0.1460.0020.149
hg19.refGene.LENGTH0.0980.0010.100
hg19.xenoRefGene.LENGTH0.3550.0010.356
loxAfr3.xenoRefGene.LENGTH0.8190.0020.821
mm7.ensGene.LENGTH0.1110.0000.111
mm7.geneSymbol.LENGTH0.0830.0010.084
mm7.geneid.LENGTH0.0760.0010.077
mm7.genscan.LENGTH0.0600.0010.061
mm7.knownGene.LENGTH0.0890.0000.089
mm7.refGene.LENGTH0.0780.0000.078
mm7.sgpGene.LENGTH0.0680.0000.068
mm7.xenoRefGene.LENGTH0.2810.0000.282
mm8.ccdsGene.LENGTH0.0200.0010.021
mm8.ensGene.LENGTH0.0750.0010.076
mm8.geneSymbol.LENGTH0.0830.0000.083
mm8.geneid.LENGTH0.0670.0010.069
mm8.genscan.LENGTH0.0570.0000.057
mm8.knownGene.LENGTH0.0860.0010.088
mm8.nscanGene.LENGTH0.0580.0010.060
mm8.refGene.LENGTH0.080.000.08
mm8.sgpGene.LENGTH0.0720.0010.072
mm8.sibGene.LENGTH0.2600.0010.262
mm8.xenoRefGene.LENGTH0.3480.0000.348
mm9.acembly.LENGTH0.3190.0010.320
mm9.ccdsGene.LENGTH0.0290.0000.028
mm9.ensGene.LENGTH0.1450.0010.147
mm9.exoniphy.LENGTH0.8960.0050.902
mm9.geneSymbol.LENGTH0.0860.0000.085
mm9.geneid.LENGTH0.0810.0010.082
mm9.genscan.LENGTH0.0600.0010.062
mm9.knownGene.LENGTH0.1040.0030.108
mm9.nscanGene.LENGTH0.0590.0010.061
mm9.refGene.LENGTH0.0760.0020.079
mm9.sgpGene.LENGTH0.0720.0030.075
mm9.xenoRefGene.LENGTH0.3550.0020.358
monDom1.genscan.LENGTH0.0610.0030.065
monDom4.ensGene.LENGTH0.0700.0010.072
monDom4.geneSymbol.LENGTH0.0010.0020.004
monDom4.genscan.LENGTH0.0500.0020.053
monDom4.nscanGene.LENGTH0.0500.0020.053
monDom4.refGene.LENGTH0.0030.0000.003
monDom4.xenoRefGene.LENGTH0.3550.0020.357
monDom5.ensGene.LENGTH0.1100.0020.113
monDom5.geneSymbol.LENGTH0.0020.0010.004
monDom5.genscan.LENGTH0.0530.0010.054
monDom5.nscanGene.LENGTH0.1080.0010.109
monDom5.refGene.LENGTH0.0000.0030.004
monDom5.xenoRefGene.LENGTH0.5800.0030.584
ornAna1.ensGene.LENGTH0.0950.0020.098
ornAna1.geneSymbol.LENGTH0.0010.0010.003
ornAna1.refGene.LENGTH0.0010.0010.003
ornAna1.xenoRefGene.LENGTH0.5680.0030.571
oryLat2.ensGene.LENGTH0.0830.0010.085
oryLat2.geneSymbol.LENGTH0.0030.0010.004
oryLat2.refGene.LENGTH0.0030.0010.004
oryLat2.xenoRefGene.LENGTH0.5270.0010.528
panTro1.ensGene.LENGTH0.3200.0020.322
panTro1.geneid.LENGTH0.0480.0000.048
panTro1.genscan.LENGTH0.0610.0000.061
panTro1.xenoRefGene.LENGTH0.1090.0010.111
panTro2.ensGene.LENGTH0.1170.0020.119
panTro2.geneSymbol.LENGTH0.0970.0010.098
panTro2.genscan.LENGTH0.0600.0020.062
panTro2.nscanGene.LENGTH0.0640.0010.065
panTro2.refGene.LENGTH0.0940.0030.097
panTro2.xenoRefGene.LENGTH0.5200.0020.522
petMar1.xenoRefGene.LENGTH0.2610.0000.261
ponAbe2.ensGene.LENGTH0.0860.0010.087
ponAbe2.geneSymbol.LENGTH0.0120.0000.012
ponAbe2.genscan.LENGTH0.0620.0010.063
ponAbe2.nscanGene.LENGTH0.0610.0000.062
ponAbe2.refGene.LENGTH0.0100.0020.012
ponAbe2.xenoRefGene.LENGTH0.6430.0010.644
priPac1.xenoRefGene.LENGTH0.3620.0020.365
rheMac2.ensGene.LENGTH0.1260.0000.126
rheMac2.geneSymbol.LENGTH0.3500.0010.351
rheMac2.geneid.LENGTH0.0710.0030.074
rheMac2.nscanGene.LENGTH0.0620.0010.062
rheMac2.refGene.LENGTH0.0040.0010.005
rheMac2.sgpGene.LENGTH0.0730.0010.074
rheMac2.xenoRefGene.LENGTH0.5520.0030.558
rn3.ensGene.LENGTH0.1040.0020.107
rn3.geneSymbol.LENGTH0.0540.0000.054
rn3.geneid.LENGTH0.0520.0010.052
rn3.genscan.LENGTH0.0660.0010.068
rn3.knownGene.LENGTH0.0230.0010.025
rn3.nscanGene.LENGTH0.0610.0000.061
rn3.refGene.LENGTH0.0530.0010.054
rn3.sgpGene.LENGTH0.0580.0010.058
rn3.xenoRefGene.LENGTH0.5260.0000.527
rn4.ensGene.LENGTH0.1290.0020.131
rn4.geneSymbol.LENGTH0.0510.0000.051
rn4.geneid.LENGTH0.0880.0010.088
rn4.genscan.LENGTH0.0630.0000.062
rn4.knownGene.LENGTH0.0230.0010.023
rn4.nscanGene.LENGTH0.0520.0010.053
rn4.refGene.LENGTH0.0460.0020.048
rn4.sgpGene.LENGTH0.0820.0000.081
rn4.xenoRefGene.LENGTH0.3150.0010.316
sacCer1.ensGene.LENGTH0.0170.0010.019
sacCer2.ensGene.LENGTH0.0160.0000.016
strPur1.geneSymbol.LENGTH0.0030.0010.005
strPur1.genscan.LENGTH0.0610.0010.062
strPur1.refGene.LENGTH0.0050.0000.004
strPur1.xenoRefGene.LENGTH1.4940.0031.496
strPur2.geneSymbol.LENGTH0.0030.0010.004
strPur2.genscan.LENGTH0.0930.0010.095
strPur2.refGene.LENGTH0.0030.0010.004
strPur2.xenoRefGene.LENGTH0.5660.0030.568
supportedGeneIDs2.1090.1644.191
supportedGenomes0.2540.0081.022
taeGut1.ensGene.LENGTH0.0580.0030.060
taeGut1.geneSymbol.LENGTH0.0020.0010.003
taeGut1.genscan.LENGTH0.0300.0010.030
taeGut1.nscanGene.LENGTH0.0230.0010.024
taeGut1.refGene.LENGTH0.0020.0010.003
taeGut1.xenoRefGene.LENGTH0.4070.0040.412
tetNig1.ensGene.LENGTH0.0830.0000.084
tetNig1.geneid.LENGTH0.0590.0020.061
tetNig1.genscan.LENGTH0.0460.0020.049
tetNig1.nscanGene.LENGTH0.0630.0010.064
tetNig2.ensGene.LENGTH0.0670.0000.067
unfactor0.0050.0010.006
xenTro1.genscan.LENGTH0.0760.0030.080
xenTro2.ensGene.LENGTH0.0820.0010.083
xenTro2.geneSymbol.LENGTH0.0280.0000.029
xenTro2.genscan.LENGTH0.0700.0010.071
xenTro2.refGene.LENGTH0.0270.0010.028