Back to Build/check report for BioC 3.21 annotations
ABCDEFG[H]IJKLMNOPQRSTUVWXYZ

This page was generated on 2025-02-12 08:30 -0500 (Wed, 12 Feb 2025).

HostnameOSArch (*)R versionInstalled pkgs
nebbiolo1Linux (Ubuntu 24.04.1 LTS)x86_64R Under development (unstable) (2025-01-20 r87609) -- "Unsuffered Consequences" 4720
Click on any hostname to see more info about the system (e.g. compilers)      (*) as reported by 'uname -p', except on Windows and Mac OS X

Package 28/47HostnameOS / ArchINSTALLBUILDCHECK
hpAnnot 1.1.0  (landing page)
Marta R. Hidalgo
Snapshot Date: 2025-02-12 06:00 -0500 (Wed, 12 Feb 2025)
git_url: https://git.bioconductor.org/packages/hpAnnot
git_branch: devel
git_last_commit: 640c19e
git_last_commit_date: 2021-02-09 11:23:17 -0500 (Tue, 09 Feb 2021)
nebbiolo1Linux (Ubuntu 24.04.1 LTS) / x86_64  OK    OK    ERROR  


INSTALL results for hpAnnot on nebbiolo1

To the developers/maintainers of the hpAnnot package:
- Use the following Renviron settings to reproduce errors and warnings.
- If 'R CMD check' started to fail recently on the Linux builder(s) over a missing dependency, add the missing dependency to 'Suggests:' in your DESCRIPTION file. See Renviron.bioc for more information.

raw results


Summary

Package: hpAnnot
Version: 1.1.0
Command: /home/biocbuild/bbs-3.21-bioc/R/bin/R CMD INSTALL hpAnnot
StartedAt: 2025-02-12 06:30:08 -0500 (Wed, 12 Feb 2025)
EndedAt: 2025-02-12 06:30:11 -0500 (Wed, 12 Feb 2025)
EllapsedTime: 3.3 seconds
RetCode: 0
Status:   OK  

Command output

##############################################################################
##############################################################################
###
### Running command:
###
###   /home/biocbuild/bbs-3.21-bioc/R/bin/R CMD INSTALL hpAnnot
###
##############################################################################
##############################################################################


* installing to library ‘/home/biocbuild/bbs-3.21-bioc/R/site-library’
* installing *source* package ‘hpAnnot’ ...
** this is package ‘hpAnnot’ version ‘1.1.0’
** using staged installation
** inst
** help
No man pages found in package  ‘hpAnnot’ 
*** installing help indices
** building package indices
** installing vignettes
** testing if installed package can be loaded from temporary location
** testing if installed package can be loaded from final location
** testing if installed package keeps a record of temporary installation path
* DONE (hpAnnot)