Back to Build/check report for BioC 3.21 annotations
ABCDEFGHIJKLMNOPQRS[T]UVWXYZ

This page was generated on 2025-02-05 08:30 -0500 (Wed, 05 Feb 2025).

HostnameOSArch (*)R versionInstalled pkgs
nebbiolo1Linux (Ubuntu 24.04.1 LTS)x86_64R Under development (unstable) (2025-01-20 r87609) -- "Unsuffered Consequences" 4717
Click on any hostname to see more info about the system (e.g. compilers)      (*) as reported by 'uname -p', except on Windows and Mac OS X

Package 45/47HostnameOS / ArchINSTALLBUILDCHECK
TENET.AnnotationHub 0.99.4  (landing page)
Rhie Lab at the University of Southern California
Snapshot Date: 2025-02-05 06:00 -0500 (Wed, 05 Feb 2025)
git_url: https://git.bioconductor.org/packages/TENET.AnnotationHub
git_branch: devel
git_last_commit: b71884d
git_last_commit_date: 2024-10-15 20:03:09 -0500 (Tue, 15 Oct 2024)
nebbiolo1Linux (Ubuntu 24.04.1 LTS) / x86_64  OK    OK    OK  UNNEEDED, same version is already published


BUILD results for TENET.AnnotationHub on nebbiolo1

To the developers/maintainers of the TENET.AnnotationHub package:
- Use the following Renviron settings to reproduce errors and warnings.
- If 'R CMD check' started to fail recently on the Linux builder(s) over a missing dependency, add the missing dependency to 'Suggests:' in your DESCRIPTION file. See Renviron.bioc for more information.

raw results


Summary

Package: TENET.AnnotationHub
Version: 0.99.4
Command: /home/biocbuild/bbs-3.21-bioc/R/bin/R CMD build --keep-empty-dirs --no-resave-data TENET.AnnotationHub
StartedAt: 2025-02-05 06:32:18 -0500 (Wed, 05 Feb 2025)
EndedAt: 2025-02-05 06:33:16 -0500 (Wed, 05 Feb 2025)
EllapsedTime: 58.5 seconds
RetCode: 0
Status:   OK  
PackageFile: TENET.AnnotationHub_0.99.4.tar.gz
PackageFileSize: 346.6 KiB

Command output

##############################################################################
##############################################################################
###
### Running command:
###
###   /home/biocbuild/bbs-3.21-bioc/R/bin/R CMD build --keep-empty-dirs --no-resave-data TENET.AnnotationHub
###
##############################################################################
##############################################################################


* checking for file ‘TENET.AnnotationHub/DESCRIPTION’ ... OK
* preparing ‘TENET.AnnotationHub’:
* checking DESCRIPTION meta-information ... OK
* installing the package to build vignettes
* creating vignettes ... OK
* checking for LF line-endings in source and make files and shell scripts
* checking for empty or unneeded directories
* building ‘TENET.AnnotationHub_0.99.4.tar.gz’