| Back to Build/check report for BioC 3.21 annotations |
|
This page was generated on 2025-10-15 07:00 -0400 (Wed, 15 Oct 2025).
| Hostname | OS | Arch (*) | R version | Installed pkgs |
|---|---|---|---|---|
| nebbiolo1 | Linux (Ubuntu 24.04.3 LTS) | x86_64 | 4.5.1 (2025-06-13) -- "Great Square Root" | 4833 |
| Click on any hostname to see more info about the system (e.g. compilers) (*) as reported by 'uname -p', except on Windows and Mac OS X | ||||
| Package 37/47 | Hostname | OS / Arch | INSTALL | BUILD | CHECK | ||||||||
| PANTHER.db 1.0.12 (landing page) Julius Muller
| nebbiolo1 | Linux (Ubuntu 24.04.3 LTS) / x86_64 | OK | OK | OK | ||||||||
|
To the developers/maintainers of the PANTHER.db package: - Use the following Renviron settings to reproduce errors and warnings. - If 'R CMD check' started to fail recently on the Linux builder(s) over a missing dependency, add the missing dependency to 'Suggests:' in your DESCRIPTION file. See Renviron.bioc for more information. |
| Package: PANTHER.db |
| Version: 1.0.12 |
| Command: /home/biocbuild/bbs-3.21-bioc/R/bin/R CMD build --keep-empty-dirs --no-resave-data PANTHER.db |
| StartedAt: 2025-10-15 06:02:07 -0400 (Wed, 15 Oct 2025) |
| EndedAt: 2025-10-15 06:02:38 -0400 (Wed, 15 Oct 2025) |
| EllapsedTime: 30.3 seconds |
| RetCode: 0 |
| Status: OK |
| PackageFile: PANTHER.db_1.0.12.tar.gz |
| PackageFileSize: 317.6 KiB |
##############################################################################
##############################################################################
###
### Running command:
###
### /home/biocbuild/bbs-3.21-bioc/R/bin/R CMD build --keep-empty-dirs --no-resave-data PANTHER.db
###
##############################################################################
##############################################################################
* checking for file ‘PANTHER.db/DESCRIPTION’ ... OK
* preparing ‘PANTHER.db’:
* checking DESCRIPTION meta-information ... OK
* installing the package to build vignettes
* creating vignettes ... OK
Warning: ‘inst/doc’ files
‘PANTHER.db.Rmd’, ‘PANTHER.db.html’
ignored as vignettes have been rebuilt.
Run R CMD build with --no-build-vignettes to prevent rebuilding.
* excluding invalid files
Subdirectory 'man' contains invalid file names:
‘PANTHERDB-class.R’
* checking for LF line-endings in source and make files and shell scripts
* checking for empty or unneeded directories
* building ‘PANTHER.db_1.0.12.tar.gz’