Welcome to mirrors.dotsrc.org

All our mirrors of open source software are available via http, https, ftp and an onion service. More information about our mirrors including statistics and contact information is available on our mirror info pages.

For information about dotsrc.org and our other services please go to our website.

Index of /bioconductor/checkResults/3.21/bioc-testing-LATEST/

File Name  ↓ File Size  ↓ Date  ↓ 
Parent directory/--
zlibbioc/-2025-02-13 20:44:32
zellkonverter/-2025-02-13 20:44:32
xcms/-2025-02-13 20:44:32
widgetTools/-2025-02-13 20:44:32
vsn/-2025-02-13 20:44:32
tximport/-2025-02-13 20:44:32
tximeta/-2025-02-13 20:44:32
txdbmaker/-2025-02-13 20:44:32
treeio/-2025-02-13 20:44:32
tkWidgets/-2025-02-13 20:44:32
sva/-2025-02-13 20:44:32
supraHex/-2025-02-13 20:44:32
sparseMatrixStats/-2025-02-13 20:44:32
snpStats/-2025-02-13 20:44:32
snifter/-2025-02-13 20:44:32
sesame/-2025-02-13 20:44:32
seqLogo/-2025-02-13 20:44:32
scuttle/-2025-02-13 20:44:32
scrapper/-2025-02-13 20:44:32
scran/-2025-02-13 20:44:32
scater/-2025-02-13 20:44:32
rtracklayer/-2025-02-13 20:44:32
rpx/-2025-02-13 20:44:32
rhdf5filters/-2025-02-13 20:44:32
rhdf5/-2025-02-13 20:44:32
regioneR/-2025-02-13 20:44:32
rBiopaxParser/-2025-02-13 20:44:32
qvalue/-2025-02-13 20:44:31
pwalign/-2025-02-13 20:44:31
preprocessCore/-2025-02-13 20:44:31
phyloseq/-2025-02-13 20:44:31
pcaMethods/-2025-02-13 20:44:31
pathview/-2025-02-13 20:44:31
pRoloc/-2025-02-13 20:44:31
openCyto/-2025-02-13 20:44:31
ncdfFlow/-2025-02-13 20:44:31
mzR/-2025-02-13 20:44:31
mzID/-2025-02-13 20:44:31
multtest/-2025-02-13 20:44:31
minet/-2025-02-13 20:44:31
microRNA/-2025-02-13 20:44:31
metapod/-2025-02-13 20:44:31
metagenomeSeq/-2025-02-13 20:44:31
mbkmeans/-2025-02-13 20:44:31
maftools/-2025-02-13 20:44:31
lpsymphony/-2025-02-13 20:44:31
limma/-2025-02-13 20:44:31
keggorthology/-2025-02-13 20:44:31
karyoploteR/-2025-02-13 20:44:31
interactiveDisplayBase/-2025-02-13 20:44:31
interactiveDisplay/-2025-02-13 20:44:31
impute/-2025-02-13 20:44:31
illuminaio/-2025-02-13 20:44:31
hpar/-2025-02-13 20:44:31
h5mread/-2025-02-13 20:44:31
gypsum/-2025-02-13 20:44:31
graph/-2025-02-13 20:44:31
gpls/-2025-02-13 20:44:31
glmGamPoi/-2025-02-13 20:44:31
ggtreeExtra/-2025-02-13 20:44:31
ggtree/-2025-02-13 20:44:31
ggcyto/-2025-02-13 20:44:31
ggbio/-2025-02-13 20:44:31
geneplotter/-2025-02-13 20:44:31
genefilter/-2025-02-13 20:44:31
gdsfmt/-2025-02-13 20:44:31
gcrma/-2025-02-13 20:44:31
gage/-2025-02-13 20:44:31
fmcsR/-2025-02-13 20:44:31
flowWorkspace/-2025-02-13 20:44:31
flowViz/-2025-02-13 20:44:31
flowStats/-2025-02-13 20:44:31
flowCore/-2025-02-13 20:44:31
flowClust/-2025-02-13 20:44:31
fishpond/-2025-02-13 20:44:31
fgsea/-2025-02-13 20:44:31
ensembldb/-2025-02-13 20:44:31
enrichplot/-2025-02-13 20:44:31
eds/-2025-02-13 20:44:31
edgeR/-2025-02-13 20:44:31
dir.expiry/-2025-02-13 20:44:31
densvis/-2025-02-13 20:44:31
cytolib/-2025-02-13 20:44:31
csaw/-2025-02-13 20:44:30
clusterProfiler/-2025-02-13 20:44:30
chihaya/-2025-02-13 20:44:30
bluster/-2025-02-13 20:44:30
biovizBase/-2025-02-13 20:44:30
biomformat/-2025-02-13 20:44:30
biomaRt/-2025-02-13 20:44:30
biocthis/-2025-02-13 20:44:30
biocViews/-2025-02-13 20:44:30
beachmat.hdf5/-2025-02-13 20:44:30
beachmat/-2025-02-13 20:44:30
batchelor/-2025-02-13 20:44:30
basilisk.utils/-2025-02-13 20:44:30
basilisk/-2025-02-13 20:44:30
bamsignals/-2025-02-13 20:44:30
assorthead/-2025-02-13 20:44:30
aroma.light/-2025-02-13 20:44:30
apeglm/-2025-02-13 20:44:30
annotate/-2025-02-13 20:44:30
alabaster.se/-2025-02-13 20:44:30
alabaster.schemas/-2025-02-13 20:44:30
alabaster.sce/-2025-02-13 20:44:30
alabaster.ranges/-2025-02-13 20:44:30
alabaster.matrix/-2025-02-13 20:44:30
alabaster.base/-2025-02-13 20:44:30
affyio/-2025-02-13 20:44:30
affyPLM/-2025-02-13 20:44:30
affy/-2025-02-13 20:44:30
affxparser/-2025-02-13 20:44:30
XVector/-2025-02-13 20:44:32
Wrench/-2025-02-13 20:44:32
VariantAnnotation/-2025-02-13 20:44:32
UCSC.utils/-2025-02-13 20:44:32
TCGAbiolinks/-2025-02-13 20:44:32
SummarizedExperiment/-2025-02-13 20:44:32
Spectra/-2025-02-13 20:44:32
SpatialExperiment/-2025-02-13 20:44:32
SparseArray/-2025-02-13 20:44:32
SingleR/-2025-02-13 20:44:32
SingleCellExperiment/-2025-02-13 20:44:32
ShortRead/-2025-02-13 20:44:32
ScaledMatrix/-2025-02-13 20:44:32
SPIA/-2025-02-13 20:44:32
S4Vectors/-2025-02-13 20:44:32
S4Arrays/-2025-02-13 20:44:32
Rsubread/-2025-02-13 20:44:32
Rsamtools/-2025-02-13 20:44:32
Rhtslib/-2025-02-13 20:44:32
Rhdf5lib/-2025-02-13 20:44:32
Rgraphviz/-2025-02-13 20:44:32
ResidualMatrix/-2025-02-13 20:44:32
ReportingTools/-2025-02-13 20:44:32
Rdisop/-2025-02-13 20:44:32
RaggedExperiment/-2025-02-13 20:44:31
RProtoBufLib/-2025-02-13 20:44:32
ROC/-2025-02-13 20:44:32
RBGL/-2025-02-13 20:44:32
QFeatures/-2025-02-13 20:44:31
ProtGenerics/-2025-02-13 20:44:31
PSMatch/-2025-02-13 20:44:31
OrganismDbi/-2025-02-13 20:44:31
MultiAssayExperiment/-2025-02-13 20:44:31
MsFeatures/-2025-02-13 20:44:31
MsExperiment/-2025-02-13 20:44:31
MsDataHub/-2025-02-13 20:44:31
MsCoreUtils/-2025-02-13 20:44:31
MsBackendSql/-2025-02-13 20:44:31
MsBackendMgf/-2025-02-13 20:44:31
MetaboCoreUtils/-2025-02-13 20:44:31
MatrixGenerics/-2025-02-13 20:44:31
MassSpecWavelet/-2025-02-13 20:44:31
MSnbase/-2025-02-13 20:44:31
MLInterfaces/-2025-02-13 20:44:31
LoomExperiment/-2025-02-13 20:44:31
KEGGgraph/-2025-02-13 20:44:31
KEGGREST/-2025-02-13 20:44:31
IRanges/-2025-02-13 20:44:31
IHW/-2025-02-13 20:44:31
HubPub/-2025-02-13 20:44:31
HDF5Array/-2025-02-13 20:44:31
Gviz/-2025-02-13 20:44:31
GenomicRanges/-2025-02-13 20:44:31
GenomicFeatures/-2025-02-13 20:44:31
GenomicAlignments/-2025-02-13 20:44:31
GenomeInfoDb/-2025-02-13 20:44:31
GSVA/-2025-02-13 20:44:31
GSEABase/-2025-02-13 20:44:31
GOstats/-2025-02-13 20:44:31
GOSemSim/-2025-02-13 20:44:31
GEOquery/-2025-02-13 20:44:31
ExperimentHubData/-2025-02-13 20:44:31
ExperimentHub/-2025-02-13 20:44:31
EnrichedHeatmap/-2025-02-13 20:44:31
EnhancedVolcano/-2025-02-13 20:44:31
EDASeq/-2025-02-13 20:44:31
EBarrays/-2025-02-13 20:44:31
EBImage/-2025-02-13 20:44:31
DynDoc/-2025-02-13 20:44:31
DropletUtils/-2025-02-13 20:44:31
DirichletMultinomial/-2025-02-13 20:44:31
DelayedMatrixStats/-2025-02-13 20:44:31
DelayedArray/-2025-02-13 20:44:31
DOSE/-2025-02-13 20:44:31
DNAcopy/-2025-02-13 20:44:31
DEXSeq/-2025-02-13 20:44:31
DESeq2/-2025-02-13 20:44:31
DECIPHER/-2025-02-13 20:44:31
CytoML/-2025-02-13 20:44:31
ConsensusClusterPlus/-2025-02-13 20:44:30
CompoundDb/-2025-02-13 20:44:30
ComplexHeatmap/-2025-02-13 20:44:30
ChemmineR/-2025-02-13 20:44:30
ChemmineOB/-2025-02-13 20:44:30
Category/-2025-02-13 20:44:30
BumpyMatrix/-2025-02-13 20:44:30
Biostrings/-2025-02-13 20:44:30
BiocVersion/-2025-02-13 20:44:30
BiocStyle/-2025-02-13 20:44:30
BiocSingular/-2025-02-13 20:44:30
BiocParallel/-2025-02-13 20:44:30
BiocNeighbors/-2025-02-13 20:44:30
BiocIO/-2025-02-13 20:44:30
BiocGenerics/-2025-02-13 20:44:30
BiocFileCache/-2025-02-13 20:44:30
BiocCheck/-2025-02-13 20:44:30
BiocBaseUtils/-2025-02-13 20:44:30
Biobase/-2025-02-13 20:44:30
BSgenomeForge/-2025-02-13 20:44:30
BSgenome/-2025-02-13 20:44:30
AnnotationHubData/-2025-02-13 20:44:30
AnnotationHub/-2025-02-13 20:44:30
AnnotationForge/-2025-02-13 20:44:30
AnnotationFilter/-2025-02-13 20:44:30
AnnotationDbi/-2025-02-13 20:44:30
teran2-R-instpkgs.html113.9 KiB2025-02-13 20:44:30
teran2-NodeInfo.html7.0 KiB2025-02-13 20:44:30
skipped-index.dcf0 B2025-02-13 20:44:30
report.tgz4.0 MiB2025-02-13 20:44:34
report.js6.0 KiB2025-02-13 20:44:30
report.css11.0 KiB2025-02-13 20:44:30
meat-index.dcf23.6 KiB2025-02-13 20:44:30
index.html231.9 KiB2025-02-13 20:44:32
Renviron.bioc3.3 KiB2025-02-13 20:44:30
DEVEL3b.png2.6 KiB2025-02-13 20:44:30
BUILD_STATUS_DB.txt19.6 KiB2025-02-13 20:44:30
120px-Red_Light_Icon.svg.png7.0 KiB2025-02-13 20:44:30
120px-Green_Light_Icon.svg.png7.1 KiB2025-02-13 20:44:30
120px-Blue_Light_Icon.svg.png7.1 KiB2025-02-13 20:44:30