Welcome to mirrors.dotsrc.org

All our mirrors of open source software are available via http, https, ftp and an onion service. More information about our mirrors including statistics and contact information is available on our mirror info pages.

For information about dotsrc.org and our other services please go to our website.

Index of /bioconductor/checkResults/3.21/bioc-rapid-LATEST/

File Name  ↓ File Size  ↓ Date  ↓ 
Parent directory/--
bamsignals/-2025-02-15 20:45:48
AnnotationHub/-2025-02-15 20:45:48
alabaster.schemas/-2025-02-15 20:45:48
affxparser/-2025-02-15 20:45:48
AnnotationHubData/-2025-02-15 20:45:48
assorthead/-2025-02-15 20:45:48
affyio/-2025-02-15 20:45:48
AnnotationForge/-2025-02-15 20:45:48
alabaster.base/-2025-02-15 20:45:48
AnnotationDbi/-2025-02-15 20:45:48
alabaster.sce/-2025-02-15 20:45:48
alabaster.matrix/-2025-02-15 20:45:48
batchelor/-2025-02-15 20:45:48
affy/-2025-02-15 20:45:48
basilisk.utils/-2025-02-15 20:45:48
alabaster.ranges/-2025-02-15 20:45:48
alabaster.se/-2025-02-15 20:45:48
annotate/-2025-02-15 20:45:48
apeglm/-2025-02-15 20:45:48
beachmat/-2025-02-15 20:45:48
affyPLM/-2025-02-15 20:45:48
aroma.light/-2025-02-15 20:45:48
basilisk/-2025-02-15 20:45:48
beachmat.hdf5/-2025-02-15 20:45:48
AnnotationFilter/-2025-02-15 20:45:48
BSgenome/-2025-02-15 20:45:49
gage/-2025-02-15 20:45:49
BiocSingular/-2025-02-15 20:45:49
BiocNeighbors/-2025-02-15 20:45:49
MsCoreUtils/-2025-02-15 20:45:49
DESeq2/-2025-02-15 20:45:49
DirichletMultinomial/-2025-02-15 20:45:49
flowClust/-2025-02-15 20:45:49
limma/-2025-02-15 20:45:49
DNAcopy/-2025-02-15 20:45:49
h5mread/-2025-02-15 20:45:49
lpsymphony/-2025-02-15 20:45:49
interactiveDisplay/-2025-02-15 20:45:49
LoomExperiment/-2025-02-15 20:45:49
geneplotter/-2025-02-15 20:45:49
BiocFileCache/-2025-02-15 20:45:49
flowWorkspace/-2025-02-15 20:45:49
MsBackendMgf/-2025-02-15 20:45:49
ggtree/-2025-02-15 20:45:49
gypsum/-2025-02-15 20:45:49
GenomicAlignments/-2025-02-15 20:45:49
bluster/-2025-02-15 20:45:49
BiocParallel/-2025-02-15 20:45:49
GenomicFeatures/-2025-02-15 20:45:49
biovizBase/-2025-02-15 20:45:49
ChemmineR/-2025-02-15 20:45:49
biomaRt/-2025-02-15 20:45:49
eds/-2025-02-15 20:45:49
flowStats/-2025-02-15 20:45:49
DOSE/-2025-02-15 20:45:49
Gviz/-2025-02-15 20:45:49
csaw/-2025-02-15 20:45:49
EnhancedVolcano/-2025-02-15 20:45:49
GenomeInfoDb/-2025-02-15 20:45:49
clusterProfiler/-2025-02-15 20:45:49
MatrixGenerics/-2025-02-15 20:45:49
biocthis/-2025-02-15 20:45:49
DelayedArray/-2025-02-15 20:45:49
graph/-2025-02-15 20:45:49
Category/-2025-02-15 20:45:49
edgeR/-2025-02-15 20:45:49
EBarrays/-2025-02-15 20:45:49
gdsfmt/-2025-02-15 20:45:49
chihaya/-2025-02-15 20:45:49
ggcyto/-2025-02-15 20:45:49
MLInterfaces/-2025-02-15 20:45:49
MassSpecWavelet/-2025-02-15 20:45:49
BiocVersion/-2025-02-15 20:45:49
enrichplot/-2025-02-15 20:45:49
BumpyMatrix/-2025-02-15 20:45:49
GSEABase/-2025-02-15 20:45:49
HubPub/-2025-02-15 20:45:49
DEXSeq/-2025-02-15 20:45:49
MsBackendSql/-2025-02-15 20:45:49
ggbio/-2025-02-15 20:45:49
genefilter/-2025-02-15 20:45:49
GEOquery/-2025-02-15 20:45:49
fgsea/-2025-02-15 20:45:49
fishpond/-2025-02-15 20:45:49
gcrma/-2025-02-15 20:45:49
DropletUtils/-2025-02-15 20:45:49
DynDoc/-2025-02-15 20:45:49
ComplexHeatmap/-2025-02-15 20:45:49
hpar/-2025-02-15 20:45:49
BiocStyle/-2025-02-15 20:45:49
dir.expiry/-2025-02-15 20:45:49
GOSemSim/-2025-02-15 20:45:49
KEGGREST/-2025-02-15 20:45:49
IHW/-2025-02-15 20:45:49
BiocBaseUtils/-2025-02-15 20:45:49
ggtreeExtra/-2025-02-15 20:45:49
biocViews/-2025-02-15 20:45:49
metapod/-2025-02-15 20:45:49
GenomicRanges/-2025-02-15 20:45:49
ensembldb/-2025-02-15 20:45:49
ExperimentHub/-2025-02-15 20:45:49
CytoML/-2025-02-15 20:45:49
metagenomeSeq/-2025-02-15 20:45:49
minet/-2025-02-15 20:45:49
densvis/-2025-02-15 20:45:49
impute/-2025-02-15 20:45:49
ChemmineOB/-2025-02-15 20:45:49
maftools/-2025-02-15 20:45:49
cytolib/-2025-02-15 20:45:49
keggorthology/-2025-02-15 20:45:49
GSVA/-2025-02-15 20:45:49
mbkmeans/-2025-02-15 20:45:49
biomformat/-2025-02-15 20:45:49
IRanges/-2025-02-15 20:45:49
microRNA/-2025-02-15 20:45:49
CompoundDb/-2025-02-15 20:45:49
BiocIO/-2025-02-15 20:45:49
ConsensusClusterPlus/-2025-02-15 20:45:49
KEGGgraph/-2025-02-15 20:45:49
karyoploteR/-2025-02-15 20:45:49
HDF5Array/-2025-02-15 20:45:49
illuminaio/-2025-02-15 20:45:49
EnrichedHeatmap/-2025-02-15 20:45:49
BiocGenerics/-2025-02-15 20:45:49
interactiveDisplayBase/-2025-02-15 20:45:49
glmGamPoi/-2025-02-15 20:45:49
ExperimentHubData/-2025-02-15 20:45:49
MetaboCoreUtils/-2025-02-15 20:45:49
EDASeq/-2025-02-15 20:45:49
BSgenomeForge/-2025-02-15 20:45:49
DECIPHER/-2025-02-15 20:45:49
BiocCheck/-2025-02-15 20:45:49
DelayedMatrixStats/-2025-02-15 20:45:49
Biobase/-2025-02-15 20:45:49
gpls/-2025-02-15 20:45:49
flowViz/-2025-02-15 20:45:49
Biostrings/-2025-02-15 20:45:49
fmcsR/-2025-02-15 20:45:49
EBImage/-2025-02-15 20:45:49
GOstats/-2025-02-15 20:45:49
flowCore/-2025-02-15 20:45:49
SingleCellExperiment/-2025-02-15 20:45:50
Rgraphviz/-2025-02-15 20:45:50
rpx/-2025-02-15 20:45:50
S4Arrays/-2025-02-15 20:45:50
ProtGenerics/-2025-02-15 20:45:50
scran/-2025-02-15 20:45:50
SingleR/-2025-02-15 20:45:50
sesame/-2025-02-15 20:45:50
Rsubread/-2025-02-15 20:45:50
RBGL/-2025-02-15 20:45:50
seqLogo/-2025-02-15 20:45:50
Rhtslib/-2025-02-15 20:45:50
ROC/-2025-02-15 20:45:50
mzR/-2025-02-15 20:45:50
qvalue/-2025-02-15 20:45:50
scuttle/-2025-02-15 20:45:50
mzID/-2025-02-15 20:45:50
openCyto/-2025-02-15 20:45:50
pcaMethods/-2025-02-15 20:45:50
scater/-2025-02-15 20:45:50
preprocessCore/-2025-02-15 20:45:50
RaggedExperiment/-2025-02-15 20:45:50
ShortRead/-2025-02-15 20:45:50
RProtoBufLib/-2025-02-15 20:45:50
snifter/-2025-02-15 20:45:50
PSMatch/-2025-02-15 20:45:50
phyloseq/-2025-02-15 20:45:50
ncdfFlow/-2025-02-15 20:45:50
rhdf5/-2025-02-15 20:45:50
Rdisop/-2025-02-15 20:45:50
QFeatures/-2025-02-15 20:45:50
snpStats/-2025-02-15 20:45:50
S4Vectors/-2025-02-15 20:45:50
pathview/-2025-02-15 20:45:50
regioneR/-2025-02-15 20:45:50
Rhdf5lib/-2025-02-15 20:45:50
MsFeatures/-2025-02-15 20:45:50
pRoloc/-2025-02-15 20:45:50
pwalign/-2025-02-15 20:45:50
rBiopaxParser/-2025-02-15 20:45:50
OrganismDbi/-2025-02-15 20:45:50
ReportingTools/-2025-02-15 20:45:50
Rsamtools/-2025-02-15 20:45:50
rtracklayer/-2025-02-15 20:45:50
MsExperiment/-2025-02-15 20:45:50
MSnbase/-2025-02-15 20:45:50
MsDataHub/-2025-02-15 20:45:50
ScaledMatrix/-2025-02-15 20:45:50
rhdf5filters/-2025-02-15 20:45:50
MultiAssayExperiment/-2025-02-15 20:45:50
multtest/-2025-02-15 20:45:50
ResidualMatrix/-2025-02-15 20:45:50
scrapper/-2025-02-15 20:45:50
SpatialExperiment/-2025-02-15 20:45:51
VariantAnnotation/-2025-02-15 20:45:51
treeio/-2025-02-15 20:45:51
SummarizedExperiment/-2025-02-15 20:45:51
UCSC.utils/-2025-02-15 20:45:51
SparseArray/-2025-02-15 20:45:51
txdbmaker/-2025-02-15 20:45:51
sparseMatrixStats/-2025-02-15 20:45:51
TCGAbiolinks/-2025-02-15 20:45:51
sva/-2025-02-15 20:45:51
zlibbioc/-2025-02-15 20:45:51
tximeta/-2025-02-15 20:45:51
widgetTools/-2025-02-15 20:45:51
zellkonverter/-2025-02-15 20:45:51
XVector/-2025-02-15 20:45:51
Spectra/-2025-02-15 20:45:51
tkWidgets/-2025-02-15 20:45:51
Wrench/-2025-02-15 20:45:51
xcms/-2025-02-15 20:45:51
SPIA/-2025-02-15 20:45:51
tximport/-2025-02-15 20:45:51
supraHex/-2025-02-15 20:45:51
vsn/-2025-02-15 20:45:51
teran2-R-instpkgs.html113.9 KiB2025-02-15 20:45:48
Renviron.bioc3.3 KiB2025-02-15 20:45:48
BUILD_STATUS_DB.txt19.6 KiB2025-02-15 20:45:48
teran2-NodeInfo.html7.0 KiB2025-02-15 20:45:48
report.css11.0 KiB2025-02-15 20:45:48
120px-Blue_Light_Icon.svg.png7.1 KiB2025-02-15 20:45:48
skipped-index.dcf0 B2025-02-15 20:45:48
DEVEL3b.png2.6 KiB2025-02-15 20:45:48
report.js6.0 KiB2025-02-15 20:45:48
120px-Red_Light_Icon.svg.png7.0 KiB2025-02-15 20:45:48
120px-Green_Light_Icon.svg.png7.1 KiB2025-02-15 20:45:48
meat-index.dcf23.6 KiB2025-02-15 20:45:48
index.html232.0 KiB2025-02-15 20:45:51
report.tgz4.1 MiB2025-02-15 20:45:53