| Back to Long Tests report for BioC 3.21 |
This page was generated on 2025-08-09 23:55 -0400 (Sat, 09 Aug 2025).
| Hostname | OS | Arch (*) | R version | Installed pkgs |
|---|---|---|---|---|
| nebbiolo1 | Linux (Ubuntu 24.04.2 LTS) | x86_64 | 4.5.1 (2025-06-13) -- "Great Square Root" | 4823 |
| palomino7 | Windows Server 2022 Datacenter | x64 | 4.5.1 (2025-06-13 ucrt) -- "Great Square Root" | 4565 |
| merida1 | macOS 12.7.5 Monterey | x86_64 | 4.5.1 RC (2025-06-05 r88288) -- "Great Square Root" | 4603 |
| Click on any hostname to see more info about the system (e.g. compilers) (*) as reported by 'uname -p', except on Windows and Mac OS X | ||||
| Package 22/30 | Hostname | OS / Arch | CHECK | |||||||
| HDF5Array 1.36.0 (landing page) Hervé Pagès
| nebbiolo1 | Linux (Ubuntu 24.04.2 LTS) / x86_64 | OK | |||||||
| palomino7 | Windows Server 2022 Datacenter / x64 | OK | ||||||||
| merida1 | macOS 12.7.5 Monterey / x86_64 | OK | ||||||||
|
To the developers/maintainers of the HDF5Array package: - Use the following Renviron settings to reproduce errors and warnings. - If 'R CMD check' started to fail recently on the Linux builder(s) over a missing dependency, add the missing dependency to 'Suggests:' in your DESCRIPTION file. See Renviron.bioc for more information. |
| Package: HDF5Array |
| Version: 1.36.0 |
| Command: E:\biocbuild\bbs-3.21-bioc\R\bin\R.exe CMD check --no-multiarch --test-dir=longtests --no-stop-on-test-error --no-codoc --no-examples --no-manual --ignore-vignettes --check-subdirs=no HDF5Array_1.36.0.tar.gz |
| StartedAt: 2025-08-09 16:12:48 -0400 (Sat, 09 Aug 2025) |
| EndedAt: 2025-08-09 16:29:55 -0400 (Sat, 09 Aug 2025) |
| EllapsedTime: 1027.1 seconds |
| RetCode: 0 |
| Status: OK |
| CheckDir: HDF5Array.Rcheck |
| Warnings: 0 |
HDF5Array.Rcheck/tests/run_longtests.Rout
R version 4.5.1 (2025-06-13 ucrt) -- "Great Square Root"
Copyright (C) 2025 The R Foundation for Statistical Computing
Platform: x86_64-w64-mingw32/x64
R is free software and comes with ABSOLUTELY NO WARRANTY.
You are welcome to redistribute it under certain conditions.
Type 'license()' or 'licence()' for distribution details.
R is a collaborative project with many contributors.
Type 'contributors()' for more information and
'citation()' on how to cite R or R packages in publications.
Type 'demo()' for some demos, 'help()' for on-line help, or
'help.start()' for an HTML browser interface to help.
Type 'q()' to quit R.
> require("HDF5Array") || stop("unable to load HDF5Array package")
Loading required package: HDF5Array
Loading required package: SparseArray
Loading required package: Matrix
Loading required package: BiocGenerics
Loading required package: generics
Attaching package: 'generics'
The following objects are masked from 'package:base':
as.difftime, as.factor, as.ordered, intersect, is.element, setdiff,
setequal, union
Attaching package: 'BiocGenerics'
The following objects are masked from 'package:stats':
IQR, mad, sd, var, xtabs
The following objects are masked from 'package:base':
Filter, Find, Map, Position, Reduce, anyDuplicated, aperm, append,
as.data.frame, basename, cbind, colnames, dirname, do.call,
duplicated, eval, evalq, get, grep, grepl, is.unsorted, lapply,
mapply, match, mget, order, paste, pmax, pmax.int, pmin, pmin.int,
rank, rbind, rownames, sapply, saveRDS, table, tapply, unique,
unsplit, which.max, which.min
Loading required package: MatrixGenerics
Loading required package: matrixStats
Attaching package: 'MatrixGenerics'
The following objects are masked from 'package:matrixStats':
colAlls, colAnyNAs, colAnys, colAvgsPerRowSet, colCollapse,
colCounts, colCummaxs, colCummins, colCumprods, colCumsums,
colDiffs, colIQRDiffs, colIQRs, colLogSumExps, colMadDiffs,
colMads, colMaxs, colMeans2, colMedians, colMins, colOrderStats,
colProds, colQuantiles, colRanges, colRanks, colSdDiffs, colSds,
colSums2, colTabulates, colVarDiffs, colVars, colWeightedMads,
colWeightedMeans, colWeightedMedians, colWeightedSds,
colWeightedVars, rowAlls, rowAnyNAs, rowAnys, rowAvgsPerColSet,
rowCollapse, rowCounts, rowCummaxs, rowCummins, rowCumprods,
rowCumsums, rowDiffs, rowIQRDiffs, rowIQRs, rowLogSumExps,
rowMadDiffs, rowMads, rowMaxs, rowMeans2, rowMedians, rowMins,
rowOrderStats, rowProds, rowQuantiles, rowRanges, rowRanks,
rowSdDiffs, rowSds, rowSums2, rowTabulates, rowVarDiffs, rowVars,
rowWeightedMads, rowWeightedMeans, rowWeightedMedians,
rowWeightedSds, rowWeightedVars
Loading required package: S4Vectors
Loading required package: stats4
Attaching package: 'S4Vectors'
The following objects are masked from 'package:Matrix':
expand, unname
The following object is masked from 'package:utils':
findMatches
The following objects are masked from 'package:base':
I, expand.grid, unname
Loading required package: S4Arrays
Loading required package: abind
Loading required package: IRanges
Attaching package: 'IRanges'
The following object is masked from 'package:grDevices':
windows
Attaching package: 'S4Arrays'
The following object is masked from 'package:abind':
abind
The following object is masked from 'package:base':
rowsum
Loading required package: DelayedArray
Attaching package: 'DelayedArray'
The following objects are masked from 'package:base':
apply, scale, sweep
Loading required package: h5mread
Loading required package: rhdf5
Attaching package: 'h5mread'
The following object is masked from 'package:rhdf5':
h5ls
[1] TRUE
> setAutoRealizationBackend("HDF5Array")
> ## The tests in DelayedArray require the DelayedMatrixStats and genefilter
> ## packages so HDF5Array must have them in Suggests.
> BiocGenerics:::testPackage("DelayedArray")
Error in S4Arrays:::normarg_perm(perm, dim(seed)) :
'perm' must be an integer vector
Error in validObject(.Object) : invalid class "DelayedAperm" object:
'perm' cannot be an empty vector
Error in validObject(.Object) : invalid class "DelayedAperm" object:
only dimensions with an extent of 1 can be dropped
Error in validObject(.Object) : invalid class "DelayedAperm" object:
all non-NA values in 'perm' must be >= 1 and <= 'length(dim(a))'
Error in validObject(.Object) : invalid class "DelayedAperm" object:
only dimensions with an extent of 1 can be dropped
Loading required namespace: HDF5Array
Loading required namespace: HDF5Array
Loading required namespace: HDF5Array
Loading required namespace: HDF5Array
Loading required namespace: HDF5Array
Loading required namespace: HDF5Array
Loading required namespace: HDF5Array
Loading required namespace: HDF5Array
Loading required namespace: HDF5Array
Loading required namespace: HDF5Array
Loading required namespace: HDF5Array
Loading required namespace: HDF5Array
Loading required namespace: HDF5Array
Loading required namespace: HDF5Array
Loading required namespace: HDF5Array
Loading required namespace: HDF5Array
Attaching package: 'genefilter'
The following object is masked from 'package:DelayedArray':
rowVars
The following objects are masked from 'package:SparseArray':
rowSds, rowVars
The following objects are masked from 'package:MatrixGenerics':
rowSds, rowVars
The following objects are masked from 'package:matrixStats':
rowSds, rowVars
Error in seed(x) :
seed() is not supported on a DelayedArray object with multiple seeds at the
moment. Note that you can check the number of seeds with nseed(). You can use
'seedApply(x, identity)' to extract all the seeds as a list.
In addition: Warning messages:
1: In log(a + 0.2) : NaNs produced
2: In OP(a) : NaNs produced
Error : unable to find an inherited method for function 'is_noop' for signature 'x = "DelayedNaryIsoOp"'
Error in seed(x) :
seed() is not supported on a DelayedArray object with multiple seeds at the
moment. Note that you can check the number of seeds with nseed(). You can use
'seedApply(x, identity)' to extract all the seeds as a list.
Error : unable to find an inherited method for function 'is_noop' for signature 'x = "DelayedNaryIsoOp"'
Error in seed(x) :
seed() is not supported on a DelayedArray object with multiple seeds at the
moment. Note that you can check the number of seeds with nseed(). You can use
'seedApply(x, identity)' to extract all the seeds as a list.
Error : unable to find an inherited method for function 'is_noop' for signature 'x = "DelayedNaryIsoOp"'
Error in seed(x) :
seed() is not supported on a DelayedArray object with multiple seeds at the
moment. Note that you can check the number of seeds with nseed(). You can use
'seedApply(x, identity)' to extract all the seeds as a list.
Error : unable to find an inherited method for function 'is_noop' for signature 'x = "DelayedNaryIsoOp"'
Error in seed(x) :
seed() is not supported on a DelayedArray object with multiple seeds at the
moment. Note that you can check the number of seeds with nseed(). You can use
'seedApply(x, identity)' to extract all the seeds as a list.
Error : unable to find an inherited method for function 'is_noop' for signature 'x = "DelayedNaryIsoOp"'
Error in match.fun(OP) : 'NULL' is not a function, character or symbol
Error in match.fun(OP) :
'list(NULL)' is not a function, character or symbol
Error in get(as.character(FUN), mode = "function", envir = envir) :
object 'not-an-existing-function' of mode 'function' was not found
Error in new_DelayedNaryIsoOp("<=", array(dim = 4:2), array(dim = 2:4)) :
non-conformable array-like objects
Error in S4Arrays:::normarg_dimnames(dimnames, seed_dim) :
the supplied 'dimnames' must be NULL or a list
Error in S4Arrays:::normarg_dimnames(dimnames, seed_dim) :
the supplied 'dimnames' must have one list element per dimension
Error in FUN(X[[i]], ...) :
each list element in the supplied 'dimnames' must be NULL or a character
vector
Error in FUN(X[[i]], ...) :
length of 'dimnames[[1]]' (26) must equal the array extent (5)
Error in S4Arrays:::normalize_Nindex(Nindex, seed) :
'Nindex' must be a list with one list element per dimension in 'x'
Error in S4Arrays:::normalize_Nindex(Nindex, seed) :
'Nindex' must be a list with one list element per dimension in 'x'
Error : subscript contains out-of-bounds indices
Error : subscript contains invalid names
Error : subscript contains out-of-bounds ranges
Error : subscript contains out-of-bounds ranges
Error in new_DelayedUnaryIsoOpStack(.TEST_SVT3, NULL) :
'OPS' must be a list
Error in FUN(X[[i]], ...) :
'OPS[[1L]]' is not a function, character or symbol
Error in get(as.character(FUN), mode = "function", envir = envir) :
object 'not-an-existing-function' of mode 'function' was not found
RUNIT TEST PROTOCOL -- Sat Aug 9 16:29:54 2025
***********************************************
Number of test functions: 43
Number of errors: 0
Number of failures: 0
1 Test Suite :
DelayedArray RUnit Tests - 43 test functions, 0 errors, 0 failures
Number of test functions: 43
Number of errors: 0
Number of failures: 0
>
>
> proc.time()
user system elapsed
516.54 55.12 917.61
##############################################################################
##############################################################################
###
### Running command:
###
### E:\biocbuild\bbs-3.21-bioc\R\bin\R.exe CMD check --no-multiarch --test-dir=longtests --no-stop-on-test-error --no-codoc --no-examples --no-manual --ignore-vignettes --check-subdirs=no HDF5Array_1.36.0.tar.gz
###
##############################################################################
##############################################################################
* using log directory 'E:/biocbuild/bbs-3.21-bioc-longtests/meat/HDF5Array.Rcheck'
* using R version 4.5.1 (2025-06-13 ucrt)
* using platform: x86_64-w64-mingw32
* R was compiled by
gcc.exe (GCC) 14.2.0
GNU Fortran (GCC) 14.2.0
* running under: Windows Server 2022 x64 (build 20348)
* using session charset: UTF-8
* using options '--no-codoc --no-examples --no-manual --ignore-vignettes --no-stop-on-test-error'
* checking for file 'HDF5Array/DESCRIPTION' ... OK
* this is package 'HDF5Array' version '1.36.0'
* package encoding: UTF-8
* checking package namespace information ... OK
* checking package dependencies ... OK
* checking if this is a source package ... OK
* checking if there is a namespace ... OK
* checking for hidden files and directories ... NOTE
Found the following hidden files and directories:
.BBSoptions
These were most likely included in error. See section 'Package
structure' in the 'Writing R Extensions' manual.
* checking for portable file names ... OK
* checking whether package 'HDF5Array' can be installed ... OK
* checking installed package size ... INFO
installed size is 9.0Mb
sub-directories of 1Mb or more:
extdata 7.7Mb
* checking package directory ... OK
* checking DESCRIPTION meta-information ... OK
* checking top-level files ... OK
* checking for left-over files ... OK
* checking index information ... OK
* checking package subdirectories ... OK
* checking code files for non-ASCII characters ... OK
* checking R files for syntax errors ... OK
* checking whether the package can be loaded ... OK
* checking whether the package can be loaded with stated dependencies ... OK
* checking whether the package can be unloaded cleanly ... OK
* checking whether the namespace can be loaded with stated dependencies ... OK
* checking whether the namespace can be unloaded cleanly ... OK
* checking whether startup messages can be suppressed ... OK
* checking dependencies in R code ... OK
* checking S3 generic/method consistency ... OK
* checking replacement functions ... OK
* checking foreign function calls ... OK
* checking R code for possible problems ... OK
* checking Rd files ... OK
* checking Rd metadata ... OK
* checking Rd cross-references ... NOTE
Found the following Rd file(s) with Rd \link{} targets missing package
anchors:
H5SparseMatrix-class.Rd: h5ls
H5SparseMatrixSeed-class.Rd: h5ls
HDF5Array-class.Rd: H5File, h5ls
HDF5ArraySeed-class.Rd: h5ls
ReshapedHDF5Array-class.Rd: h5ls
ReshapedHDF5ArraySeed-class.Rd: h5ls
TENxMatrix-class.Rd: h5ls
TENxMatrixSeed-class.Rd: h5ls
dump-management.Rd: h5createDataset, h5ls
writeHDF5Array.Rd: DelayedArray, h5writeDimnames, h5ls
writeTENxMatrix.Rd: DelayedMatrix, h5ls
Please provide package anchors for all Rd \link{} targets not in the
package itself and the base packages.
* checking for missing documentation entries ... OK
* checking for code/documentation mismatches ... SKIPPED
* checking Rd \usage sections ... OK
* checking Rd contents ... OK
* checking for unstated dependencies in examples ... OK
* checking files in 'vignettes' ... SKIPPED
* checking examples ... SKIPPED
* checking for unstated dependencies in 'longtests' ... OK
* checking tests in 'longtests' ...
Running 'run_longtests.R'
OK
* DONE
Status: 2 NOTEs
See
'E:/biocbuild/bbs-3.21-bioc-longtests/meat/HDF5Array.Rcheck/00check.log'
for details.
HDF5Array.Rcheck/00install.out
* installing *source* package 'HDF5Array' ... ** this is package 'HDF5Array' version '1.36.0' ** using staged installation ** R ** inst ** byte-compile and prepare package for lazy loading ** help *** installing help indices ** building package indices ** installing vignettes ** testing if installed package can be loaded from temporary location ** testing if installed package can be loaded from final location ** testing if installed package keeps a record of temporary installation path * DONE (HDF5Array)