This page was generated on 2025-10-16 07:45 -0400 (Thu, 16 Oct 2025).
| |
| See this page for all the Bioconductor builds and their schedule. |
| Hostname | OS | Arch (*) | R version | Installed pkgs |
|---|---|---|---|---|
| biocgpu | Linux (Ubuntu 24.04.2 LTS) | x86_64 | 4.5.1 (2025-06-13) -- "Great Square Root" | 196 |
| kakapo1 | Linux (Ubuntu 24.04.3 LTS) | x86_64 | 4.5.1 (2025-06-13) -- "Great Square Root" | 192 |
| Click on any hostname to see more info about the system (e.g. compilers) (*) as reported by 'uname -p', except on Windows and Mac OS X | ||||
A | |||||||||
| QUICK STATS | OS / Arch | INSTALL | BUILD | CHECK | ||||||||||||||
| biocgpu | Linux (Ubuntu 24.04.2 LTS) / x86_64 |
|
|
| ||||||||||||||
| kakapo1 | Linux (Ubuntu 24.04.3 LTS) / x86_64 |
|
|
| ||||||||||||||
| Package 1/1 | Hostname | OS / Arch | INSTALL | BUILD | CHECK | |||||||||||||
| RbowtieCuda 1.0.10 (landing page) Franck RICHARD
| biocgpu | Linux (Ubuntu 24.04.2 LTS) / x86_64 | OK | OK | OK | |||||||||||||
| kakapo1 | Linux (Ubuntu 24.04.3 LTS) / x86_64 | OK | OK | OK | ||||||||||||||