| Back to Multiple platform build/check report for BioC 3.21: simplified long |
|
This page was generated on 2025-10-16 11:39 -0400 (Thu, 16 Oct 2025).
| Hostname | OS | Arch (*) | R version | Installed pkgs |
|---|---|---|---|---|
| nebbiolo1 | Linux (Ubuntu 24.04.3 LTS) | x86_64 | 4.5.1 (2025-06-13) -- "Great Square Root" | 4833 |
| merida1 | macOS 12.7.6 Monterey | x86_64 | 4.5.1 RC (2025-06-05 r88288) -- "Great Square Root" | 4614 |
| kjohnson1 | macOS 13.7.5 Ventura | arm64 | 4.5.1 Patched (2025-06-14 r88325) -- "Great Square Root" | 4555 |
| kunpeng2 | Linux (openEuler 24.03 LTS) | aarch64 | R Under development (unstable) (2025-02-19 r87757) -- "Unsuffered Consequences" | 4586 |
| Click on any hostname to see more info about the system (e.g. compilers) (*) as reported by 'uname -p', except on Windows and Mac OS X | ||||
| Package 2237/2341 | Hostname | OS / Arch | INSTALL | BUILD | CHECK | BUILD BIN | ||||||||
| treekoR 1.16.0 (landing page) Adam Chan
| nebbiolo1 | Linux (Ubuntu 24.04.3 LTS) / x86_64 | OK | OK | ERROR | |||||||||
| merida1 | macOS 12.7.6 Monterey / x86_64 | OK | OK | ERROR | OK | |||||||||
| kjohnson1 | macOS 13.7.5 Ventura / arm64 | OK | OK | ERROR | OK | |||||||||
| kunpeng2 | Linux (openEuler 24.03 LTS) / aarch64 | OK | OK | NA | ||||||||||
|
To the developers/maintainers of the treekoR package: - Allow up to 24 hours (and sometimes 48 hours) for your latest push to git@git.bioconductor.org:packages/treekoR.git to reflect on this report. See Troubleshooting Build Report for more information. - Use the following Renviron settings to reproduce errors and warnings. - If 'R CMD check' started to fail recently on the Linux builder(s) over a missing dependency, add the missing dependency to 'Suggests:' in your DESCRIPTION file. See Renviron.bioc for more information. |
| Package: treekoR |
| Version: 1.16.0 |
| Command: /Library/Frameworks/R.framework/Resources/bin/R CMD check --install=check:treekoR.install-out.txt --library=/Library/Frameworks/R.framework/Resources/library --no-vignettes --timings treekoR_1.16.0.tar.gz |
| StartedAt: 2025-10-14 11:52:11 -0400 (Tue, 14 Oct 2025) |
| EndedAt: 2025-10-14 12:02:55 -0400 (Tue, 14 Oct 2025) |
| EllapsedTime: 644.6 seconds |
| RetCode: 1 |
| Status: ERROR |
| CheckDir: treekoR.Rcheck |
| Warnings: NA |
##############################################################################
##############################################################################
###
### Running command:
###
### /Library/Frameworks/R.framework/Resources/bin/R CMD check --install=check:treekoR.install-out.txt --library=/Library/Frameworks/R.framework/Resources/library --no-vignettes --timings treekoR_1.16.0.tar.gz
###
##############################################################################
##############################################################################
* using log directory ‘/Users/biocbuild/bbs-3.21-bioc/meat/treekoR.Rcheck’
* using R version 4.5.1 RC (2025-06-05 r88288)
* using platform: x86_64-apple-darwin20
* R was compiled by
Apple clang version 14.0.0 (clang-1400.0.29.202)
GNU Fortran (GCC) 14.2.0
* running under: macOS Monterey 12.7.6
* using session charset: UTF-8
* using option ‘--no-vignettes’
* checking for file ‘treekoR/DESCRIPTION’ ... OK
* checking extension type ... Package
* this is package ‘treekoR’ version ‘1.16.0’
* package encoding: UTF-8
* checking package namespace information ... OK
* checking package dependencies ... OK
* checking if this is a source package ... OK
* checking if there is a namespace ... OK
* checking for hidden files and directories ... OK
* checking for portable file names ... OK
* checking for sufficient/correct file permissions ... OK
* checking whether package ‘treekoR’ can be installed ... OK
* checking installed package size ... OK
* checking package directory ... OK
* checking ‘build’ directory ... OK
* checking DESCRIPTION meta-information ... OK
* checking top-level files ... OK
* checking for left-over files ... OK
* checking index information ... OK
* checking package subdirectories ... OK
* checking code files for non-ASCII characters ... OK
* checking R files for syntax errors ... OK
* checking whether the package can be loaded ... OK
* checking whether the package can be loaded with stated dependencies ... OK
* checking whether the package can be unloaded cleanly ... OK
* checking whether the namespace can be loaded with stated dependencies ... OK
* checking whether the namespace can be unloaded cleanly ... OK
* checking dependencies in R code ... OK
* checking S3 generic/method consistency ... OK
* checking replacement functions ... OK
* checking foreign function calls ... OK
* checking R code for possible problems ... NOTE
addFreqBars: no visible binding for global variable ‘freq’
addFreqBars: no visible binding for global variable ‘xmax’
addFreqBars: no visible binding for global variable ‘y’
addFreqBars: no visible binding for global variable ‘xmin’
addFreqBars: no visible binding for global variable ‘ymin’
addFreqBars: no visible binding for global variable ‘ymax’
addFreqBars: no visible binding for global variable ‘x_label’
addFreqBars: no visible binding for global variable ‘freq_label’
addHeatMap: no visible binding for global variable ‘variable’
addHeatMap: no visible binding for global variable ‘value’
addHeatMap: no visible binding for global variable ‘y’
addHeatMap: no visible binding for global variable ‘label’
addHeatMap: no visible binding for global variable ‘.’
addHeatMap: no visible binding for global variable ‘x’
colourTree: no visible binding for global variable ‘stat_parent’
colourTree: no visible binding for global variable ‘x’
colourTree: no visible binding for global variable ‘y’
colourTree: no visible binding for global variable ‘stat_total’
colourTree: no visible binding for global variable ‘label’
getCellGMeans: no visible binding for global variable ‘cluster_id’
getCellGMeans: no visible binding for global variable ‘sample_id’
getCellProp: no visible binding for global variable ‘cluster_id’
getCellProp: no visible binding for global variable ‘sample_id’
getCellProp: no visible binding for global variable ‘.’
getClusterTree: no visible binding for global variable ‘cluster_id’
plotInteractiveHeatmap: no visible binding for global variable ‘label’
plotInteractiveHeatmap: no visible binding for global variable ‘node’
plotSigScatter: no visible binding for global variable ‘stat_total’
plotSigScatter: no visible binding for global variable ‘stat_parent’
plotSigScatter: no visible binding for global variable ‘isTip’
plotSigScatter: no visible binding for global variable ‘label’
runEdgeRTests: no visible binding for global variable ‘PValue’
runEdgeRTests: no visible binding for global variable ‘logFC’
runEdgeRTests: no visible binding for global variable ‘node’
runEdgeRTests: no visible binding for global variable ‘stat_parent’
runEdgeRTests: no visible binding for global variable ‘pval_parent’
runEdgeRTests: no visible binding for global variable ‘FDR_parent’
runEdgeRTests: no visible binding for global variable ‘PValue_total’
runEdgeRTests: no visible binding for global variable ‘logFC_total’
runEdgeRTests: no visible binding for global variable ‘stat_total’
runEdgeRTests: no visible binding for global variable ‘pval_total’
runEdgeRTests: no visible binding for global variable ‘FDR_total’
runGLMMTests: no visible binding for global variable ‘isTip’
runGLMMTests: no visible binding for global variable ‘node’
Undefined global functions or variables:
. FDR_parent FDR_total PValue PValue_total cluster_id freq freq_label
isTip label logFC logFC_total node pval_parent pval_total sample_id
stat_parent stat_total value variable x x_label xmax xmin y ymax ymin
* checking Rd files ... OK
* checking Rd metadata ... OK
* checking Rd cross-references ... OK
* checking for missing documentation entries ... OK
* checking for code/documentation mismatches ... OK
* checking Rd \usage sections ... OK
* checking Rd contents ... OK
* checking for unstated dependencies in examples ... OK
* checking contents of ‘data’ directory ... OK
* checking data for non-ASCII characters ... OK
* checking data for ASCII and uncompressed saves ... OK
* checking files in ‘vignettes’ ... OK
* checking examples ... OK
Examples with CPU (user + system) or elapsed time > 5s
user system elapsed
plotInteractiveHeatmap 9.121 0.471 9.827
colourTree 7.365 0.215 7.607
getCellGMeans 6.551 0.102 6.666
testTree 6.008 0.052 6.086
getTreeResults 5.021 0.051 5.088
* checking for unstated dependencies in ‘tests’ ... OK
* checking tests ...
Running ‘testthat.R’
ERROR
Running the tests in ‘tests/testthat.R’ failed.
Complete output:
> library(testthat)
> library(treekoR)
>
> test_check("treekoR")
[ FAIL 1 | WARN 19 | SKIP 0 | PASS 39 ]
══ Failed tests ════════════════════════════════════════════════════════════════
── Failure ('test_testTree.R:198:5'): Case testTree_3: Correct and erroneous positive class name ──
`testTree(...)` produced warnings.
[ FAIL 1 | WARN 19 | SKIP 0 | PASS 39 ]
Error: Test failures
Execution halted
* checking for unstated dependencies in vignettes ... OK
* checking package vignettes ... OK
* checking running R code from vignettes ... SKIPPED
* checking re-building of vignette outputs ... SKIPPED
* checking PDF version of manual ... OK
* DONE
Status: 1 ERROR, 1 NOTE
See
‘/Users/biocbuild/bbs-3.21-bioc/meat/treekoR.Rcheck/00check.log’
for details.
treekoR.Rcheck/00install.out
############################################################################## ############################################################################## ### ### Running command: ### ### /Library/Frameworks/R.framework/Resources/bin/R CMD INSTALL treekoR ### ############################################################################## ############################################################################## * installing to library ‘/Library/Frameworks/R.framework/Versions/4.5-x86_64/Resources/library’ * installing *source* package ‘treekoR’ ... ** this is package ‘treekoR’ version ‘1.16.0’ ** using staged installation ** R ** data ** inst ** byte-compile and prepare package for lazy loading ** help *** installing help indices ** building package indices ** installing vignettes ** testing if installed package can be loaded from temporary location ** testing if installed package can be loaded from final location ** testing if installed package keeps a record of temporary installation path * DONE (treekoR)
treekoR.Rcheck/tests/testthat.Rout.fail
R version 4.5.1 RC (2025-06-05 r88288) -- "Great Square Root"
Copyright (C) 2025 The R Foundation for Statistical Computing
Platform: x86_64-apple-darwin20
R is free software and comes with ABSOLUTELY NO WARRANTY.
You are welcome to redistribute it under certain conditions.
Type 'license()' or 'licence()' for distribution details.
R is a collaborative project with many contributors.
Type 'contributors()' for more information and
'citation()' on how to cite R or R packages in publications.
Type 'demo()' for some demos, 'help()' for on-line help, or
'help.start()' for an HTML browser interface to help.
Type 'q()' to quit R.
> library(testthat)
> library(treekoR)
>
> test_check("treekoR")
[ FAIL 1 | WARN 19 | SKIP 0 | PASS 39 ]
══ Failed tests ════════════════════════════════════════════════════════════════
── Failure ('test_testTree.R:198:5'): Case testTree_3: Correct and erroneous positive class name ──
`testTree(...)` produced warnings.
[ FAIL 1 | WARN 19 | SKIP 0 | PASS 39 ]
Error: Test failures
Execution halted
treekoR.Rcheck/treekoR-Ex.timings
| name | user | system | elapsed | |
| DeBiasi_COVID_CD8_samp | 2.724 | 0.156 | 2.886 | |
| colourTree | 7.365 | 0.215 | 7.607 | |
| getCellGMeans | 6.551 | 0.102 | 6.666 | |
| getCellProp | 3.356 | 0.044 | 3.414 | |
| getClusterTree | 2.062 | 0.040 | 2.127 | |
| getTreeResults | 5.021 | 0.051 | 5.088 | |
| hopachToPhylo | 2.076 | 0.035 | 2.116 | |
| plotInteractiveHeatmap | 9.121 | 0.471 | 9.827 | |
| runHOPACH | 2.025 | 0.033 | 2.061 | |
| testTree | 6.008 | 0.052 | 6.086 | |