| Back to Multiple platform build/check report for BioC 3.21: simplified long |
|
This page was generated on 2025-08-18 11:42 -0400 (Mon, 18 Aug 2025).
| Hostname | OS | Arch (*) | R version | Installed pkgs |
|---|---|---|---|---|
| nebbiolo1 | Linux (Ubuntu 24.04.3 LTS) | x86_64 | 4.5.1 (2025-06-13) -- "Great Square Root" | 4824 |
| palomino7 | Windows Server 2022 Datacenter | x64 | 4.5.1 (2025-06-13 ucrt) -- "Great Square Root" | 4566 |
| merida1 | macOS 12.7.5 Monterey | x86_64 | 4.5.1 RC (2025-06-05 r88288) -- "Great Square Root" | 4604 |
| kjohnson1 | macOS 13.6.6 Ventura | arm64 | 4.5.1 Patched (2025-06-14 r88325) -- "Great Square Root" | 4545 |
| kunpeng2 | Linux (openEuler 24.03 LTS) | aarch64 | R Under development (unstable) (2025-02-19 r87757) -- "Unsuffered Consequences" | 4579 |
| Click on any hostname to see more info about the system (e.g. compilers) (*) as reported by 'uname -p', except on Windows and Mac OS X | ||||
| Package 2185/2341 | Hostname | OS / Arch | INSTALL | BUILD | CHECK | BUILD BIN | ||||||||
| tidybulk 1.20.0 (landing page) Stefano Mangiola
| nebbiolo1 | Linux (Ubuntu 24.04.3 LTS) / x86_64 | OK | OK | OK | |||||||||
| palomino7 | Windows Server 2022 Datacenter / x64 | OK | OK | OK | OK | |||||||||
| merida1 | macOS 12.7.5 Monterey / x86_64 | OK | OK | OK | OK | |||||||||
| kjohnson1 | macOS 13.6.6 Ventura / arm64 | OK | OK | OK | OK | |||||||||
| kunpeng2 | Linux (openEuler 24.03 LTS) / aarch64 | OK | OK | NA | ||||||||||
|
To the developers/maintainers of the tidybulk package: - Allow up to 24 hours (and sometimes 48 hours) for your latest push to git@git.bioconductor.org:packages/tidybulk.git to reflect on this report. See Troubleshooting Build Report for more information. - Use the following Renviron settings to reproduce errors and warnings. - If 'R CMD check' started to fail recently on the Linux builder(s) over a missing dependency, add the missing dependency to 'Suggests:' in your DESCRIPTION file. See Renviron.bioc for more information. |
| Package: tidybulk |
| Version: 1.20.0 |
| Command: E:\biocbuild\bbs-3.21-bioc\R\bin\R.exe CMD check --no-multiarch --install=check:tidybulk.install-out.txt --library=E:\biocbuild\bbs-3.21-bioc\R\library --no-vignettes --timings tidybulk_1.20.0.tar.gz |
| StartedAt: 2025-08-15 07:48:58 -0400 (Fri, 15 Aug 2025) |
| EndedAt: 2025-08-15 08:01:15 -0400 (Fri, 15 Aug 2025) |
| EllapsedTime: 736.7 seconds |
| RetCode: 0 |
| Status: OK |
| CheckDir: tidybulk.Rcheck |
| Warnings: 0 |
##############################################################################
##############################################################################
###
### Running command:
###
### E:\biocbuild\bbs-3.21-bioc\R\bin\R.exe CMD check --no-multiarch --install=check:tidybulk.install-out.txt --library=E:\biocbuild\bbs-3.21-bioc\R\library --no-vignettes --timings tidybulk_1.20.0.tar.gz
###
##############################################################################
##############################################################################
* using log directory 'E:/biocbuild/bbs-3.21-bioc/meat/tidybulk.Rcheck'
* using R version 4.5.1 (2025-06-13 ucrt)
* using platform: x86_64-w64-mingw32
* R was compiled by
gcc.exe (GCC) 14.2.0
GNU Fortran (GCC) 14.2.0
* running under: Windows Server 2022 x64 (build 20348)
* using session charset: UTF-8
* using option '--no-vignettes'
* checking for file 'tidybulk/DESCRIPTION' ... OK
* checking extension type ... Package
* this is package 'tidybulk' version '1.20.0'
* package encoding: UTF-8
* checking package namespace information ... OK
* checking package dependencies ... OK
* checking if this is a source package ... OK
* checking if there is a namespace ... OK
* checking for hidden files and directories ... OK
* checking for portable file names ... OK
* checking whether package 'tidybulk' can be installed ... OK
* checking installed package size ... OK
* checking package directory ... OK
* checking 'build' directory ... OK
* checking DESCRIPTION meta-information ... OK
* checking top-level files ... OK
* checking for left-over files ... OK
* checking index information ... OK
* checking package subdirectories ... OK
* checking code files for non-ASCII characters ... OK
* checking R files for syntax errors ... OK
* checking whether the package can be loaded ... OK
* checking whether the package can be loaded with stated dependencies ... OK
* checking whether the package can be unloaded cleanly ... OK
* checking whether the namespace can be loaded with stated dependencies ... OK
* checking whether the namespace can be unloaded cleanly ... OK
* checking whether startup messages can be suppressed ... OK
* checking dependencies in R code ... OK
* checking S3 generic/method consistency ... OK
* checking replacement functions ... OK
* checking foreign function calls ... OK
* checking R code for possible problems ... NOTE
.adjust_abundance_se: no visible binding for global variable 'x'
.aggregate_duplicates_se: no visible binding for global variable
'group_name'
.aggregate_duplicates_se: no visible binding for global variable
'group'
.deconvolve_cellularity_se: no visible binding for global variable
'X_cibersort'
.describe_transcript_SE: no visible binding for global variable
'transcript'
.describe_transcript_SE: no visible binding for global variable
'description'
.identify_abundant: no visible binding for global variable '.abundant'
.keep_abundant: no visible binding for global variable '.abundant'
.pivot_sample: no visible binding for global variable '.'
.quantile_normalise_abundance: no visible binding for global variable
'x'
.quantile_normalise_abundance_se: no visible binding for global
variable 'x'
.resolve_complete_confounders_of_non_interest: no visible global
function definition for 'DataFrame'
.resolve_complete_confounders_of_non_interest_df: no visible global
function definition for 'combn'
.resolve_complete_confounders_of_non_interest_df: no visible global
function definition for 'ends_with'
.resolve_complete_confounders_of_non_interest_df: no visible binding
for global variable 'value'
.resolve_complete_confounders_of_non_interest_df: no visible binding
for global variable 'name'
.scale_abundance: no visible binding for global variable 'x'
.scale_abundance: no visible binding for global variable 'multiplier'
.scale_abundance_se: no visible binding for global variable 'x'
.test_differential_abundance_se: no visible binding for global variable
'.contrasts'
.test_differential_abundance_se: no visible binding for global variable
'action'
.test_differential_cellularity: no visible binding for global variable
'X_cibersort'
.test_differential_cellularity_se: no visible binding for global
variable 'X_cibersort'
.test_differential_cellularity_se: no visible binding for global
variable 'cell_type'
.test_differential_cellularity_se: no visible binding for global
variable 'prop'
.test_differential_cellularity_se: no visible binding for global
variable '.cell_type'
.test_gene_enrichment_SE: no visible global function definition for
'buildCustomIdx'
.test_gene_enrichment_SE: no visible global function definition for
'buildIdx'
.test_gene_enrichment_SE: no visible global function definition for
'egsea'
.test_gene_enrichment_SE: no visible binding for global variable
'pathway'
.test_gene_enrichment_SE: no visible binding for global variable
'data_base'
.test_gene_enrichment_SE: no visible binding for global variable
'web_page'
.test_gene_overrepresentation: no visible binding for global variable
'my_do_test'
.test_gene_overrepresentation_SE: no visible binding for global
variable 'my_do_test'
.test_gene_rank: no visible global function definition for
'with_groups'
.test_gene_rank: no visible global function definition for 'desc'
.test_gene_rank_SE: no visible global function definition for 'desc'
.test_stratification_cellularity: no visible binding for global
variable 'X_cibersort'
.test_stratification_cellularity_SE: no visible binding for global
variable 'X_cibersort'
.test_stratification_cellularity_SE: no visible binding for global
variable '.cell_type'
add_scaled_counts_bulk.calcNormFactor: no visible binding for global
variable 'transcript'
aggregate_duplicated_transcripts_DT: no visible binding for global
variable '.abundance_scaled'
aggregate_duplicated_transcripts_bulk: no visible binding for global
variable '.abundance_scaled'
aggregate_duplicated_transcripts_bulk: no visible binding for global
variable 'n_aggr'
aggregate_duplicated_transcripts_bulk: no visible global function
definition for 'where'
as_matrix: no visible binding for global variable 'variable'
call_core: no visible binding for global variable 'nulldist'
change_reserved_column_names: no visible binding for global variable
'.'
check_if_duplicated_genes: no visible binding for global variable
'transcript'
check_if_duplicated_genes: no visible binding for global variable 'read
count'
counts_scaled_exist_SE: no visible binding for global variable
'tt_columns'
counts_scaled_exist_SE: no visible binding for global variable '.'
create_tt_from_bam_sam_bulk: no visible binding for global variable '.'
create_tt_from_bam_sam_bulk: no visible binding for global variable
'temp'
create_tt_from_bam_sam_bulk: no visible binding for global variable
'Status'
create_tt_from_bam_sam_bulk: no visible binding for global variable
'counts'
create_tt_from_bam_sam_bulk: no visible binding for global variable
'GeneID'
create_tt_from_bam_sam_bulk: no visible binding for global variable
'genes'
create_tt_from_bam_sam_bulk: no visible binding for global variable
'samples'
create_tt_from_bam_sam_bulk: no visible binding for global variable
'transcript'
eliminate_sparse_transcripts: no visible global function definition for
'add_count'
eliminate_sparse_transcripts: no visible binding for global variable
'my_n'
entrez_over_to_gsea: no visible global function definition for
'packageVersion'
entrez_over_to_gsea: no visible binding for global variable
'gs_collection'
entrez_over_to_gsea: no visible binding for global variable 'test'
entrez_over_to_gsea: no visible binding for global variable 'geneID'
entrez_rank_to_gsea: no visible binding for global variable
'gs_collection'
entrez_rank_to_gsea: no visible binding for global variable '.'
entrez_rank_to_gsea: no visible binding for global variable 'ncbi_gene'
entrez_rank_to_gsea: no visible binding for global variable 'fit'
error_if_duplicated_genes: no visible binding for global variable
'transcript'
error_if_duplicated_genes: no visible binding for global variable 'read
count'
error_if_duplicated_genes: no visible global function definition for
'desc'
error_if_log_transformed: no visible binding for global variable 'm'
fill_NA_matrix_with_factor_colwise: no visible binding for global
variable '.'
fill_NA_using_formula: no visible binding for global variable 'NUL'
fill_NA_using_formula: no visible binding for global variable 'ct_data'
fill_NA_using_formula: no visible binding for global variable
'library_size__'
fill_NA_using_formula: no visible binding for global variable
'cov_data'
filter_genes_on_condition: no visible binding for global variable
'.feature'
get_abundance_norm_if_exists: no visible binding for global variable
'.abundance_scaled'
get_adjusted_counts_for_unwanted_variation_bulk: no visible binding for
global variable '.'
get_adjusted_counts_for_unwanted_variation_bulk: no visible global
function definition for 'all_of'
get_assay_scaled_if_exists_SE: no visible binding for global variable
'tt_columns'
get_assay_scaled_if_exists_SE: no visible binding for global variable
'.abundance_scaled'
get_cell_type_proportions: no visible binding for global variable '.'
get_clusters_SNN_bulk: no visible binding for global variable
'seurat_clusters'
get_clusters_SNN_bulk_SE: no visible binding for global variable '.'
get_clusters_SNN_bulk_SE: no visible binding for global variable
'seurat_clusters'
get_clusters_kmeans_bulk: no visible binding for global variable '.'
get_clusters_kmeans_bulk: no visible binding for global variable
'cluster'
get_clusters_kmeans_bulk: no visible binding for global variable
'cluster kmeans'
get_clusters_kmeans_bulk_SE: no visible binding for global variable '.'
get_clusters_kmeans_bulk_SE: no visible binding for global variable
'cluster'
get_differential_transcript_abundance_bulk: no visible binding for
global variable '.'
get_differential_transcript_abundance_bulk_SE: no visible binding for
global variable '.'
get_differential_transcript_abundance_bulk_voom: no visible binding for
global variable '.'
get_differential_transcript_abundance_bulk_voom_SE: no visible binding
for global variable '.'
get_differential_transcript_abundance_deseq2: no visible binding for
global variable 'counts'
get_differential_transcript_abundance_deseq2: no visible binding for
global variable '.'
get_differential_transcript_abundance_deseq2_SE: no visible binding for
global variable '.'
get_differential_transcript_abundance_glmmSeq: no visible binding for
global variable 'tagwise.dispersion'
get_differential_transcript_abundance_glmmSeq: no visible binding for
global variable '.'
get_differential_transcript_abundance_glmmSeq_SE: no visible binding
for global variable 'tagwise.dispersion'
get_differential_transcript_abundance_glmmSeq_SE: no visible binding
for global variable '.'
get_reduced_dimensions_MDS_bulk: no visible binding for global variable
'Component'
get_reduced_dimensions_MDS_bulk: no visible binding for global variable
'Component value'
get_reduced_dimensions_MDS_bulk_SE: no visible binding for global
variable 'Component'
get_reduced_dimensions_MDS_bulk_SE: no visible binding for global
variable 'Component value'
get_reduced_dimensions_PCA_bulk: no visible binding for global variable
'sdev'
get_reduced_dimensions_PCA_bulk: no visible binding for global variable
'name'
get_reduced_dimensions_PCA_bulk: no visible binding for global variable
'value'
get_reduced_dimensions_PCA_bulk: no visible binding for global variable
'x'
get_reduced_dimensions_PCA_bulk_SE: no visible binding for global
variable 'sdev'
get_reduced_dimensions_PCA_bulk_SE: no visible binding for global
variable 'name'
get_reduced_dimensions_PCA_bulk_SE: no visible binding for global
variable 'value'
get_reduced_dimensions_PCA_bulk_SE: no visible binding for global
variable 'x'
get_reduced_dimensions_TSNE_bulk: no visible binding for global
variable 'Y'
get_reduced_dimensions_TSNE_bulk_SE: no visible binding for global
variable 'Y'
get_reduced_dimensions_UMAP_bulk_SE: no visible binding for global
variable 'x'
get_rotated_dimensions: no visible binding for global variable 'value'
get_rotated_dimensions: no visible binding for global variable 'rotated
dimensions'
get_scaled_counts_bulk: no visible binding for global variable 'med'
get_scaled_counts_bulk: no visible binding for global variable
'tot_filt'
get_scaled_counts_bulk: no visible binding for global variable 'nf'
get_scaled_counts_bulk: no visible binding for global variable '.'
get_scaled_counts_bulk: no visible binding for global variable 'tot'
get_symbol_from_ensembl: no visible binding for global variable
'ensembl_id'
get_symbol_from_ensembl: no visible binding for global variable
'transcript'
get_symbol_from_ensembl: no visible binding for global variable
'ref_genome'
get_tt_columns: no visible binding for global variable 'tt_columns'
glmerCore: no visible global function definition for 'coef'
glmerCore: no visible global function definition for 'vcov'
glmerCore: no visible global function definition for 'AIC'
glmerCore: no visible global function definition for 'logLik'
glmerCore: no visible global function definition for 'anova'
glmerCore: no visible global function definition for 'predict'
glmmSeq: no visible global function definition for 'update.formula'
glmmTMB_to_confidence_intervals_random_effects: no visible binding for
global variable 'group_id'
glmmTMB_to_confidence_intervals_random_effects: no visible binding for
global variable 'parameter'
glmmTMB_to_confidence_intervals_random_effects: no visible binding for
global variable 'CI'
glmmTMB_to_confidence_intervals_random_effects: no visible binding for
global variable 'lower'
glmmTMB_to_confidence_intervals_random_effects: no visible binding for
global variable 'upper'
glmmTMBcore: no visible global function definition for 'coef'
glmmTMBcore: no visible global function definition for 'vcov'
glmmTMBcore: no visible global function definition for 'AIC'
glmmTMBcore: no visible global function definition for 'logLik'
glmmTMBcore: no visible global function definition for 'anova'
glmmTMBcore: no visible global function definition for 'predict'
initialise_tt_internals: no visible binding for global variable '.'
lmer_to_confidence_intervals_random_effects: no visible binding for
global variable 'group_id'
lmer_to_confidence_intervals_random_effects: no visible binding for
global variable 'parameter'
lmer_to_confidence_intervals_random_effects: no visible binding for
global variable 'CI'
lmer_to_confidence_intervals_random_effects: no visible binding for
global variable 'lower'
lmer_to_confidence_intervals_random_effects: no visible binding for
global variable 'upper'
memorise_methods_used: no visible binding for global variable '.'
multivariable_differential_tissue_composition: no visible binding for
global variable '.'
multivariable_differential_tissue_composition: no visible binding for
global variable '.cell_type'
multivariable_differential_tissue_composition: no visible binding for
global variable 'term'
multivariable_differential_tissue_composition_SE: no visible binding
for global variable '.'
multivariable_differential_tissue_composition_SE: no visible binding
for global variable '.cell_type'
multivariable_differential_tissue_composition_SE: no visible binding
for global variable 'term'
remove_redundancy_elements_though_reduced_dimensions: no visible
binding for global variable 'sample b'
remove_redundancy_elements_though_reduced_dimensions: no visible
binding for global variable 'sample a'
remove_redundancy_elements_though_reduced_dimensions: no visible
binding for global variable 'sample 1'
remove_redundancy_elements_though_reduced_dimensions: no visible
binding for global variable 'sample 2'
remove_redundancy_elements_though_reduced_dimensions_SE: no visible
binding for global variable 'sample b'
remove_redundancy_elements_though_reduced_dimensions_SE: no visible
binding for global variable 'sample a'
remove_redundancy_elements_though_reduced_dimensions_SE: no visible
binding for global variable 'sample 1'
remove_redundancy_elements_though_reduced_dimensions_SE: no visible
binding for global variable 'sample 2'
remove_redundancy_elements_through_correlation: no visible binding for
global variable 'rc'
remove_redundancy_elements_through_correlation: no visible binding for
global variable 'transcript'
remove_redundancy_elements_through_correlation: no visible binding for
global variable 'correlation'
remove_redundancy_elements_through_correlation: no visible binding for
global variable 'item1'
remove_redundancy_elements_through_correlation_SE: no visible binding
for global variable 'abundance'
remove_redundancy_elements_through_correlation_SE: no visible binding
for global variable 'transcript'
remove_redundancy_elements_through_correlation_SE: no visible binding
for global variable 'element'
remove_redundancy_elements_through_correlation_SE: no visible binding
for global variable 'feature'
remove_redundancy_elements_through_correlation_SE: no visible binding
for global variable 'rc'
remove_redundancy_elements_through_correlation_SE: no visible binding
for global variable 'correlation'
remove_redundancy_elements_through_correlation_SE: no visible binding
for global variable 'item1'
resolve_complete_confounders_of_non_interest_pair_df: no visible
binding for global variable 'rowid'
resolve_complete_confounders_of_non_interest_pair_df: no visible global
function definition for 'desc'
resolve_complete_confounders_of_non_interest_pair_df: no visible
binding for global variable 'n1'
resolve_complete_confounders_of_non_interest_pair_df: no visible
binding for global variable 'n2'
resolve_complete_confounders_of_non_interest_pair_df: no visible
binding for global variable 'se_data'
rowwise.tidybulk: no visible binding for global variable '.data'
run_epic: no visible global function definition for 'EPIC'
run_llsr: no visible binding for global variable 'X_cibersort'
scale_design: no visible binding for global variable 'value'
scale_design: no visible binding for global variable 'sample_idx'
scale_design: no visible binding for global variable '(Intercept)'
select_closest_pairs: no visible binding for global variable 'sample 1'
select_closest_pairs: no visible binding for global variable 'sample 2'
subset_tibble_output: no visible binding for global variable '.'
symbol_to_entrez: no visible binding for global variable
'transcript_upper'
symbol_to_entrez: no visible binding for global variable 'entrez'
test_differential_cellularity: no visible binding for global variable
'X_cibersort'
test_differential_cellularity_: no visible binding for global variable
'cell_type'
test_differential_cellularity_: no visible binding for global variable
'prop'
test_differential_cellularity_: no visible binding for global variable
'.'
test_differential_cellularity_: no visible binding for global variable
'.cell_type'
test_gene_enrichment_bulk_EGSEA: no visible global function definition
for 'buildCustomIdx'
test_gene_enrichment_bulk_EGSEA: no visible global function definition
for 'buildIdx'
test_gene_enrichment_bulk_EGSEA: no visible binding for global variable
'pathway'
test_gene_enrichment_bulk_EGSEA: no visible binding for global variable
'data_base'
test_gene_enrichment_bulk_EGSEA: no visible binding for global variable
'web_page'
test_gene_enrichment_bulk_EGSEA: no visible global function definition
for 'egsea'
test_stratification_cellularity: no visible binding for global variable
'X_cibersort'
test_stratification_cellularity_: no visible binding for global
variable '.cell_type'
tidybulk_to_SummarizedExperiment: no visible binding for global
variable '.'
univariable_differential_tissue_composition: no visible binding for
global variable '.proportion'
univariable_differential_tissue_composition: no visible binding for
global variable '.cell_type'
univariable_differential_tissue_composition: no visible binding for
global variable 'cell_type_proportions'
univariable_differential_tissue_composition: no visible binding for
global variable 'surv_test'
univariable_differential_tissue_composition_SE: no visible binding for
global variable '.proportion'
univariable_differential_tissue_composition_SE: no visible binding for
global variable '.cell_type'
univariable_differential_tissue_composition_SE: no visible binding for
global variable 'cell_type_proportions'
univariable_differential_tissue_composition_SE: no visible binding for
global variable 'surv_test'
univariable_differential_tissue_stratification: no visible binding for
global variable '.cell_type'
univariable_differential_tissue_stratification: no visible binding for
global variable 'cell_type_proportions'
univariable_differential_tissue_stratification: no visible binding for
global variable 'surv_test'
univariable_differential_tissue_stratification_SE: no visible binding
for global variable '.cell_type'
univariable_differential_tissue_stratification_SE: no visible binding
for global variable 'cell_type_proportions'
univariable_differential_tissue_stratification_SE: no visible binding
for global variable 'surv_test'
adjust_abundance,RangedSummarizedExperiment: no visible binding for
global variable 'x'
adjust_abundance,SummarizedExperiment: no visible binding for global
variable 'x'
aggregate_duplicates,RangedSummarizedExperiment: no visible binding for
global variable 'group_name'
aggregate_duplicates,RangedSummarizedExperiment: no visible binding for
global variable 'group'
aggregate_duplicates,SummarizedExperiment: no visible binding for
global variable 'group_name'
aggregate_duplicates,SummarizedExperiment: no visible binding for
global variable 'group'
describe_transcript,RangedSummarizedExperiment: no visible binding for
global variable 'transcript'
describe_transcript,RangedSummarizedExperiment: no visible binding for
global variable 'description'
describe_transcript,SummarizedExperiment: no visible binding for global
variable 'transcript'
describe_transcript,SummarizedExperiment: no visible binding for global
variable 'description'
identify_abundant,spec_tbl_df: no visible binding for global variable
'.abundant'
identify_abundant,tbl_df: no visible binding for global variable
'.abundant'
identify_abundant,tidybulk: no visible binding for global variable
'.abundant'
keep_abundant,spec_tbl_df: no visible binding for global variable
'.abundant'
keep_abundant,tbl_df: no visible binding for global variable
'.abundant'
keep_abundant,tidybulk: no visible binding for global variable
'.abundant'
pivot_sample,RangedSummarizedExperiment: no visible binding for global
variable '.'
pivot_sample,SummarizedExperiment: no visible binding for global
variable '.'
quantile_normalise_abundance,RangedSummarizedExperiment: no visible
binding for global variable 'x'
quantile_normalise_abundance,SummarizedExperiment: no visible binding
for global variable 'x'
quantile_normalise_abundance,spec_tbl_df: no visible binding for global
variable 'x'
quantile_normalise_abundance,tbl_df: no visible binding for global
variable 'x'
quantile_normalise_abundance,tidybulk: no visible binding for global
variable 'x'
resolve_complete_confounders_of_non_interest,RangedSummarizedExperiment:
no visible global function definition for 'DataFrame'
resolve_complete_confounders_of_non_interest,SummarizedExperiment: no
visible global function definition for 'DataFrame'
scale_abundance,RangedSummarizedExperiment: no visible binding for
global variable 'x'
scale_abundance,SummarizedExperiment: no visible binding for global
variable 'x'
scale_abundance,spec_tbl_df: no visible binding for global variable 'x'
scale_abundance,spec_tbl_df: no visible binding for global variable
'multiplier'
scale_abundance,tbl_df: no visible binding for global variable 'x'
scale_abundance,tbl_df: no visible binding for global variable
'multiplier'
scale_abundance,tidybulk: no visible binding for global variable 'x'
scale_abundance,tidybulk: no visible binding for global variable
'multiplier'
test_differential_cellularity,RangedSummarizedExperiment: no visible
binding for global variable 'X_cibersort'
test_differential_cellularity,RangedSummarizedExperiment: no visible
binding for global variable 'cell_type'
test_differential_cellularity,RangedSummarizedExperiment: no visible
binding for global variable 'prop'
test_differential_cellularity,RangedSummarizedExperiment: no visible
binding for global variable '.cell_type'
test_differential_cellularity,SummarizedExperiment: no visible binding
for global variable 'X_cibersort'
test_differential_cellularity,SummarizedExperiment: no visible binding
for global variable 'cell_type'
test_differential_cellularity,SummarizedExperiment: no visible binding
for global variable 'prop'
test_differential_cellularity,SummarizedExperiment: no visible binding
for global variable '.cell_type'
test_differential_cellularity,spec_tbl_df: no visible binding for
global variable 'X_cibersort'
test_differential_cellularity,tbl_df: no visible binding for global
variable 'X_cibersort'
test_differential_cellularity,tidybulk: no visible binding for global
variable 'X_cibersort'
test_gene_enrichment,RangedSummarizedExperiment: no visible global
function definition for 'buildCustomIdx'
test_gene_enrichment,RangedSummarizedExperiment: no visible global
function definition for 'buildIdx'
test_gene_enrichment,RangedSummarizedExperiment: no visible global
function definition for 'egsea'
test_gene_enrichment,RangedSummarizedExperiment: no visible binding for
global variable 'pathway'
test_gene_enrichment,RangedSummarizedExperiment: no visible binding for
global variable 'data_base'
test_gene_enrichment,RangedSummarizedExperiment: no visible binding for
global variable 'web_page'
test_gene_enrichment,SummarizedExperiment: no visible global function
definition for 'buildCustomIdx'
test_gene_enrichment,SummarizedExperiment: no visible global function
definition for 'buildIdx'
test_gene_enrichment,SummarizedExperiment: no visible global function
definition for 'egsea'
test_gene_enrichment,SummarizedExperiment: no visible binding for
global variable 'pathway'
test_gene_enrichment,SummarizedExperiment: no visible binding for
global variable 'data_base'
test_gene_enrichment,SummarizedExperiment: no visible binding for
global variable 'web_page'
test_gene_overrepresentation,RangedSummarizedExperiment: no visible
binding for global variable 'my_do_test'
test_gene_overrepresentation,SummarizedExperiment: no visible binding
for global variable 'my_do_test'
test_gene_overrepresentation,spec_tbl_df: no visible binding for global
variable 'my_do_test'
test_gene_overrepresentation,tbl_df: no visible binding for global
variable 'my_do_test'
test_gene_overrepresentation,tidybulk: no visible binding for global
variable 'my_do_test'
test_gene_rank,RangedSummarizedExperiment: no visible global function
definition for 'desc'
test_gene_rank,SummarizedExperiment: no visible global function
definition for 'desc'
test_gene_rank,spec_tbl_df: no visible global function definition for
'with_groups'
test_gene_rank,spec_tbl_df: no visible global function definition for
'desc'
test_gene_rank,tbl_df: no visible global function definition for
'with_groups'
test_gene_rank,tbl_df: no visible global function definition for 'desc'
test_gene_rank,tidybulk: no visible global function definition for
'with_groups'
test_gene_rank,tidybulk: no visible global function definition for
'desc'
test_stratification_cellularity,RangedSummarizedExperiment: no visible
binding for global variable 'X_cibersort'
test_stratification_cellularity,RangedSummarizedExperiment: no visible
binding for global variable '.cell_type'
test_stratification_cellularity,SummarizedExperiment: no visible
binding for global variable 'X_cibersort'
test_stratification_cellularity,SummarizedExperiment: no visible
binding for global variable '.cell_type'
test_stratification_cellularity,spec_tbl_df: no visible binding for
global variable 'X_cibersort'
test_stratification_cellularity,tbl_df: no visible binding for global
variable 'X_cibersort'
test_stratification_cellularity,tidybulk: no visible binding for global
variable 'X_cibersort'
Undefined global functions or variables:
(Intercept) . .abundance_scaled .abundant .cell_type .contrasts .data
.feature .proportion AIC CI Component Component value DataFrame EPIC
GeneID NUL Status X_cibersort Y abundance action add_count all_of
anova buildCustomIdx buildIdx cell_type cell_type_proportions cluster
cluster kmeans coef combn correlation counts cov_data ct_data
data_base desc description egsea element ends_with ensembl_id entrez
feature fit geneID genes group group_id group_name gs_collection
item1 library_size__ logLik lower m med multiplier my_do_test my_n n1
n2 n_aggr name ncbi_gene nf nulldist packageVersion parameter pathway
predict prop rc read count ref_genome rotated dimensions rowid sample
1 sample 2 sample a sample b sample_idx samples sdev se_data
seurat_clusters surv_test tagwise.dispersion temp term test tot
tot_filt transcript transcript_upper tt_columns update.formula upper
value variable vcov web_page where with_groups x
Consider adding
importFrom("base", "sample")
importFrom("stats", "AIC", "anova", "coef", "kmeans", "logLik",
"predict", "update.formula", "vcov")
importFrom("utils", "combn", "packageVersion")
to your NAMESPACE file.
* checking Rd files ... NOTE
checkRd: (-1) remove_redundancy-methods.Rd:158-175: Lost braces
158 | select_closest_pairs = function(df) {
| ^
checkRd: (-1) remove_redundancy-methods.Rd:161-171: Lost braces
161 | while (df |> nrow() > 0) {
| ^
checkRd: (-1) rotate_dimensions-methods.Rd:126-134: Lost braces
126 | rotation = function(m, d) {
| ^
checkRd: (-1) test_gene_overrepresentation-methods.Rd:114-116: Lost braces
114 | if (!is.null(gene_collections)) {
| ^
* checking Rd metadata ... OK
* checking Rd cross-references ... NOTE
Non-topic package-anchored link(s) in Rd file 'pipe.Rd':
'[magrittr:pipe]{%>%}'
See section 'Cross-references' in the 'Writing R Extensions' manual.
* checking for missing documentation entries ... OK
* checking for code/documentation mismatches ... OK
* checking Rd \usage sections ... OK
* checking Rd contents ... OK
* checking for unstated dependencies in examples ... OK
* checking contents of 'data' directory ... OK
* checking data for non-ASCII characters ... OK
* checking LazyData ... OK
* checking data for ASCII and uncompressed saves ... OK
* checking files in 'vignettes' ... OK
* checking examples ... OK
Examples with CPU (user + system) or elapsed time > 5s
user system elapsed
test_differential_abundance-methods 60.58 0.60 62.21
test_differential_cellularity-methods 14.03 0.17 14.23
test_stratification_cellularity-methods 8.36 0.11 8.47
deconvolve_cellularity-methods 5.72 0.05 5.91
* checking for unstated dependencies in 'tests' ... OK
* checking tests ...
Running 'testthat.R'
OK
* checking for unstated dependencies in vignettes ... OK
* checking package vignettes ... OK
* checking running R code from vignettes ... SKIPPED
* checking re-building of vignette outputs ... SKIPPED
* checking PDF version of manual ... OK
* DONE
Status: 3 NOTEs
See
'E:/biocbuild/bbs-3.21-bioc/meat/tidybulk.Rcheck/00check.log'
for details.
tidybulk.Rcheck/00install.out
############################################################################## ############################################################################## ### ### Running command: ### ### E:\biocbuild\bbs-3.21-bioc\R\bin\R.exe CMD INSTALL tidybulk ### ############################################################################## ############################################################################## * installing to library 'E:/biocbuild/bbs-3.21-bioc/R/library' * installing *source* package 'tidybulk' ... ** this is package 'tidybulk' version '1.20.0' ** using staged installation ** R ** data *** moving datasets to lazyload DB ** inst ** byte-compile and prepare package for lazy loading Note: wrong number of arguments to 'expm1' Note: wrong number of arguments to 'expm1' Note: wrong number of arguments to 'expm1' Note: wrong number of arguments to 'expm1' Note: wrong number of arguments to 'expm1' Note: wrong number of arguments to 'expm1' Note: wrong number of arguments to 'expm1' Note: wrong number of arguments to 'floor' Note: wrong number of arguments to 'floor' ** help *** installing help indices *** copying figures ** building package indices ** installing vignettes ** testing if installed package can be loaded from temporary location ** testing if installed package can be loaded from final location ** testing if installed package keeps a record of temporary installation path * DONE (tidybulk)
tidybulk.Rcheck/tests/testthat.Rout
R version 4.5.1 (2025-06-13 ucrt) -- "Great Square Root"
Copyright (C) 2025 The R Foundation for Statistical Computing
Platform: x86_64-w64-mingw32/x64
R is free software and comes with ABSOLUTELY NO WARRANTY.
You are welcome to redistribute it under certain conditions.
Type 'license()' or 'licence()' for distribution details.
R is a collaborative project with many contributors.
Type 'contributors()' for more information and
'citation()' on how to cite R or R packages in publications.
Type 'demo()' for some demos, 'help()' for on-line help, or
'help.start()' for an HTML browser interface to help.
Type 'q()' to quit R.
> library(testthat)
> library(tidybulk)
Loading required package: ttservice
========================================
tidybulk version 1.20.0
If you use TIDYBULK in published research, please cite:
Mangiola et al. tidybulk: an R tidy framework for modular
transcriptomic data analysis. Genome Biology 2021.
This message can be suppressed by:
suppressPackageStartupMessages(library(tidybulk))
========================================
Attaching package: 'tidybulk'
The following object is masked from 'package:stats':
filter
>
> test_check("tidybulk")
Coefficients not estimable: conditionTRUE
Coefficients not estimable: conditionTRUE
Time difference of 4.598501 secs
Time difference of 4.575509 secs
Found 2 batches
Using null model in ComBat-seq.
Adjusting for 1 covariate(s) or covariate level(s)
Estimating dispersions
Fitting the GLM model
Apply shrinkage - computing posterior estimates for parameters
Using 100 random genes for Monte Carlo integration
Adjusting the data
Found 2 batches
Using null model in ComBat-seq.
Adjusting for 1 covariate(s) or covariate level(s)
Estimating dispersions
Fitting the GLM model
Apply shrinkage - computing posterior estimates for parameters
Using 100 random genes for Monte Carlo integration
Adjusting the data
Found 2 batches
Using null model in ComBat-seq.
Adjusting for 1 covariate(s) or covariate level(s)
Estimating dispersions
Fitting the GLM model
Apply shrinkage - computing posterior estimates for parameters
Using 100 random genes for Monte Carlo integration
Adjusting the data
Time difference of 13.93022 secs
Time difference of 13.23909 secs
Performing PCA
Read the 251 x 50 data matrix successfully!
OpenMP is working. 1 threads.
Using no_dims = 2, perplexity = 30.000000, and theta = 0.500000
Computing input similarities...
Building tree...
Done in 0.05 seconds (sparsity = 0.490437)!
Learning embedding...
Iteration 50: error is 56.558649 (50 iterations in 0.03 seconds)
Iteration 100: error is 55.943512 (50 iterations in 0.05 seconds)
Iteration 150: error is 57.619863 (50 iterations in 0.06 seconds)
Iteration 200: error is 56.710772 (50 iterations in 0.05 seconds)
Iteration 250: error is 58.434062 (50 iterations in 0.05 seconds)
Iteration 300: error is 0.909065 (50 iterations in 0.04 seconds)
Iteration 350: error is 0.835217 (50 iterations in 0.04 seconds)
Iteration 400: error is 0.800627 (50 iterations in 0.04 seconds)
Iteration 450: error is 0.781083 (50 iterations in 0.04 seconds)
Iteration 500: error is 0.778226 (50 iterations in 0.04 seconds)
Iteration 550: error is 0.777989 (50 iterations in 0.04 seconds)
Iteration 600: error is 0.777685 (50 iterations in 0.04 seconds)
Iteration 650: error is 0.778072 (50 iterations in 0.04 seconds)
Iteration 700: error is 0.778184 (50 iterations in 0.04 seconds)
Iteration 750: error is 0.778356 (50 iterations in 0.04 seconds)
Iteration 800: error is 0.762303 (50 iterations in 0.03 seconds)
Iteration 850: error is 0.760559 (50 iterations in 0.03 seconds)
Iteration 900: error is 0.759205 (50 iterations in 0.04 seconds)
Iteration 950: error is 0.759951 (50 iterations in 0.03 seconds)
Iteration 1000: error is 0.755904 (50 iterations in 0.03 seconds)
Fitting performed in 0.77 seconds.
[ FAIL 0 | WARN 49 | SKIP 3 | PASS 227 ]
══ Skipped tests (3) ═══════════════════════════════════════════════════════════
• empty test (3): 'test-bulk_methods.R:1064:1',
'test-tximeta_GRnges_IRanges.R:3:1', 'test-tximeta_GRnges_IRanges.R:19:1'
[ FAIL 0 | WARN 49 | SKIP 3 | PASS 227 ]
>
> proc.time()
user system elapsed
339.50 10.48 359.26
tidybulk.Rcheck/tidybulk-Ex.timings
| name | user | system | elapsed | |
| adjust_abundance-methods | 4.31 | 0.20 | 4.57 | |
| aggregate_duplicates-methods | 0.10 | 0.00 | 0.11 | |
| arrange-methods | 0.02 | 0.00 | 0.02 | |
| as_matrix | 0.01 | 0.00 | 0.01 | |
| bind_rows | 0.35 | 0.05 | 0.39 | |
| cluster_elements-methods | 0.04 | 0.03 | 0.08 | |
| deconvolve_cellularity-methods | 5.72 | 0.05 | 5.91 | |
| describe_transcript-methods | 1.52 | 0.18 | 2.40 | |
| distinct-methods | 0.12 | 0.00 | 0.13 | |
| dplyr-methods | 0.25 | 0.00 | 0.25 | |
| ensembl_to_symbol-methods | 0.74 | 0.04 | 0.76 | |
| fill_missing_abundance-methods | 0 | 0 | 0 | |
| filter-methods | 0.29 | 0.01 | 0.32 | |
| get_bibliography-methods | 0 | 0 | 0 | |
| group_by-methods | 0 | 0 | 0 | |
| identify_abundant-methods | 0.07 | 0.00 | 0.06 | |
| impute_missing_abundance-methods | 0.07 | 0.00 | 0.08 | |
| join-methods | 0.68 | 0.06 | 0.73 | |
| keep_abundant-methods | 0.12 | 0.02 | 0.14 | |
| keep_variable-methods | 0.03 | 0.00 | 0.03 | |
| log10_reverse_trans | 0.17 | 0.02 | 0.19 | |
| logit_trans | 0.12 | 0.00 | 0.12 | |
| mutate-methods | 0.08 | 0.00 | 0.08 | |
| nest-methods | 0.46 | 0.00 | 0.45 | |
| pivot_sample-methods | 0.04 | 0.00 | 0.05 | |
| pivot_transcript-methods | 0.02 | 0.00 | 0.02 | |
| quantile_normalise_abundance-methods | 0.03 | 0.00 | 0.03 | |
| reduce_dimensions-methods | 0.30 | 0.01 | 0.32 | |
| remove_redundancy-methods | 0.47 | 0.06 | 1.41 | |
| rename-methods | 0.04 | 0.00 | 0.04 | |
| resolve_complete_confounders_of_non_interest | 0.55 | 0.10 | 0.64 | |
| rotate_dimensions-methods | 0.23 | 0.00 | 0.24 | |
| rowwise-methods | 0.02 | 0.00 | 0.01 | |
| scale_abundance-methods | 0.11 | 0.00 | 0.11 | |
| summarise-methods | 0 | 0 | 0 | |
| symbol_to_entrez | 0.59 | 0.01 | 0.61 | |
| test_differential_abundance-methods | 60.58 | 0.60 | 62.21 | |
| test_differential_cellularity-methods | 14.03 | 0.17 | 14.23 | |
| test_gene_enrichment-methods | 0 | 0 | 0 | |
| test_gene_overrepresentation-methods | 0 | 0 | 0 | |
| test_gene_rank-methods | 0 | 0 | 0 | |
| test_stratification_cellularity-methods | 8.36 | 0.11 | 8.47 | |
| tidybulk-methods | 0.13 | 0.00 | 0.12 | |