| Back to Multiple platform build/check report for BioC 3.21: simplified long |
|
This page was generated on 2025-10-16 11:39 -0400 (Thu, 16 Oct 2025).
| Hostname | OS | Arch (*) | R version | Installed pkgs |
|---|---|---|---|---|
| nebbiolo1 | Linux (Ubuntu 24.04.3 LTS) | x86_64 | 4.5.1 (2025-06-13) -- "Great Square Root" | 4833 |
| merida1 | macOS 12.7.6 Monterey | x86_64 | 4.5.1 RC (2025-06-05 r88288) -- "Great Square Root" | 4614 |
| kjohnson1 | macOS 13.7.5 Ventura | arm64 | 4.5.1 Patched (2025-06-14 r88325) -- "Great Square Root" | 4555 |
| kunpeng2 | Linux (openEuler 24.03 LTS) | aarch64 | R Under development (unstable) (2025-02-19 r87757) -- "Unsuffered Consequences" | 4586 |
| Click on any hostname to see more info about the system (e.g. compilers) (*) as reported by 'uname -p', except on Windows and Mac OS X | ||||
| Package 2192/2341 | Hostname | OS / Arch | INSTALL | BUILD | CHECK | BUILD BIN | ||||||||
| tidySummarizedExperiment 1.18.1 (landing page) Stefano Mangiola
| nebbiolo1 | Linux (Ubuntu 24.04.3 LTS) / x86_64 | OK | OK | OK | |||||||||
| merida1 | macOS 12.7.6 Monterey / x86_64 | OK | OK | OK | OK | |||||||||
| kjohnson1 | macOS 13.7.5 Ventura / arm64 | OK | OK | OK | OK | |||||||||
| kunpeng2 | Linux (openEuler 24.03 LTS) / aarch64 | OK | OK | NA | ||||||||||
|
To the developers/maintainers of the tidySummarizedExperiment package: - Allow up to 24 hours (and sometimes 48 hours) for your latest push to git@git.bioconductor.org:packages/tidySummarizedExperiment.git to reflect on this report. See Troubleshooting Build Report for more information. - Use the following Renviron settings to reproduce errors and warnings. - If 'R CMD check' started to fail recently on the Linux builder(s) over a missing dependency, add the missing dependency to 'Suggests:' in your DESCRIPTION file. See Renviron.bioc for more information. |
| Package: tidySummarizedExperiment |
| Version: 1.18.1 |
| Command: /Library/Frameworks/R.framework/Resources/bin/R CMD check --install=check:tidySummarizedExperiment.install-out.txt --library=/Library/Frameworks/R.framework/Resources/library --no-vignettes --timings tidySummarizedExperiment_1.18.1.tar.gz |
| StartedAt: 2025-10-14 11:38:17 -0400 (Tue, 14 Oct 2025) |
| EndedAt: 2025-10-14 11:47:45 -0400 (Tue, 14 Oct 2025) |
| EllapsedTime: 567.7 seconds |
| RetCode: 0 |
| Status: OK |
| CheckDir: tidySummarizedExperiment.Rcheck |
| Warnings: 0 |
##############################################################################
##############################################################################
###
### Running command:
###
### /Library/Frameworks/R.framework/Resources/bin/R CMD check --install=check:tidySummarizedExperiment.install-out.txt --library=/Library/Frameworks/R.framework/Resources/library --no-vignettes --timings tidySummarizedExperiment_1.18.1.tar.gz
###
##############################################################################
##############################################################################
* using log directory ‘/Users/biocbuild/bbs-3.21-bioc/meat/tidySummarizedExperiment.Rcheck’
* using R version 4.5.1 RC (2025-06-05 r88288)
* using platform: x86_64-apple-darwin20
* R was compiled by
Apple clang version 14.0.0 (clang-1400.0.29.202)
GNU Fortran (GCC) 14.2.0
* running under: macOS Monterey 12.7.6
* using session charset: UTF-8
* using option ‘--no-vignettes’
* checking for file ‘tidySummarizedExperiment/DESCRIPTION’ ... OK
* checking extension type ... Package
* this is package ‘tidySummarizedExperiment’ version ‘1.18.1’
* package encoding: UTF-8
* checking package namespace information ... OK
* checking package dependencies ... OK
* checking if this is a source package ... OK
* checking if there is a namespace ... OK
* checking for hidden files and directories ... OK
* checking for portable file names ... OK
* checking for sufficient/correct file permissions ... OK
* checking whether package ‘tidySummarizedExperiment’ can be installed ... OK
* checking installed package size ... OK
* checking package directory ... OK
* checking ‘build’ directory ... OK
* checking DESCRIPTION meta-information ... OK
* checking top-level files ... OK
* checking for left-over files ... OK
* checking index information ... OK
* checking package subdirectories ... OK
* checking code files for non-ASCII characters ... OK
* checking R files for syntax errors ... OK
* checking whether the package can be loaded ... OK
* checking whether the package can be loaded with stated dependencies ... OK
* checking whether the package can be unloaded cleanly ... OK
* checking whether the namespace can be loaded with stated dependencies ... OK
* checking whether the namespace can be unloaded cleanly ... OK
* checking whether startup messages can be suppressed ... OK
* checking dependencies in R code ... OK
* checking S3 generic/method consistency ... OK
* checking replacement functions ... OK
* checking foreign function calls ... OK
* checking R code for possible problems ... NOTE
bind_cols_internal: no visible global function definition for ‘all_of’
nest.SummarizedExperiment: no visible global function definition for
‘all_of’
select.SummarizedExperiment: no visible global function definition for
‘any_of’
subset_tibble_output: no visible binding for global variable ‘.’
unnest_summarized_experiment: no visible global function definition for
‘any_of’
unnest_summarized_experiment: no visible binding for global variable
‘i___’
update_SE_from_tibble: no visible binding for global variable ‘value’
update_SE_from_tibble: no visible binding for global variable ‘data___’
update_SE_from_tibble: no visible binding for global variable ‘name’
Undefined global functions or variables:
. all_of any_of data___ i___ name value
* checking Rd files ... OK
* checking Rd metadata ... OK
* checking Rd cross-references ... NOTE
Non-topic package-anchored link(s) in Rd file 'pipe.Rd':
‘[magrittr:pipe]{%>%}’
See section 'Cross-references' in the 'Writing R Extensions' manual.
Found the following Rd file(s) with Rd \link{} targets missing package
anchors:
formatting.Rd: tbl_format_setup
Please provide package anchors for all Rd \link{} targets not in the
package itself and the base packages.
* checking for missing documentation entries ... OK
* checking for code/documentation mismatches ... OK
* checking Rd \usage sections ... OK
* checking Rd contents ... OK
* checking for unstated dependencies in examples ... OK
* checking contents of ‘data’ directory ... OK
* checking data for non-ASCII characters ... OK
* checking LazyData ... OK
* checking data for ASCII and uncompressed saves ... OK
* checking files in ‘vignettes’ ... OK
* checking examples ... OK
Examples with CPU (user + system) or elapsed time > 5s
user system elapsed
group_split 16.236 0.202 16.889
bind_rows 12.262 0.292 12.710
unnest 8.799 0.185 9.681
* checking for unstated dependencies in ‘tests’ ... OK
* checking tests ...
Running ‘testthat.R’
OK
* checking for unstated dependencies in vignettes ... OK
* checking package vignettes ... OK
* checking running R code from vignettes ... SKIPPED
* checking re-building of vignette outputs ... SKIPPED
* checking PDF version of manual ... OK
* DONE
Status: 2 NOTEs
See
‘/Users/biocbuild/bbs-3.21-bioc/meat/tidySummarizedExperiment.Rcheck/00check.log’
for details.
tidySummarizedExperiment.Rcheck/00install.out
############################################################################## ############################################################################## ### ### Running command: ### ### /Library/Frameworks/R.framework/Resources/bin/R CMD INSTALL tidySummarizedExperiment ### ############################################################################## ############################################################################## * installing to library ‘/Library/Frameworks/R.framework/Versions/4.5-x86_64/Resources/library’ * installing *source* package ‘tidySummarizedExperiment’ ... ** this is package ‘tidySummarizedExperiment’ version ‘1.18.1’ ** using staged installation ** R ** data *** moving datasets to lazyload DB ** inst ** byte-compile and prepare package for lazy loading Note: wrong number of arguments to '>' ** help *** installing help indices *** copying figures ** building package indices ** installing vignettes ** testing if installed package can be loaded from temporary location ** testing if installed package can be loaded from final location ** testing if installed package keeps a record of temporary installation path * DONE (tidySummarizedExperiment)
tidySummarizedExperiment.Rcheck/tests/testthat.Rout
R version 4.5.1 RC (2025-06-05 r88288) -- "Great Square Root"
Copyright (C) 2025 The R Foundation for Statistical Computing
Platform: x86_64-apple-darwin20
R is free software and comes with ABSOLUTELY NO WARRANTY.
You are welcome to redistribute it under certain conditions.
Type 'license()' or 'licence()' for distribution details.
R is a collaborative project with many contributors.
Type 'contributors()' for more information and
'citation()' on how to cite R or R packages in publications.
Type 'demo()' for some demos, 'help()' for on-line help, or
'help.start()' for an HTML browser interface to help.
Type 'q()' to quit R.
> library(testthat)
> library(tidySummarizedExperiment)
Loading required package: SummarizedExperiment
Loading required package: MatrixGenerics
Loading required package: matrixStats
Attaching package: 'MatrixGenerics'
The following objects are masked from 'package:matrixStats':
colAlls, colAnyNAs, colAnys, colAvgsPerRowSet, colCollapse,
colCounts, colCummaxs, colCummins, colCumprods, colCumsums,
colDiffs, colIQRDiffs, colIQRs, colLogSumExps, colMadDiffs,
colMads, colMaxs, colMeans2, colMedians, colMins, colOrderStats,
colProds, colQuantiles, colRanges, colRanks, colSdDiffs, colSds,
colSums2, colTabulates, colVarDiffs, colVars, colWeightedMads,
colWeightedMeans, colWeightedMedians, colWeightedSds,
colWeightedVars, rowAlls, rowAnyNAs, rowAnys, rowAvgsPerColSet,
rowCollapse, rowCounts, rowCummaxs, rowCummins, rowCumprods,
rowCumsums, rowDiffs, rowIQRDiffs, rowIQRs, rowLogSumExps,
rowMadDiffs, rowMads, rowMaxs, rowMeans2, rowMedians, rowMins,
rowOrderStats, rowProds, rowQuantiles, rowRanges, rowRanks,
rowSdDiffs, rowSds, rowSums2, rowTabulates, rowVarDiffs, rowVars,
rowWeightedMads, rowWeightedMeans, rowWeightedMedians,
rowWeightedSds, rowWeightedVars
Loading required package: GenomicRanges
Loading required package: stats4
Loading required package: BiocGenerics
Loading required package: generics
Attaching package: 'generics'
The following objects are masked from 'package:base':
as.difftime, as.factor, as.ordered, intersect, is.element, setdiff,
setequal, union
Attaching package: 'BiocGenerics'
The following objects are masked from 'package:stats':
IQR, mad, sd, var, xtabs
The following objects are masked from 'package:base':
Filter, Find, Map, Position, Reduce, anyDuplicated, aperm, append,
as.data.frame, basename, cbind, colnames, dirname, do.call,
duplicated, eval, evalq, get, grep, grepl, is.unsorted, lapply,
mapply, match, mget, order, paste, pmax, pmax.int, pmin, pmin.int,
rank, rbind, rownames, sapply, saveRDS, table, tapply, unique,
unsplit, which.max, which.min
Loading required package: S4Vectors
Attaching package: 'S4Vectors'
The following object is masked from 'package:utils':
findMatches
The following objects are masked from 'package:base':
I, expand.grid, unname
Loading required package: IRanges
Loading required package: GenomeInfoDb
Loading required package: Biobase
Welcome to Bioconductor
Vignettes contain introductory material; view with
'browseVignettes()'. To cite Bioconductor, see
'citation("Biobase")', and for packages 'citation("pkgname")'.
Attaching package: 'Biobase'
The following object is masked from 'package:MatrixGenerics':
rowMedians
The following objects are masked from 'package:matrixStats':
anyMissing, rowMedians
Loading required package: ttservice
Attaching package: 'tidySummarizedExperiment'
The following object is masked from 'package:generics':
tidy
>
> test_check("tidySummarizedExperiment")
[ FAIL 0 | WARN 13 | SKIP 4 | PASS 244 ]
══ Skipped tests (4) ═══════════════════════════════════════════════════════════
• empty test (4): 'test-felix.R:64:1', 'test-tidyr_methods.R:62:1',
'test-tidyr_methods.R:71:1', 'test-tidyr_methods.R:122:1'
[ FAIL 0 | WARN 13 | SKIP 4 | PASS 244 ]
>
> proc.time()
user system elapsed
118.001 3.368 125.669
tidySummarizedExperiment.Rcheck/tidySummarizedExperiment-Ex.timings
| name | user | system | elapsed | |
| as_tibble | 1.346 | 0.024 | 1.375 | |
| bind_rows | 12.262 | 0.292 | 12.710 | |
| count | 0.511 | 0.009 | 0.563 | |
| distinct | 0.342 | 0.007 | 0.349 | |
| extract | 0.643 | 0.006 | 0.695 | |
| filter | 1.219 | 0.038 | 1.458 | |
| formatting | 0.423 | 0.008 | 0.434 | |
| full_join | 0.553 | 0.012 | 0.568 | |
| ggplot | 2.179 | 0.068 | 2.265 | |
| group_by | 0.308 | 0.013 | 0.323 | |
| group_split | 16.236 | 0.202 | 16.889 | |
| inner_join | 0.811 | 0.008 | 0.821 | |
| left_join | 0.801 | 0.019 | 0.823 | |
| mutate | 1.371 | 0.028 | 1.470 | |
| nest | 1.334 | 0.034 | 1.388 | |
| pipe | 0.019 | 0.001 | 0.021 | |
| pivot_longer | 0.293 | 0.012 | 0.306 | |
| pivot_wider | 1.179 | 0.005 | 1.190 | |
| plot_ly | 1.384 | 0.150 | 1.570 | |
| pull | 1.065 | 1.815 | 2.987 | |
| rename | 0.642 | 0.019 | 0.683 | |
| right_join | 0.811 | 0.008 | 0.929 | |
| rowwise | 0.000 | 0.000 | 0.001 | |
| sample_n | 0.572 | 0.017 | 0.652 | |
| select | 0.689 | 0.008 | 0.784 | |
| separate | 1.351 | 0.018 | 1.483 | |
| slice | 1.346 | 0.013 | 1.410 | |
| summarise | 0.274 | 0.009 | 0.284 | |
| tbl_format_header | 0.000 | 0.000 | 0.001 | |
| tidy | 0.485 | 0.010 | 0.528 | |
| unite | 0.844 | 0.007 | 0.898 | |
| unnest | 8.799 | 0.185 | 9.681 | |